BEGIN:VCALENDAR
VERSION:2.0
PRODID:-//Things To Lou - ECPv6.15.20//NONSGML v1.0//EN
CALSCALE:GREGORIAN
METHOD:PUBLISH
X-ORIGINAL-URL:https://things-to-lou.com
X-WR-CALDESC:Events for Things To Lou
REFRESH-INTERVAL;VALUE=DURATION:PT1H
X-Robots-Tag:noindex
X-PUBLISHED-TTL:PT1H
BEGIN:VTIMEZONE
TZID:America/New_York
BEGIN:DAYLIGHT
TZOFFSETFROM:-0500
TZOFFSETTO:-0400
TZNAME:EDT
DTSTART:20250309T070000
END:DAYLIGHT
BEGIN:STANDARD
TZOFFSETFROM:-0400
TZOFFSETTO:-0500
TZNAME:EST
DTSTART:20251102T060000
END:STANDARD
BEGIN:DAYLIGHT
TZOFFSETFROM:-0500
TZOFFSETTO:-0400
TZNAME:EDT
DTSTART:20260308T070000
END:DAYLIGHT
BEGIN:STANDARD
TZOFFSETFROM:-0400
TZOFFSETTO:-0500
TZNAME:EST
DTSTART:20261101T060000
END:STANDARD
BEGIN:DAYLIGHT
TZOFFSETFROM:-0500
TZOFFSETTO:-0400
TZNAME:EDT
DTSTART:20270314T070000
END:DAYLIGHT
BEGIN:STANDARD
TZOFFSETFROM:-0400
TZOFFSETTO:-0500
TZNAME:EST
DTSTART:20271107T060000
END:STANDARD
END:VTIMEZONE
BEGIN:VEVENT
DTSTART;TZID=America/New_York:20260109T190000
DTEND;TZID=America/New_York:20260109T200000
DTSTAMP:20260419T181107
CREATED:20260105T075837Z
LAST-MODIFIED:20260105T075837Z
UID:10003782-1767985200-1767988800@things-to-lou.com
SUMMARY:Josh Farley Presents: Magic Across America
DESCRIPTION:Award-winning illusionist Josh Farley is bringing his fast-paced\, laugh-out-loud\, and mind-blowing magic show to all 50 states – one unforgettable week at a time. This is a rare chance to catch a tour that’s literally only happening once. \nAs seen on Penn & Teller: Fool Us\, Masters of Illusion Live!\, and Celebrities of Magic\, Josh’s show blends impossible illusions\, sharp comedy\, and nonstop audience interaction into an experience that feels personal\, surprising\, and wildly fun. \nBe part of the journey. Be part of the story. \nThis is Magic Across America – – – and it’s happening here! \n***description from eventbrite
URL:https://things-to-lou.com/events/josh-farley-presents-magic-across-america/
LOCATION:J & B Magic Shop and Theater\, 610 East Spring Street\, New Albany\, IN\, 47150\, United States
CATEGORIES:Entertainment,Family & Children
END:VEVENT
END:VCALENDAR