BEGIN:VCALENDAR
VERSION:2.0
PRODID:-//Things To Lou - ECPv6.15.20//NONSGML v1.0//EN
CALSCALE:GREGORIAN
METHOD:PUBLISH
X-WR-CALNAME:Things To Lou
X-ORIGINAL-URL:https://things-to-lou.com
X-WR-CALDESC:Events for Things To Lou
REFRESH-INTERVAL;VALUE=DURATION:PT1H
X-Robots-Tag:noindex
X-PUBLISHED-TTL:PT1H
BEGIN:VTIMEZONE
TZID:America/New_York
BEGIN:DAYLIGHT
TZOFFSETFROM:-0500
TZOFFSETTO:-0400
TZNAME:EDT
DTSTART:20250309T070000
END:DAYLIGHT
BEGIN:STANDARD
TZOFFSETFROM:-0400
TZOFFSETTO:-0500
TZNAME:EST
DTSTART:20251102T060000
END:STANDARD
BEGIN:DAYLIGHT
TZOFFSETFROM:-0500
TZOFFSETTO:-0400
TZNAME:EDT
DTSTART:20260308T070000
END:DAYLIGHT
BEGIN:STANDARD
TZOFFSETFROM:-0400
TZOFFSETTO:-0500
TZNAME:EST
DTSTART:20261101T060000
END:STANDARD
BEGIN:DAYLIGHT
TZOFFSETFROM:-0500
TZOFFSETTO:-0400
TZNAME:EDT
DTSTART:20270314T070000
END:DAYLIGHT
BEGIN:STANDARD
TZOFFSETFROM:-0400
TZOFFSETTO:-0500
TZNAME:EST
DTSTART:20271107T060000
END:STANDARD
END:VTIMEZONE
BEGIN:VEVENT
DTSTART;TZID=America/New_York:20260110T090000
DTEND;TZID=America/New_York:20260110T100000
DTSTAMP:20260423T164340
CREATED:20251201T190153Z
LAST-MODIFIED:20251201T190153Z
UID:10003248-1768035600-1768039200@things-to-lou.com
SUMMARY:The Sprinkle Studio- Snow Days and Sunshine (Ages 5-7)
DESCRIPTION:Event Name:\nThe Sprinkle Studio- Snow Days and Sunshine (Ages 5-7) \nEvent Date:\n2026-01-10 \nWebsite / Ticket Link:\nhttps://www.eventbrite.com/o/megs-magical-morsels-114337985281 \nLocation:\nThe Buechel Train Depot- 2230 Buechel Ave Louisville\, KY 40218 \nEvent Host:\nMeg’s Magical Morsels \nEvent Description / Other Info:\nThe Sprinkle Studio- Snow Days and Sunshine (Ages 5-7)- Snow\, sunshine & 4 themed cupcakes! Kids 5–7 join a decorating adventure where the fun is in the process. \nWHO:\nKids ages 5 -7 who love creativity\, sprinkles\, and a little frosting-fueled fun — plus the parent or guardian who stays on-site during class. \nNot sure which class is the best fit for your child? Or have kids of different ages? Reach out to us at (502) 974-5930 — we’re happy to help you choose the perfect class! \nWHAT:\nA kids’ cupcake decorating “class” \nWe focus on the process\, not perfection — kids are encouraged to explore\, play\, celebrate their successes\, and embrace their “mistakes.” \nAll supplies are safe to snack on\, and each child will leave with to four themed cupcakes (assuming snacking didn’t take over). \nWHEN:\nSaturday\, January 10th from 9:00 AM – 10:00 AM \nWHERE:\nThe Beuchel Train Depot at 2230 Beuchel Avenue \nWHY:\nBecause cupcake decorating should be fun\, messy\, joyful\, and stress-free. Our goal is to create a space where kids can learn through play\, explore their creativity\, and enjoy an uplifting experience. \nHOW:\nChoose your preferred class and register through Eventbrite. Please select one child’s ticket for each child attending. \nEach child must be accompanied by an adult\, but one adult can chaperone multiple children—just select one free adult ticket per group. \nWe’ll provide four cupcakes\, the frosting\, the tools\, and the instruction. Their will also be beverages available for purchase from Fuel and Flow. \nNeed Gluten-Friendly ingredients? Select the Gluten-Friendly Ingredient Add-On (for free) when purchasing your tickets.
URL:https://things-to-lou.com/events/the-sprinkle-studio-snow-days-and-sunshine-ages-5-7/
LOCATION:The Train Depot @ Buechel Train Depot\, 2230 Buechel Ave\, Louisville\, KY\, 40218\, United States
CATEGORIES:Family & Children,Food & Drink,Workshop
ATTACH;FMTTYPE=image/png:https://things-to-lou.com/wp-content/uploads/2025/12/megs-magical-morsels-the-sprinkle-studio-e1764615987903.png
END:VEVENT
BEGIN:VEVENT
DTSTART;TZID=America/New_York:20260110T100000
DTEND;TZID=America/New_York:20260110T150000
DTSTAMP:20260423T164340
CREATED:20260108T162045Z
LAST-MODIFIED:20260108T162211Z
UID:10003832-1768039200-1768057200@things-to-lou.com
SUMMARY:MakerPlace Workshop: DIY Kalimba
DESCRIPTION:The kalimba is a beautiful instrument that originates from Africa\, often called a thumb piano. Consisting of metal tines mounted on a wooden board\, which produce melodic\, high-pitched tones when plucked. \nIn this workshop\, craft\, assemble\, and tune your very own kalimba! In this hands-on experience\, you’ll bring your instrument to life. Whether you’re a music lover or a DIY enthusiast\, discover the joy of creating an instrument that produces beautiful\, soothing melodies. Let’s make\, play\, and enjoy the magic of sound! \n\nSaturday\, January 10\, 10AM-12PM\nSaturday\, January 10\, 1-3PM\n\n$20 members/$35 non-member \nMakerPlace Workshops include general admission to Kentucky Science Center. \nOpen to ages 8+.  \nPlease note that one adult is required to attend the workshop for every two children.
URL:https://things-to-lou.com/events/makerplace-workshop-diy-kalimba/
LOCATION:Kentucky Science Center\, 727 W Main Street\, Louisville\, KY\, 40202\, United States
CATEGORIES:Educational,Family & Children
END:VEVENT
BEGIN:VEVENT
DTSTART;TZID=America/New_York:20260110T110000
DTEND;TZID=America/New_York:20260110T120000
DTSTAMP:20260423T164340
CREATED:20251201T191242Z
LAST-MODIFIED:20251201T191242Z
UID:10003251-1768042800-1768046400@things-to-lou.com
SUMMARY:The Sprinkle Studio- Snow Days and Sunshine (Ages 7-11)
DESCRIPTION:Event Name:\nThe Sprinkle Studio- Snow Days and Sunshine (Ages 7-11) \nEvent Date:\n2026-01-10 \nWebsite / Ticket Link:\nhttps://www.eventbrite.com/o/megs-magical-morsels-114337985281 \nLocation:\nThe Buechel Train Depot- 2230 Buechel Ave Louisville\, KY 40218 \nEvent Host:\nMeg’s Magical Morsels \nEvent Description / Other Info:\nThe Sprinkle Studio- Snow Days and Sunshine (Ages 7-11)- Snow\, sunshine & 4 themed cupcakes! Kids 7-11 join a decorating adventure where the fun is in the process. \nWHO:\nKids ages 7-11 who love creativity\, sprinkles\, and a little frosting-fueled fun — plus the parent or guardian who stays on-site during class. \nNot sure which class is the best fit for your child? Or have kids of different ages? Reach out to us at (502) 974-5930 — we’re happy to help you choose the perfect class! \nWHAT:\nA kids’ cupcake decorating “class” \nWe focus on the process\, not perfection — kids are encouraged to explore\, play\, celebrate their successes\, and embrace their “mistakes.” \nAll supplies are safe to snack on\, and each child will leave with to four themed cupcakes (assuming snacking didn’t take over). \nWHEN:\nSaturday\, January 10th from 11:00 AM – 12:00 PM \nWHERE:\nThe Beuchel Train Depot at 2230 Beuchel Avenue \nWHY:\nBecause cupcake decorating should be fun\, messy\, joyful\, and stress-free. \nOur goal is to create a space where kids can learn through play\, explore their creativity\, and enjoy an uplifting experience. \nHOW:\nChoose your preferred class and register through Eventbrite. Please select one child’s ticket for each child attending. Each child must be accompanied by an adult\, but one adult can chaperone multiple children—just select one free adult ticket per group. \nWe’ll provide four cupcakes\, the frosting\, the tools\, and the instruction. Their will also be beverages available for purchase from Fuel and Flow. \nNeed Gluten-Friendly ingredients? Select the Gluten-Friendly Ingredient Add-On (for free) when purchasing your tickets.
URL:https://things-to-lou.com/events/the-sprinkle-studio-snow-days-and-sunshine-ages-7-11/
LOCATION:The Train Depot @ Buechel Train Depot\, 2230 Buechel Ave\, Louisville\, KY\, 40218\, United States
CATEGORIES:Family & Children,Food & Drink,Workshop
ATTACH;FMTTYPE=image/png:https://things-to-lou.com/wp-content/uploads/2025/12/megs-magical-morsels-the-sprinkle-studio-e1764615987903.png
END:VEVENT
BEGIN:VEVENT
DTSTART;TZID=America/New_York:20260110T110000
DTEND;TZID=America/New_York:20260110T120000
DTSTAMP:20260423T164340
CREATED:20260108T170624Z
LAST-MODIFIED:20260108T170624Z
UID:10003848-1768042800-1768046400@things-to-lou.com
SUMMARY:Saturday Storytime with MacKenzie Haley
DESCRIPTION:Carmichael’s is excited to host MacKenzie Haley for a special story time! \nAbout Dolly Parton’s Billy the Kid Dances His Heart Out:\nOur favorite French bulldog\, Billy the Kid\, is back! Featuring an original song by Dolly Parton\, the third book in her New York Times bestselling series follows Billy as he ruffs it out on the dance floor…and falls for his cute dance teacher. \nBilly the Kid has done it all. He’s moved to Nashville\, he’s formed a band\, and he’s rocked from coast to coast. But there’s one thing Billy hasn’t done…dance on stage. Dancing makes him nervous. And dancing in front of an audience? No way. \nThat all changes when Billy and his band nab an exciting gig as the opening act for Dolly Parton’s Doggy Dance Pawty. \nNow\, Billy is roping his friends into dance lessons. On the first day\, he watches dogs whirl and twirl. But one dancer stands out: his dance teacher\, Bella\, who is as graceful as she is beautiful\, with her auburn curls and a voice as sweet as pie. \nSoon\, Billy is trying to win Bella’s attention. But that’s difficult when he’s stumbling through dance moves and tripping over his paws. Can Billy nail the dance routine and catch Bella’s eye\, all before the big dance pawty? \nAbout Arlo:\nIn ARLO’s grim\, mechanical world\, every day is just the same. \nARLO powers up\, greases his gears\, and works on the assembly line like the rest of the robots. But unlike the others\, ARLO longs for something different. And one day\, a storm changes everything–leaving ARLO to discover\, and revel in\, the wilderness beyond the factory walls. \nJoin ARLO as he explores the unknown\, learns that home is where the metal heart is\, and that something different can be created in many ways. A story about creativity\, change\, and growing where you’re planted. \nAbout the Illustrator:\nMacKenzie Haley is an illustrator whose books include The Ninja Club Sleepover\, Pegasisters Go to Camp\, and Snitchy Witch\, among others. \nShe received her bachelor of fine arts in illustration from the University of Dayton and currently resides in Louisville\, Kentucky. Learn more at mackenziehaley.com.
URL:https://things-to-lou.com/events/saturday-storytime-with-mackenzie-haley/
LOCATION:Carmichael’s Bookstore – Crescent Hill\, 2720 Frankfort Avenue\, Louisville\, KY\, 40206\, United States
CATEGORIES:Family & Children,Literary Event / Book-Signing
END:VEVENT
BEGIN:VEVENT
DTSTART;TZID=America/New_York:20260110T110000
DTEND;TZID=America/New_York:20260110T150000
DTSTAMP:20260423T164340
CREATED:20260108T170519Z
LAST-MODIFIED:20260108T170519Z
UID:10003847-1768042800-1768057200@things-to-lou.com
SUMMARY:KMAC's Winter Family Fun Day
DESCRIPTION:Our Winter Family Fun Day is here! Visit KMAC on Saturday\, January 10th from 11am-3pm. \nFamilies can expect free admission during the event hours\, demonstrations from miniature artists\, music from UofL Music Therapy\, a collage and sculpture project in the education studio\, a Zine Swap led by artist Kristen Miller\, and a special hot chocolate in the KMAC Café! \nFamily Fun Days are free fun-filled days of programming for families and friends of all ages! Family Fun Days are organized in conjunction with each of the Museum’s quarterly exhibitions and feature a number of exciting activities and free admission to the museum all day. Can’t make it to Family Fun Day? Stop by KMAC Museum any time to create art\, play or explore in Studio 715! \n***Description from website
URL:https://things-to-lou.com/events/kmacs-winter-family-fun-day/
LOCATION:KMAC\, 715 W Main Street\, Louisville\, KY\, 40202\, United States
CATEGORIES:Family & Children,Museum
END:VEVENT
BEGIN:VEVENT
DTSTART;TZID=America/New_York:20260110T130000
DTEND;TZID=America/New_York:20260110T140000
DTSTAMP:20260423T164340
CREATED:20251201T191038Z
LAST-MODIFIED:20251201T191430Z
UID:10003249-1768050000-1768053600@things-to-lou.com
SUMMARY:The Sprinkle Studio- Sensory Friendly Edition (Ages 7-15)
DESCRIPTION:Event Name:\nThe Sprinkle Studio- Sensory Friendly Edition (Ages 7-15) \nEvent Date:\n2026-01-10 \nWebsite / Ticket Link:\nhttps://www.eventbrite.com/o/megs-magical-morsels-114337985281 \nLocation:\nThe Buechel Train Depot- 2230 Buechel Ave Louisville\, KY 40218 \nEvent Host:\nMeg’s Magical Morsels \nEvent Description / Other Info:\nThe Sprinkle Studio- Sensory Friendly Edition (Ages 7-15)- Snow\, sunshine & 4 themed cupcakes! Kids 7-15 join a sensory-friendly decorating adventure where the fun is in the process. \nWHO:\nKids ages 7-15 who love creativity\, sprinkles\, and a little frosting-fueled fun — plus the parent or guardian who stays on-site during class. \nThese sessions are ideal for children that may feel overwhelmed in our standard classes. These classes feature a calm environment with no background music\, optional sensory stations\, and flexibility for breaks (or early exits) as needed. \nNot sure which class is the best fit for your child? Or have kids of different ages? Reach out to us at (502) 974-5930 — we’re happy to help you choose the perfect class! \nWHAT:\nA kids’ cupcake decorating “class” \nWe focus on the process\, not perfection — kids are encouraged to explore\, play\, celebrate their successes\, and embrace their “mistakes.” \nAll supplies are safe to snack on\, and each child will leave with to four themed cupcakes (assuming snacking didn’t take over). \nWHEN:\nSaturday\, January 10th from 1:00 PM – 2:00 PM \nWHERE:\nThe Beuchel Train Depot at 2230 Beuchel Avenue \nWHY:\nBecause cupcake decorating should be fun\, messy\, joyful\, and stress-free. Our goal is to create a space where kids can learn through play\, explore their creativity\, and enjoy an uplifting experience. \nHOW:\nChoose your preferred class and register through Eventbrite. Please select one child’s ticket for each child attending. Each child must be accompanied by an adult\, but one adult can chaperone multiple children—just select one free adult ticket per group. \nWe’ll provide four cupcakes\, the frosting\, the tools\, and the instruction. Their will also be beverages available for purchase from Fuel and Flow. \nNeed Gluten-Friendly ingredients? Select the Gluten-Friendly Ingredient Add-On (for free) when purchasing your tickets.
URL:https://things-to-lou.com/events/the-sprinkle-studio-sensory-friendly-edition-ages-7-15/
LOCATION:The Train Depot @ Buechel Train Depot\, 2230 Buechel Ave\, Louisville\, KY\, 40218\, United States
CATEGORIES:Family & Children,Food & Drink,Workshop
ATTACH;FMTTYPE=image/png:https://things-to-lou.com/wp-content/uploads/2025/12/megs-magical-morsels-the-sprinkle-studio-e1764615987903.png
END:VEVENT
BEGIN:VEVENT
DTSTART;TZID=America/New_York:20260110T150000
DTEND;TZID=America/New_York:20260110T160000
DTSTAMP:20260423T164340
CREATED:20251201T191147Z
LAST-MODIFIED:20251201T191147Z
UID:10003250-1768057200-1768060800@things-to-lou.com
SUMMARY:The Sprinkle Studio- Snow Days and Sunshine (Ages 12-14)
DESCRIPTION:Event Name:\nThe Sprinkle Studio- Snow Days and Sunshine (Ages 12-14) \nEvent Date:\n2026-01-10 \nWebsite / Ticket Link:\nhttps://www.eventbrite.com/o/megs-magical-morsels-114337985281 \nLocation:\nThe Buechel Train Depot- 2230 Buechel Ave Louisville\, KY 40218 \nEvent Host:\nMeg’s Magical Morsels \nEvent Description / Other Info:\nThe Sprinkle Studio- Snow Days and Sunshine (Ages 12-14)- Snow\, sunshine & 4 themed cupcakes! Kids 12-14 join a decorating adventure where the fun is in the process. \nWHO:\nKids ages 12-14 who love creativity\, sprinkles\, and a little frosting-fueled fun — plus the parent or guardian who stays on-site during class. \nNot sure which class is the best fit for your child? Or have kids of different ages? Reach out to us at (502) 974-5930 — we’re happy to help you choose the perfect class! \nWHAT:\nA kids’ cupcake decorating “class” \nWe focus on the process\, not perfection — kids are encouraged to explore\, play\, celebrate their successes\, and embrace their “mistakes.” All supplies are safe to snack on\, and each child will leave with to four themed cupcakes (assuming snacking didn’t take over). \nWHEN:\nSaturday\, January 10th from 3:00 PM – 4:00 PM \nWHERE:\nThe Beuchel Train Depot at 2230 Beuchel Avenue \nWHY:\nBecause cupcake decorating should be fun\, messy\, joyful\, and stress-free. Our goal is to create a space where kids can learn through play\, explore their creativity\, and enjoy an uplifting experience. \nHOW:\nChoose your preferred class and register through Eventbrite. Please select one child’s ticket for each child attending. Each child must be accompanied by an adult\, but one adult can chaperone multiple children—just select one free adult ticket per group. \nWe’ll provide four cupcakes\, the frosting\, the tools\, and the instruction. Their will also be beverages available for purchase from Fuel and Flow. \nNeed Gluten-Friendly ingredients? Select the Gluten-Friendly Ingredient Add-On (for free) when purchasing your tickets.
URL:https://things-to-lou.com/events/the-sprinkle-studio-snow-days-and-sunshine-ages-12-14/
LOCATION:The Train Depot @ Buechel Train Depot\, 2230 Buechel Ave\, Louisville\, KY\, 40218\, United States
CATEGORIES:Family & Children,Food & Drink,Workshop
ATTACH;FMTTYPE=image/png:https://things-to-lou.com/wp-content/uploads/2025/12/megs-magical-morsels-the-sprinkle-studio-e1764615987903.png
END:VEVENT
END:VCALENDAR