BEGIN:VCALENDAR
VERSION:2.0
PRODID:-//Things To Lou - ECPv6.15.20//NONSGML v1.0//EN
CALSCALE:GREGORIAN
METHOD:PUBLISH
X-WR-CALNAME:Things To Lou
X-ORIGINAL-URL:https://things-to-lou.com
X-WR-CALDESC:Events for Things To Lou
REFRESH-INTERVAL;VALUE=DURATION:PT1H
X-Robots-Tag:noindex
X-PUBLISHED-TTL:PT1H
BEGIN:VTIMEZONE
TZID:America/New_York
BEGIN:DAYLIGHT
TZOFFSETFROM:-0500
TZOFFSETTO:-0400
TZNAME:EDT
DTSTART:20250309T070000
END:DAYLIGHT
BEGIN:STANDARD
TZOFFSETFROM:-0400
TZOFFSETTO:-0500
TZNAME:EST
DTSTART:20251102T060000
END:STANDARD
BEGIN:DAYLIGHT
TZOFFSETFROM:-0500
TZOFFSETTO:-0400
TZNAME:EDT
DTSTART:20260308T070000
END:DAYLIGHT
BEGIN:STANDARD
TZOFFSETFROM:-0400
TZOFFSETTO:-0500
TZNAME:EST
DTSTART:20261101T060000
END:STANDARD
BEGIN:DAYLIGHT
TZOFFSETFROM:-0500
TZOFFSETTO:-0400
TZNAME:EDT
DTSTART:20270314T070000
END:DAYLIGHT
BEGIN:STANDARD
TZOFFSETFROM:-0400
TZOFFSETTO:-0500
TZNAME:EST
DTSTART:20271107T060000
END:STANDARD
END:VTIMEZONE
BEGIN:VEVENT
DTSTART;TZID=America/New_York:20260123T000000
DTEND;TZID=America/New_York:20260208T235959
DTSTAMP:20260419T180847
CREATED:20260122T033100Z
LAST-MODIFIED:20260206T154351Z
UID:10004069-1769126400-1770595199@things-to-lou.com
SUMMARY:Downtown Hometown Tourist Celebration
DESCRIPTION:Residents of Greater Louisville and Southern Indiana are invited to celebrate their city and visit local tourist spots in their Downtown. \nThe Downtown Hometown Tourist Celebration offers half-off admission at participating Downtown attractions to individuals with a valid Kentucky or Indiana ID\, local college ID\, or military ID. Other venues are offering other discounts during this promotional period. \nWhether it’s visiting a favorite museum\, stopping by one of our local bourbon experiences\, or celebrating what makes our community unique\, our Downtown is packed with experiences that benefit both residents and visitors alike. \n\nCheck out all of the attractions here!
URL:https://things-to-lou.com/events/downtown-hometown-tourist-celebration/
LOCATION:Downtown Louisville
CATEGORIES:Block Party / Community Festival,Bourbon,Entertainment,Experiences,Family & Children,Food & Drink
END:VEVENT
BEGIN:VEVENT
DTSTART;TZID=America/New_York:20260124T110000
DTEND;TZID=America/New_York:20260124T170000
DTSTAMP:20260419T180847
CREATED:20260109T221617Z
LAST-MODIFIED:20260109T221617Z
UID:10003911-1769252400-1769274000@things-to-lou.com
SUMMARY:Carmichael’s Kids presents Valentines are the Worst: A Storytime with Alex Willan
DESCRIPTION:Join children’s author/illustrator Alex Willan for his latest installment in The Worst! Series featuring an unsuspecting Gilbert the Goblin who finds himself in the crosshairs of a squad of cupids. \nBooks will be available for purchase at the event from Carmichael’s Bookstore.
URL:https://things-to-lou.com/events/carmichaels-kids-presents-valentines-are-the-worst-a-storytime-with-alex-willan/
LOCATION:St Matthews-Eline Branch Library\, 3940 Grandview Avenue\, Louisville\, KY\, 40207\, United States
CATEGORIES:Family & Children,Literary Event / Book-Signing
END:VEVENT
BEGIN:VEVENT
DTSTART;TZID=America/New_York:20260124T140000
DTEND;TZID=America/New_York:20260124T160000
DTSTAMP:20260419T180847
CREATED:20260109T225106Z
LAST-MODIFIED:20260109T225106Z
UID:10003932-1769263200-1769270400@things-to-lou.com
SUMMARY:"The Lightning Thief" The Percy Jackson Musical
DESCRIPTION:When 16-year-old Percy Jackson discovers that he is the half-blood son of the Greek God\, Poseidon\, his life takes a dramatic turn as he is plunged into a world much bigger than he could possibly have imagined. \nAdapted from the best-selling book The Lightning Thief by Rick Riordan and featuring a thrilling original rock score\, The Lightning Thief: The Percy Jackson Musical is an action-packed mythical adventure “worthy of the gods” (Time Out New York). \nStageOne Family Theatre: “The Lightning Thief” The Percy Jackson Musical \nAges: All ages \nRunning Time: Approximately 1 hour \n\nSaturday\, Jan 24\, 2026 2:00 PM\nSaturday\, Jan 24\, 2026 7:30 PM\nSunday\, Jan 25\, 2026 2:00 PM\nSaturday\, Jan 31\, 2026 2:00 PM – Sensory Friendly Performance\nSaturday\, Jan 31\, 2026 7:30 PM\nSunday\, Feb 1\, 2026 2:00 PM\nSaturday\, Feb 7\, 2026 2:00 PM\nSaturday\, Feb 7\, 2026 7:30 PM\nSunday\, Feb 8\, 2026 2:00 PM
URL:https://things-to-lou.com/events/the-lightning-thief-the-percy-jackson-musical/2026-01-24/1/
LOCATION:Kentucky Performing Arts\, 501 W Main St\, Louisville\, KY\, 40202\, United States
CATEGORIES:Family & Children,Theatre
END:VEVENT
BEGIN:VEVENT
DTSTART;TZID=America/New_York:20260124T193000
DTEND;TZID=America/New_York:20260124T213000
DTSTAMP:20260419T180847
CREATED:20260109T225106Z
LAST-MODIFIED:20260109T225106Z
UID:10003933-1769283000-1769290200@things-to-lou.com
SUMMARY:"The Lightning Thief" The Percy Jackson Musical
DESCRIPTION:When 16-year-old Percy Jackson discovers that he is the half-blood son of the Greek God\, Poseidon\, his life takes a dramatic turn as he is plunged into a world much bigger than he could possibly have imagined. \nAdapted from the best-selling book The Lightning Thief by Rick Riordan and featuring a thrilling original rock score\, The Lightning Thief: The Percy Jackson Musical is an action-packed mythical adventure “worthy of the gods” (Time Out New York). \nStageOne Family Theatre: “The Lightning Thief” The Percy Jackson Musical \nAges: All ages \nRunning Time: Approximately 1 hour \n\nSaturday\, Jan 24\, 2026 2:00 PM\nSaturday\, Jan 24\, 2026 7:30 PM\nSunday\, Jan 25\, 2026 2:00 PM\nSaturday\, Jan 31\, 2026 2:00 PM – Sensory Friendly Performance\nSaturday\, Jan 31\, 2026 7:30 PM\nSunday\, Feb 1\, 2026 2:00 PM\nSaturday\, Feb 7\, 2026 2:00 PM\nSaturday\, Feb 7\, 2026 7:30 PM\nSunday\, Feb 8\, 2026 2:00 PM
URL:https://things-to-lou.com/events/the-lightning-thief-the-percy-jackson-musical/2026-01-24/2/
LOCATION:Kentucky Performing Arts\, 501 W Main St\, Louisville\, KY\, 40202\, United States
CATEGORIES:Family & Children,Theatre
END:VEVENT
END:VCALENDAR