BEGIN:VCALENDAR
VERSION:2.0
PRODID:-//Things To Lou - ECPv6.15.20//NONSGML v1.0//EN
CALSCALE:GREGORIAN
METHOD:PUBLISH
X-WR-CALNAME:Things To Lou
X-ORIGINAL-URL:https://things-to-lou.com
X-WR-CALDESC:Events for Things To Lou
REFRESH-INTERVAL;VALUE=DURATION:PT1H
X-Robots-Tag:noindex
X-PUBLISHED-TTL:PT1H
BEGIN:VTIMEZONE
TZID:America/New_York
BEGIN:DAYLIGHT
TZOFFSETFROM:-0500
TZOFFSETTO:-0400
TZNAME:EDT
DTSTART:20250309T070000
END:DAYLIGHT
BEGIN:STANDARD
TZOFFSETFROM:-0400
TZOFFSETTO:-0500
TZNAME:EST
DTSTART:20251102T060000
END:STANDARD
BEGIN:DAYLIGHT
TZOFFSETFROM:-0500
TZOFFSETTO:-0400
TZNAME:EDT
DTSTART:20260308T070000
END:DAYLIGHT
BEGIN:STANDARD
TZOFFSETFROM:-0400
TZOFFSETTO:-0500
TZNAME:EST
DTSTART:20261101T060000
END:STANDARD
BEGIN:DAYLIGHT
TZOFFSETFROM:-0500
TZOFFSETTO:-0400
TZNAME:EDT
DTSTART:20270314T070000
END:DAYLIGHT
BEGIN:STANDARD
TZOFFSETFROM:-0400
TZOFFSETTO:-0500
TZNAME:EST
DTSTART:20271107T060000
END:STANDARD
END:VTIMEZONE
BEGIN:VEVENT
DTSTART;TZID=America/New_York:20260412T110000
DTEND;TZID=America/New_York:20260412T130000
DTSTAMP:20260419T113202
CREATED:20260109T230839Z
LAST-MODIFIED:20260109T230839Z
UID:10003947-1775991600-1775998800@things-to-lou.com
SUMMARY:Disney On Ice Presents Mickey's Search Party
DESCRIPTION:Join Mickey Mouse and his friends at Disney On Ice presents Mickey’s Search Party\, an adventure filled with world-class skating\, high-flying acrobatics and unexpected stunts! \nEmbark on a quest with Mickey Mouse and pals as they follow Captain Hook’s treasure map for clues to find Tinker Bell after he attempts to capture her magic. Explore the colorful spirit realm of Coco\, sail away with Moana as she bravely saves her island\, see Belle in the sky as the enchanted chandelier comes to life\, and sing-along with Elsa in the icy world of Frozen. \nMake memories during Aladdin\, Toy Story\, and The Little Mermaid as the search party becomes an all-out celebration! Demonstrate the power of teamwork when Buzz Lightyear\, Woody and Jessie recruit the Green Army Men for a daring rescue in Andy’s room. \nTickets go on sale Tuesday\, January 13\, 2026 at the KFC Yum! Center Box Office and on Ticketmaster. Enhance the magic and add a Disney On Ice Character Experience! More info can be found below. \n***description from website
URL:https://things-to-lou.com/events/disney-on-ice-presents-mickeys-search-party/2026-04-12/1/
LOCATION:KFC Yum! Center\, 1 Arena Plaza\, Louisville\, KY\, 40202\, United States
CATEGORIES:Entertainment,Family & Children,Fandom
END:VEVENT
BEGIN:VEVENT
DTSTART;TZID=America/New_York:20260412T120000
DTEND;TZID=America/New_York:20260412T170000
DTSTAMP:20260419T113202
CREATED:20260108T072417Z
LAST-MODIFIED:20260108T072417Z
UID:10003803-1775995200-1776013200@things-to-lou.com
SUMMARY:Louisville Water Tower | WaterWorks Museum Open Day
DESCRIPTION:Mark your calendars! 📅 \nThe Louisville Water Tower is open the second Sunday of every month for tours throughout 2026\, starting Sunday\, Jan. 11! \nWhether you’re a history enthusiast\, architecture lover\, or looking for a unique educational experience for the family\, we’d love to welcome you to explore Louisville’s iconic landmark. \n#LouisvilleWaterTower #LouisvillePureTap #LouisvilleHistory \n**description from IG post
URL:https://things-to-lou.com/events/louisville-water-tower-waterworks-museum-open-day-7/2026-04-12/
LOCATION:Louisville Water Tower\, 3005 River Rd\, Louisville\, KY\, 40207\, United States
CATEGORIES:Educational,Entertainment,Family & Children,Museum
ATTACH;FMTTYPE=image/jpeg:https://things-to-lou.com/wp-content/uploads/2026/01/IMG_0867-1-e1767857030939.jpg
END:VEVENT
BEGIN:VEVENT
DTSTART;TZID=America/New_York:20260412T120000
DTEND;TZID=America/New_York:20260412T170000
DTSTAMP:20260419T113202
CREATED:20260330T162146Z
LAST-MODIFIED:20260330T162146Z
UID:10004872-1775995200-1776013200@things-to-lou.com
SUMMARY:Louisville Water Tower Community Open Date: Spring into Sustainability
DESCRIPTION:Spring into sustainability on April 12 from 12-5 p.m. at the Louisville Water Tower! \nOur Grand Hall transforms into Louisville’s environmental hub with exhibits from community partners who protect the resources we all depend on: \n🌊 Louisville MSD\n♻️ Know Waste Louisville\n🌱 Sustain Louisville\n🎓 University of Louisville Sustainability Council\n🐟 Kentucky Fish and Wildlife\n💧 Ripple Effects \nWhat to expect:\n\n✔️ Educational exhibits throughout the Grand Hall\n✔️ Door prizes\n✔️ Infused water station\n✔️ Free admission\, no registration needed\n✔️ Family-friendly (geared toward adults) \nPlease note: Tower tours will not be available during this event. Come curious. Leave inspired. Knowledge is on tap. \n\nLouisville Water Tower Community Open Date: Spring into Sustainability \nSunday\, April 12 \n12-5 p.m. \nFREE \n\nFacebook Post \n 
URL:https://things-to-lou.com/events/louisville-water-tower-community-open-date-spring-into-sustainability/
LOCATION:Louisville Water Tower\, 3005 River Rd\, Louisville\, KY\, 40207\, United States
CATEGORIES:Family & Children,Museum
ATTACH;FMTTYPE=image/jpeg:https://things-to-lou.com/wp-content/uploads/2026/03/Screenshot-2026-03-22-070044-e1774886852822.jpg
END:VEVENT
BEGIN:VEVENT
DTSTART;TZID=America/New_York:20260412T150000
DTEND;TZID=America/New_York:20260412T170000
DTSTAMP:20260419T113202
CREATED:20260109T230839Z
LAST-MODIFIED:20260109T230839Z
UID:10003948-1776006000-1776013200@things-to-lou.com
SUMMARY:Disney On Ice Presents Mickey's Search Party
DESCRIPTION:Join Mickey Mouse and his friends at Disney On Ice presents Mickey’s Search Party\, an adventure filled with world-class skating\, high-flying acrobatics and unexpected stunts! \nEmbark on a quest with Mickey Mouse and pals as they follow Captain Hook’s treasure map for clues to find Tinker Bell after he attempts to capture her magic. Explore the colorful spirit realm of Coco\, sail away with Moana as she bravely saves her island\, see Belle in the sky as the enchanted chandelier comes to life\, and sing-along with Elsa in the icy world of Frozen. \nMake memories during Aladdin\, Toy Story\, and The Little Mermaid as the search party becomes an all-out celebration! Demonstrate the power of teamwork when Buzz Lightyear\, Woody and Jessie recruit the Green Army Men for a daring rescue in Andy’s room. \nTickets go on sale Tuesday\, January 13\, 2026 at the KFC Yum! Center Box Office and on Ticketmaster. Enhance the magic and add a Disney On Ice Character Experience! More info can be found below. \n***description from website
URL:https://things-to-lou.com/events/disney-on-ice-presents-mickeys-search-party/2026-04-12/2/
LOCATION:KFC Yum! Center\, 1 Arena Plaza\, Louisville\, KY\, 40202\, United States
CATEGORIES:Entertainment,Family & Children,Fandom
END:VEVENT
END:VCALENDAR