BEGIN:VCALENDAR
VERSION:2.0
PRODID:-//Things To Lou - ECPv6.15.20//NONSGML v1.0//EN
CALSCALE:GREGORIAN
METHOD:PUBLISH
X-WR-CALNAME:Things To Lou
X-ORIGINAL-URL:https://things-to-lou.com
X-WR-CALDESC:Events for Things To Lou
REFRESH-INTERVAL;VALUE=DURATION:PT1H
X-Robots-Tag:noindex
X-PUBLISHED-TTL:PT1H
BEGIN:VTIMEZONE
TZID:America/New_York
BEGIN:DAYLIGHT
TZOFFSETFROM:-0500
TZOFFSETTO:-0400
TZNAME:EDT
DTSTART:20250309T070000
END:DAYLIGHT
BEGIN:STANDARD
TZOFFSETFROM:-0400
TZOFFSETTO:-0500
TZNAME:EST
DTSTART:20251102T060000
END:STANDARD
BEGIN:DAYLIGHT
TZOFFSETFROM:-0500
TZOFFSETTO:-0400
TZNAME:EDT
DTSTART:20260308T070000
END:DAYLIGHT
BEGIN:STANDARD
TZOFFSETFROM:-0400
TZOFFSETTO:-0500
TZNAME:EST
DTSTART:20261101T060000
END:STANDARD
BEGIN:DAYLIGHT
TZOFFSETFROM:-0500
TZOFFSETTO:-0400
TZNAME:EDT
DTSTART:20270314T070000
END:DAYLIGHT
BEGIN:STANDARD
TZOFFSETFROM:-0400
TZOFFSETTO:-0500
TZNAME:EST
DTSTART:20271107T060000
END:STANDARD
END:VTIMEZONE
BEGIN:VEVENT
DTSTART;TZID=America/New_York:20260618T083000
DTEND;TZID=America/New_York:20260618T160000
DTSTAMP:20260423T090136
CREATED:20260206T022447Z
LAST-MODIFIED:20260206T022447Z
UID:10004664-1781771400-1781798400@things-to-lou.com
SUMMARY:Camp Frazier: The Museum\, the Myth\, the Legend
DESCRIPTION:Brace yourself for some history mysteries! In this exciting week-long Summer Camp\, learn all about local legends\, discover the history behind some of the world’s most famous myths\, and embark on a journey around the museum! \n\nABOUT THE CAMP\nCamp Frazier: The Museum\, the Myth\, the Legend\nMonday\, June 15–Friday\, June 19\nFrazier Kentucky History Museum \n\nDrop-off: 8:45–9:30 a.m.\nPickup: 3:30–4 p.m.\n\nAges:\n\nOpen to Kids in Grades Rising 1–6\n\nCost:\n\n$295/week\n($265/week for members)\n\n(ask about our sibling discount!)
URL:https://things-to-lou.com/events/camp-frazier-the-museum-the-myth-the-legend/2026-06-18/
LOCATION:Frazier History Museum\, 829 West Main Street\, Louisville\, 40202\, United States
CATEGORIES:Educational,Family & Children
ATTACH;FMTTYPE=image/jpeg:https://things-to-lou.com/wp-content/uploads/2026/02/2026-6-15-19-camp-frazier-museum-myth-legend-e1770343987225.jpg
END:VEVENT
BEGIN:VEVENT
DTSTART;TZID=America/New_York:20260618T100000
DTEND;TZID=America/New_York:20260618T120000
DTSTAMP:20260423T090136
CREATED:20260402T222748Z
LAST-MODIFIED:20260402T223231Z
UID:10004959-1781776800-1781784000@things-to-lou.com
SUMMARY:Kids Summer Pottery Camp (3 day camp) (ages 7–13)
DESCRIPTION:Kids summer pottery camp! 3 days of wheel\, handbuilding & glazing fun for ages 7–13. Spots are limited! \nLet your kids get messy\, creative\, and hands-on this summer! Our 3-day pottery camp is perfect for kids ages 7–12 who want to try the pottery wheel\, handbuilding\, and glazing in a fun\, relaxed environment. \nWhat’s included:\n\nDay 1: Learn the pottery wheel and throw your first pieces\nDay 2: Handbuild fun projects and add your own creative touches\nDay 3: Glaze and decorate your pieces to take home after firing\n\nEach camper gets plenty of clay\, guidance from our friendly instructor\, and all materials included. Classes are small and cozy so every kid gets plenty of wheel time and attention. \n\nDates:\n\nJune 2-4\nJune 17-19\nJuly 21-23\n\nTime: 2 hours per day \nClass size: 6 kids or less \nGive your kids a summer full of creativity\, fun\, and their very own handmade pottery! Spots are limited — reserve your child’s wheel today. \n\n✨ Kids Camp Drop-Off Info ✨\nPlease drop off your kiddos 5–10 minutes before class begins ⏰ \nWhen you arrive\, come inside to check your child in and be sure to check them out after every class ✅ \nWe can’t wait to have fun with your little ones! 💛 \n 
URL:https://things-to-lou.com/events/kids-summer-pottery-camp-3-day-camp-ages-7-13/2026-06-18/
LOCATION:KY
CATEGORIES:Family & Children,Workshop
END:VEVENT
BEGIN:VEVENT
DTSTART;TZID=America/New_York:20260618T130000
DTEND;TZID=America/New_York:20260618T143000
DTSTAMP:20260423T090136
CREATED:20260205T183900Z
LAST-MODIFIED:20260205T183900Z
UID:10004610-1781787600-1781793000@things-to-lou.com
SUMMARY:Silent Disco Kid's Cruise | river cruise
DESCRIPTION:Calling all silent disco fans! Whether you’ve experienced the fun before or if you’re new to the silent disco trend\, we say just add water for the ultimate family event. \nThis event features all the fun of a classic river cruise\, but with the added bonus of getting to pick your own kid-friendly music from one of several pre-selected channels. \n\nWebsite / Ticket Link\nhttps://www.belleoflouisville.org/cruises/silent-disco-kids-cruise/ \nLocation\nBelle of Louisville Riverboats\, 401 West River Road\, Louisville KY 40202 \nEvent Host\nBelle of Louisville Riverboats
URL:https://things-to-lou.com/events/silent-disco-kids-cruise-river-cruise/2026-06-18/
LOCATION:Belle of Louisville\, 401 W River Rd\, Louisville\, KY\, 40202\, United States
CATEGORIES:Family & Children,Silent DIsco
ATTACH;FMTTYPE=image/png:https://things-to-lou.com/wp-content/uploads/2026/02/Screenshot-2026-02-05-133448-e1770316791582.png
END:VEVENT
END:VCALENDAR