BEGIN:VCALENDAR
VERSION:2.0
PRODID:-//Things To Lou - ECPv6.15.20//NONSGML v1.0//EN
CALSCALE:GREGORIAN
METHOD:PUBLISH
X-ORIGINAL-URL:https://things-to-lou.com
X-WR-CALDESC:Events for Things To Lou
REFRESH-INTERVAL;VALUE=DURATION:PT1H
X-Robots-Tag:noindex
X-PUBLISHED-TTL:PT1H
BEGIN:VTIMEZONE
TZID:America/New_York
BEGIN:DAYLIGHT
TZOFFSETFROM:-0500
TZOFFSETTO:-0400
TZNAME:EDT
DTSTART:20250309T070000
END:DAYLIGHT
BEGIN:STANDARD
TZOFFSETFROM:-0400
TZOFFSETTO:-0500
TZNAME:EST
DTSTART:20251102T060000
END:STANDARD
BEGIN:DAYLIGHT
TZOFFSETFROM:-0500
TZOFFSETTO:-0400
TZNAME:EDT
DTSTART:20260308T070000
END:DAYLIGHT
BEGIN:STANDARD
TZOFFSETFROM:-0400
TZOFFSETTO:-0500
TZNAME:EST
DTSTART:20261101T060000
END:STANDARD
BEGIN:DAYLIGHT
TZOFFSETFROM:-0500
TZOFFSETTO:-0400
TZNAME:EDT
DTSTART:20270314T070000
END:DAYLIGHT
BEGIN:STANDARD
TZOFFSETFROM:-0400
TZOFFSETTO:-0500
TZNAME:EST
DTSTART:20271107T060000
END:STANDARD
END:VTIMEZONE
BEGIN:VEVENT
DTSTART;TZID=America/New_York:20260919T130000
DTEND;TZID=America/New_York:20260919T150000
DTSTAMP:20260422T052538
CREATED:20260206T021119Z
LAST-MODIFIED:20260206T021119Z
UID:10004655-1789822800-1789830000@things-to-lou.com
SUMMARY:Kids Character Cruise | river cruise
DESCRIPTION:Come onboard in your favorite costumes and get ready for a special afternoon on the Ohio River. \nThis is going to be one cruise that the little ones in your life aren’t going to forget!
URL:https://things-to-lou.com/events/kids-character-cruise-river-cruise/
LOCATION:Belle of Louisville\, 401 W River Rd\, Louisville\, KY\, 40202\, United States
CATEGORIES:Entertainment,Family & Children
ATTACH;FMTTYPE=image/png:https://things-to-lou.com/wp-content/uploads/2026/02/kidcharactercruise-e1770342790692.png
END:VEVENT
END:VCALENDAR