BEGIN:VCALENDAR
VERSION:2.0
PRODID:-//Things To Lou - ECPv6.15.20//NONSGML v1.0//EN
CALSCALE:GREGORIAN
METHOD:PUBLISH
X-ORIGINAL-URL:https://things-to-lou.com
X-WR-CALDESC:Events for Things To Lou
REFRESH-INTERVAL;VALUE=DURATION:PT1H
X-Robots-Tag:noindex
X-PUBLISHED-TTL:PT1H
BEGIN:VTIMEZONE
TZID:America/New_York
BEGIN:DAYLIGHT
TZOFFSETFROM:-0500
TZOFFSETTO:-0400
TZNAME:EDT
DTSTART:20240310T070000
END:DAYLIGHT
BEGIN:STANDARD
TZOFFSETFROM:-0400
TZOFFSETTO:-0500
TZNAME:EST
DTSTART:20241103T060000
END:STANDARD
BEGIN:DAYLIGHT
TZOFFSETFROM:-0500
TZOFFSETTO:-0400
TZNAME:EDT
DTSTART:20250309T070000
END:DAYLIGHT
BEGIN:STANDARD
TZOFFSETFROM:-0400
TZOFFSETTO:-0500
TZNAME:EST
DTSTART:20251102T060000
END:STANDARD
BEGIN:DAYLIGHT
TZOFFSETFROM:-0500
TZOFFSETTO:-0400
TZNAME:EDT
DTSTART:20260308T070000
END:DAYLIGHT
BEGIN:STANDARD
TZOFFSETFROM:-0400
TZOFFSETTO:-0500
TZNAME:EST
DTSTART:20261101T060000
END:STANDARD
END:VTIMEZONE
BEGIN:VEVENT
DTSTART;TZID=America/New_York:20251018T210000
DTEND;TZID=America/New_York:20251019T010000
DTSTAMP:20260420T175829
CREATED:20250805T003956Z
LAST-MODIFIED:20250805T010923Z
UID:10002852-1760821200-1760835600@things-to-lou.com
SUMMARY:CarniVille Vol. 2 "An Evening of Mysterious Masquerade"
DESCRIPTION:Event Name:\nCarniVille Vol. 2 “An Evening of Mysterious Masquerade” \nEvent Date:\n2025-10-18 \nWebsite / Ticket Link:\nhttps://www.universe.com/events/carniville-vol2-an-evening-of-mysterious-masquerade-tickets-SRV940 \nLocation:\nLouisville Palace \nEvent Host:\nA John Fogle Joint \nEvent Description / Other Info:\nDon’t you dare miss the Masquerade Ball to end ALL Masquerades! \nCarniVille Vol. 2 returns at the Louisville Palace this year! It all goes down Saturday\, October 18th\, 2025 from 9pm-1am! \nLive music by V-Groove\, Special Performances by Tiffaney Nesbeth\, Tesia Mae White! DJ K Karm on sound control\, Special Performance by Maria Jade\, special appearances by Apollonia Llewellyn from Great Britain\, Maria Carla Cadotte\, Phoebe Samba Dance Team Dance Company\, Plus\, lots of surprises you must see to believe! \nMust be 30 & Over to attend this sophisticated affair! \nCashless Bar with major credit/debit cards accepted! We have several ticket options to fit your individual needs. \nhttps://www.universe.com/events/carniville-vol2-an-evening-of-mysterious-masquerade-tickets-SRV940 \n 
URL:https://things-to-lou.com/events/carniville-vol-2-an-evening-of-mysterious-masquerade/
LOCATION:Louisville Palace\, 625 S 4th St\, Louisville\, KY\, 40202\, United States
CATEGORIES:Fashion,Nightlife
ATTACH;FMTTYPE=image/jpeg:https://things-to-lou.com/wp-content/uploads/2025/08/night.zip-1-e1754356058514.jpg
END:VEVENT
BEGIN:VEVENT
DTSTART;TZID=America/New_York:20251023T170000
DTEND;TZID=America/New_York:20251023T200000
DTSTAMP:20260420T175829
CREATED:20251002T073644Z
LAST-MODIFIED:20251002T073644Z
UID:10003056-1761238800-1761249600@things-to-lou.com
SUMMARY:Westport Village Fashion Show
DESCRIPTION:Witness the hottest Fall\, Winter and Holiday fashion from our boutiques on the runway at Westport Village on Thursday\, October 23rd! The event is located in the outdoor green space between Collections and Tunie’s. \n🍷    5pm: Cocktail Hour with 2 complimentary drink tickets for -196 Vodka Seltzers\, wine or prosecco + light bites from some of our restaurants including Osteria Italian Seafood\, Steak & Bourbon\, Wild Eggs\, The Comfy Cow and more! \n👠   6pm: Fashion Show with giveaways between each scene! \n🛍️   7pm: Shop the Looks you loved from the runway with our shops open late! \n\nPlus\, witness adoptable puppies from Kentucky Humane Society on the runway in the first scene and snap a pic with our complimentary photobooth! \nVIP ticket holders will have seating in a reserved section nearest the runway and will receive an exclusive swag bag\, sponsored by Summer Classics Louisville! \nThank you again to our Presenting Sponsor\, The Pet Station Country Club! \n  \n***description from website
URL:https://things-to-lou.com/events/westport-village-fashion-show/
LOCATION:Westport Village\, 1315 Herr Lane\, Louisville\, KY\, 40222\, United States
CATEGORIES:Fashion,Pets,Shopping
ORGANIZER;CN="Westport Village":MAILTO:info@westportvillage.com
END:VEVENT
END:VCALENDAR