BEGIN:VCALENDAR
VERSION:2.0
PRODID:-//Things To Lou - ECPv6.15.20//NONSGML v1.0//EN
CALSCALE:GREGORIAN
METHOD:PUBLISH
X-ORIGINAL-URL:https://things-to-lou.com
X-WR-CALDESC:Events for Things To Lou
REFRESH-INTERVAL;VALUE=DURATION:PT1H
X-Robots-Tag:noindex
X-PUBLISHED-TTL:PT1H
BEGIN:VTIMEZONE
TZID:America/New_York
BEGIN:DAYLIGHT
TZOFFSETFROM:-0500
TZOFFSETTO:-0400
TZNAME:EDT
DTSTART:20240310T070000
END:DAYLIGHT
BEGIN:STANDARD
TZOFFSETFROM:-0400
TZOFFSETTO:-0500
TZNAME:EST
DTSTART:20241103T060000
END:STANDARD
BEGIN:DAYLIGHT
TZOFFSETFROM:-0500
TZOFFSETTO:-0400
TZNAME:EDT
DTSTART:20250309T070000
END:DAYLIGHT
BEGIN:STANDARD
TZOFFSETFROM:-0400
TZOFFSETTO:-0500
TZNAME:EST
DTSTART:20251102T060000
END:STANDARD
BEGIN:DAYLIGHT
TZOFFSETFROM:-0500
TZOFFSETTO:-0400
TZNAME:EDT
DTSTART:20260308T070000
END:DAYLIGHT
BEGIN:STANDARD
TZOFFSETFROM:-0400
TZOFFSETTO:-0500
TZNAME:EST
DTSTART:20261101T060000
END:STANDARD
END:VTIMEZONE
BEGIN:VEVENT
DTSTART;TZID=America/New_York:20250518T150000
DTEND;TZID=America/New_York:20250518T170000
DTSTAMP:20260425T224152
CREATED:20250515T044900Z
LAST-MODIFIED:20250515T044900Z
UID:10002263-1747580400-1747587600@things-to-lou.com
SUMMARY:"Withnail and I" film screening @ Speed Cinema
DESCRIPTION:Withnail and I at Speed Cinema – 2 showings \nNew 4K Restoration \nWithnail and I \n\nSaturday\, May 17\, 3 pm\nSunday\, May 18\, 3 pm\n\n$12 | $8 Speed members \n“Deliciously witty and sophisticated as [it is] outrageously funny.”—Kevin Thomas\, Los Angeles Times \nLondon. The 1960s. Two unemployed actors—acerbic\, elegantly wasted Withnail (Richard E. Grant) and the anxiety-ridden “I” (Paul McGann)—drown their frustrations in booze\, pills\, and lighter fluid. When Withnail’s Uncle Monty (Richard Griffiths) offers his cottage\, they escape the squalor of their flat for a week in the country. They soon realize they’ve gone on holiday by mistake when their wits—and friendship—are sorely tested by violent downpours\, less than hospitable locals\, and empty cupboards. An intelligent\, superbly acted\, and hilarious film\, Bruce Robinson’s semi-autobiographical cult favorite is presented here in its complete and uncut version. 1987\, U.K.\, 4K DCP\, 107 minutes. \n  \n***description from website
URL:https://things-to-lou.com/events/withnail-and-i-film-screening-speed-cinema-2/
LOCATION:Speed Art Museum\, 2035 S 3rd St\, Louisville\, KY\, 40208\, United States
CATEGORIES:Art,Film / Movies,Museum
END:VEVENT
END:VCALENDAR