BEGIN:VCALENDAR
VERSION:2.0
PRODID:-//Things To Lou - ECPv6.15.20//NONSGML v1.0//EN
CALSCALE:GREGORIAN
METHOD:PUBLISH
X-ORIGINAL-URL:https://things-to-lou.com
X-WR-CALDESC:Events for Things To Lou
REFRESH-INTERVAL;VALUE=DURATION:PT1H
X-Robots-Tag:noindex
X-PUBLISHED-TTL:PT1H
BEGIN:VTIMEZONE
TZID:America/New_York
BEGIN:DAYLIGHT
TZOFFSETFROM:-0500
TZOFFSETTO:-0400
TZNAME:EDT
DTSTART:20240310T070000
END:DAYLIGHT
BEGIN:STANDARD
TZOFFSETFROM:-0400
TZOFFSETTO:-0500
TZNAME:EST
DTSTART:20241103T060000
END:STANDARD
BEGIN:DAYLIGHT
TZOFFSETFROM:-0500
TZOFFSETTO:-0400
TZNAME:EDT
DTSTART:20250309T070000
END:DAYLIGHT
BEGIN:STANDARD
TZOFFSETFROM:-0400
TZOFFSETTO:-0500
TZNAME:EST
DTSTART:20251102T060000
END:STANDARD
BEGIN:DAYLIGHT
TZOFFSETFROM:-0500
TZOFFSETTO:-0400
TZNAME:EDT
DTSTART:20260308T070000
END:DAYLIGHT
BEGIN:STANDARD
TZOFFSETFROM:-0400
TZOFFSETTO:-0500
TZNAME:EST
DTSTART:20261101T060000
END:STANDARD
END:VTIMEZONE
BEGIN:VEVENT
DTSTART;TZID=America/New_York:20250520T000000
DTEND;TZID=America/New_York:20250520T235959
DTSTAMP:20260423T131627
CREATED:20250209T044355Z
LAST-MODIFIED:20250209T044505Z
UID:10001692-1747699200-1747785599@things-to-lou.com
SUMMARY:"Caddyshack": Movie Night @ Iroquois
DESCRIPTION:Free Event: Join us for “Hollywood Classics Under The Stars” at Iroquois Amphitheater from May – September\, 2025 \n***Description from website
URL:https://things-to-lou.com/events/caddyshack-movie-night-iroquois/
LOCATION:Iroquois Amphitheater\, 1080 Amphitheater Rd\, Louisville\, KY\, 40214\, United States
CATEGORIES:Family & Children,Film / Movies
END:VEVENT
END:VCALENDAR