BEGIN:VCALENDAR
VERSION:2.0
PRODID:-//Things To Lou - ECPv6.15.20//NONSGML v1.0//EN
CALSCALE:GREGORIAN
METHOD:PUBLISH
X-ORIGINAL-URL:https://things-to-lou.com
X-WR-CALDESC:Events for Things To Lou
REFRESH-INTERVAL;VALUE=DURATION:PT1H
X-Robots-Tag:noindex
X-PUBLISHED-TTL:PT1H
BEGIN:VTIMEZONE
TZID:America/New_York
BEGIN:DAYLIGHT
TZOFFSETFROM:-0500
TZOFFSETTO:-0400
TZNAME:EDT
DTSTART:20250309T070000
END:DAYLIGHT
BEGIN:STANDARD
TZOFFSETFROM:-0400
TZOFFSETTO:-0500
TZNAME:EST
DTSTART:20251102T060000
END:STANDARD
BEGIN:DAYLIGHT
TZOFFSETFROM:-0500
TZOFFSETTO:-0400
TZNAME:EDT
DTSTART:20260308T070000
END:DAYLIGHT
BEGIN:STANDARD
TZOFFSETFROM:-0400
TZOFFSETTO:-0500
TZNAME:EST
DTSTART:20261101T060000
END:STANDARD
BEGIN:DAYLIGHT
TZOFFSETFROM:-0500
TZOFFSETTO:-0400
TZNAME:EDT
DTSTART:20270314T070000
END:DAYLIGHT
BEGIN:STANDARD
TZOFFSETFROM:-0400
TZOFFSETTO:-0500
TZNAME:EST
DTSTART:20271107T060000
END:STANDARD
END:VTIMEZONE
BEGIN:VEVENT
DTSTART;TZID=America/New_York:20260125T200000
DTEND;TZID=America/New_York:20260126T020000
DTSTAMP:20260419T133238
CREATED:20260105T073821Z
LAST-MODIFIED:20260105T073947Z
UID:10003712-1769371200-1769392800@things-to-lou.com
SUMMARY:The Louisville Gore Club
DESCRIPTION:FOR 13 YEARS every Sunday night at 8pm the ghoulish and the grave turn up to enjoy the best and worst in horror/sci-fi/ fantasy cinema! \n8pm-2am every Sunday night. \nThey created Louisville Krampus\, Gore Club Podcast and Louisville Gore Club Presents. \n\nAll Events are 21+ and IDs required for entry. \nEvery Sunday for 15 years! Starts at 8pm \nFree Admission\, Free Popcorn! \n***description from website \n  \nWeekly movie info on Instagram
URL:https://things-to-lou.com/events/the-louisville-gore-club/2026-01-25/
LOCATION:Planet Of The Tapes\, 640 Barret Ave\, Louisville\, KY\, 40204\, United States
CATEGORIES:Fandom,Film / Movies
END:VEVENT
BEGIN:VEVENT
DTSTART;TZID=America/New_York:20260201T200000
DTEND;TZID=America/New_York:20260202T020000
DTSTAMP:20260419T133238
CREATED:20260105T073821Z
LAST-MODIFIED:20260105T073947Z
UID:10003713-1769976000-1769997600@things-to-lou.com
SUMMARY:The Louisville Gore Club
DESCRIPTION:FOR 13 YEARS every Sunday night at 8pm the ghoulish and the grave turn up to enjoy the best and worst in horror/sci-fi/ fantasy cinema! \n8pm-2am every Sunday night. \nThey created Louisville Krampus\, Gore Club Podcast and Louisville Gore Club Presents. \n\nAll Events are 21+ and IDs required for entry. \nEvery Sunday for 15 years! Starts at 8pm \nFree Admission\, Free Popcorn! \n***description from website \n  \nWeekly movie info on Instagram
URL:https://things-to-lou.com/events/the-louisville-gore-club/2026-02-01/
LOCATION:Planet Of The Tapes\, 640 Barret Ave\, Louisville\, KY\, 40204\, United States
CATEGORIES:Fandom,Film / Movies
END:VEVENT
BEGIN:VEVENT
DTSTART;TZID=America/New_York:20260208T200000
DTEND;TZID=America/New_York:20260209T020000
DTSTAMP:20260419T133238
CREATED:20260105T073821Z
LAST-MODIFIED:20260105T073947Z
UID:10003714-1770580800-1770602400@things-to-lou.com
SUMMARY:The Louisville Gore Club
DESCRIPTION:FOR 13 YEARS every Sunday night at 8pm the ghoulish and the grave turn up to enjoy the best and worst in horror/sci-fi/ fantasy cinema! \n8pm-2am every Sunday night. \nThey created Louisville Krampus\, Gore Club Podcast and Louisville Gore Club Presents. \n\nAll Events are 21+ and IDs required for entry. \nEvery Sunday for 15 years! Starts at 8pm \nFree Admission\, Free Popcorn! \n***description from website \n  \nWeekly movie info on Instagram
URL:https://things-to-lou.com/events/the-louisville-gore-club/2026-02-08/
LOCATION:Planet Of The Tapes\, 640 Barret Ave\, Louisville\, KY\, 40204\, United States
CATEGORIES:Fandom,Film / Movies
END:VEVENT
BEGIN:VEVENT
DTSTART;TZID=America/New_York:20260215T200000
DTEND;TZID=America/New_York:20260216T020000
DTSTAMP:20260419T133238
CREATED:20260105T073821Z
LAST-MODIFIED:20260105T073947Z
UID:10003715-1771185600-1771207200@things-to-lou.com
SUMMARY:The Louisville Gore Club
DESCRIPTION:FOR 13 YEARS every Sunday night at 8pm the ghoulish and the grave turn up to enjoy the best and worst in horror/sci-fi/ fantasy cinema! \n8pm-2am every Sunday night. \nThey created Louisville Krampus\, Gore Club Podcast and Louisville Gore Club Presents. \n\nAll Events are 21+ and IDs required for entry. \nEvery Sunday for 15 years! Starts at 8pm \nFree Admission\, Free Popcorn! \n***description from website \n  \nWeekly movie info on Instagram
URL:https://things-to-lou.com/events/the-louisville-gore-club/2026-02-15/
LOCATION:Planet Of The Tapes\, 640 Barret Ave\, Louisville\, KY\, 40204\, United States
CATEGORIES:Fandom,Film / Movies
END:VEVENT
BEGIN:VEVENT
DTSTART;TZID=America/New_York:20260222T200000
DTEND;TZID=America/New_York:20260223T020000
DTSTAMP:20260419T133238
CREATED:20260105T073821Z
LAST-MODIFIED:20260105T073947Z
UID:10003716-1771790400-1771812000@things-to-lou.com
SUMMARY:The Louisville Gore Club
DESCRIPTION:FOR 13 YEARS every Sunday night at 8pm the ghoulish and the grave turn up to enjoy the best and worst in horror/sci-fi/ fantasy cinema! \n8pm-2am every Sunday night. \nThey created Louisville Krampus\, Gore Club Podcast and Louisville Gore Club Presents. \n\nAll Events are 21+ and IDs required for entry. \nEvery Sunday for 15 years! Starts at 8pm \nFree Admission\, Free Popcorn! \n***description from website \n  \nWeekly movie info on Instagram
URL:https://things-to-lou.com/events/the-louisville-gore-club/2026-02-22/
LOCATION:Planet Of The Tapes\, 640 Barret Ave\, Louisville\, KY\, 40204\, United States
CATEGORIES:Fandom,Film / Movies
END:VEVENT
BEGIN:VEVENT
DTSTART;TZID=America/New_York:20260301T200000
DTEND;TZID=America/New_York:20260302T020000
DTSTAMP:20260419T133238
CREATED:20260105T073821Z
LAST-MODIFIED:20260105T073947Z
UID:10003717-1772395200-1772416800@things-to-lou.com
SUMMARY:The Louisville Gore Club
DESCRIPTION:FOR 13 YEARS every Sunday night at 8pm the ghoulish and the grave turn up to enjoy the best and worst in horror/sci-fi/ fantasy cinema! \n8pm-2am every Sunday night. \nThey created Louisville Krampus\, Gore Club Podcast and Louisville Gore Club Presents. \n\nAll Events are 21+ and IDs required for entry. \nEvery Sunday for 15 years! Starts at 8pm \nFree Admission\, Free Popcorn! \n***description from website \n  \nWeekly movie info on Instagram
URL:https://things-to-lou.com/events/the-louisville-gore-club/2026-03-01/
LOCATION:Planet Of The Tapes\, 640 Barret Ave\, Louisville\, KY\, 40204\, United States
CATEGORIES:Fandom,Film / Movies
END:VEVENT
BEGIN:VEVENT
DTSTART;TZID=America/New_York:20260308T200000
DTEND;TZID=America/New_York:20260309T020000
DTSTAMP:20260419T133238
CREATED:20260105T073821Z
LAST-MODIFIED:20260105T073947Z
UID:10003718-1773000000-1773021600@things-to-lou.com
SUMMARY:The Louisville Gore Club
DESCRIPTION:FOR 13 YEARS every Sunday night at 8pm the ghoulish and the grave turn up to enjoy the best and worst in horror/sci-fi/ fantasy cinema! \n8pm-2am every Sunday night. \nThey created Louisville Krampus\, Gore Club Podcast and Louisville Gore Club Presents. \n\nAll Events are 21+ and IDs required for entry. \nEvery Sunday for 15 years! Starts at 8pm \nFree Admission\, Free Popcorn! \n***description from website \n  \nWeekly movie info on Instagram
URL:https://things-to-lou.com/events/the-louisville-gore-club/2026-03-08/
LOCATION:Planet Of The Tapes\, 640 Barret Ave\, Louisville\, KY\, 40204\, United States
CATEGORIES:Fandom,Film / Movies
END:VEVENT
BEGIN:VEVENT
DTSTART;TZID=America/New_York:20260315T200000
DTEND;TZID=America/New_York:20260316T020000
DTSTAMP:20260419T133238
CREATED:20260105T073821Z
LAST-MODIFIED:20260105T073947Z
UID:10003719-1773604800-1773626400@things-to-lou.com
SUMMARY:The Louisville Gore Club
DESCRIPTION:FOR 13 YEARS every Sunday night at 8pm the ghoulish and the grave turn up to enjoy the best and worst in horror/sci-fi/ fantasy cinema! \n8pm-2am every Sunday night. \nThey created Louisville Krampus\, Gore Club Podcast and Louisville Gore Club Presents. \n\nAll Events are 21+ and IDs required for entry. \nEvery Sunday for 15 years! Starts at 8pm \nFree Admission\, Free Popcorn! \n***description from website \n  \nWeekly movie info on Instagram
URL:https://things-to-lou.com/events/the-louisville-gore-club/2026-03-15/
LOCATION:Planet Of The Tapes\, 640 Barret Ave\, Louisville\, KY\, 40204\, United States
CATEGORIES:Fandom,Film / Movies
END:VEVENT
BEGIN:VEVENT
DTSTART;TZID=America/New_York:20260322T200000
DTEND;TZID=America/New_York:20260323T020000
DTSTAMP:20260419T133238
CREATED:20260105T073821Z
LAST-MODIFIED:20260105T073947Z
UID:10003720-1774209600-1774231200@things-to-lou.com
SUMMARY:The Louisville Gore Club
DESCRIPTION:FOR 13 YEARS every Sunday night at 8pm the ghoulish and the grave turn up to enjoy the best and worst in horror/sci-fi/ fantasy cinema! \n8pm-2am every Sunday night. \nThey created Louisville Krampus\, Gore Club Podcast and Louisville Gore Club Presents. \n\nAll Events are 21+ and IDs required for entry. \nEvery Sunday for 15 years! Starts at 8pm \nFree Admission\, Free Popcorn! \n***description from website \n  \nWeekly movie info on Instagram
URL:https://things-to-lou.com/events/the-louisville-gore-club/2026-03-22/
LOCATION:Planet Of The Tapes\, 640 Barret Ave\, Louisville\, KY\, 40204\, United States
CATEGORIES:Fandom,Film / Movies
END:VEVENT
BEGIN:VEVENT
DTSTART;TZID=America/New_York:20260329T200000
DTEND;TZID=America/New_York:20260330T020000
DTSTAMP:20260419T133238
CREATED:20260105T073821Z
LAST-MODIFIED:20260105T073947Z
UID:10003721-1774814400-1774836000@things-to-lou.com
SUMMARY:The Louisville Gore Club
DESCRIPTION:FOR 13 YEARS every Sunday night at 8pm the ghoulish and the grave turn up to enjoy the best and worst in horror/sci-fi/ fantasy cinema! \n8pm-2am every Sunday night. \nThey created Louisville Krampus\, Gore Club Podcast and Louisville Gore Club Presents. \n\nAll Events are 21+ and IDs required for entry. \nEvery Sunday for 15 years! Starts at 8pm \nFree Admission\, Free Popcorn! \n***description from website \n  \nWeekly movie info on Instagram
URL:https://things-to-lou.com/events/the-louisville-gore-club/2026-03-29/
LOCATION:Planet Of The Tapes\, 640 Barret Ave\, Louisville\, KY\, 40204\, United States
CATEGORIES:Fandom,Film / Movies
END:VEVENT
BEGIN:VEVENT
DTSTART;TZID=America/New_York:20260404T190000
DTEND;TZID=America/New_York:20260404T220000
DTSTAMP:20260419T133238
CREATED:20260403T151133Z
LAST-MODIFIED:20260403T151133Z
UID:10004975-1775329200-1775340000@things-to-lou.com
SUMMARY:"Murder in Glitterball City" Screening + Q&A
DESCRIPTION:Time Slip Theatre is proud to host a FREE\, donation-based screening of the HBO documentary “Murder in Glitterball City.” \nWhile the subject matter is tragic\, the documentary also captures the character and spirit of Old Louisville\, our new home\, and the deep love this neighborhood shares for its history. Spots are limited\, so please RSVP here! \nJoin us for both Part 1 and Part 2 of the documentary followed by a live Q&A with author David Dominé\, Debra Richards Harlan\, and Angelique Stacy\, residents of Old Louisville who are featured in the film. \nNOTE: Murder in Glitterball City is rated TV-MA and is not intended for young audiences. Viewer discretion is advised. \n\n6:30: Doors open\n7:00: Part 1 Screening\n8:30: Live Q&A\n9:00: Part 2 Screening\n\n 
URL:https://things-to-lou.com/events/murder-in-glitterball-city-screening-qa/
LOCATION:Time Slip Theatre\, 100 W Ormsby Ave\, Louisville\, KY\, 40203\, United States
CATEGORIES:Film / Movies,Public Speakers
ATTACH;FMTTYPE=image/png:https://things-to-lou.com/wp-content/uploads/2026/04/screenshot-2026-03-26-200227-e1775218053487.png
END:VEVENT
END:VCALENDAR