BEGIN:VCALENDAR
VERSION:2.0
PRODID:-//Things To Lou - ECPv6.15.20//NONSGML v1.0//EN
CALSCALE:GREGORIAN
METHOD:PUBLISH
X-WR-CALNAME:Things To Lou
X-ORIGINAL-URL:https://things-to-lou.com
X-WR-CALDESC:Events for Things To Lou
REFRESH-INTERVAL;VALUE=DURATION:PT1H
X-Robots-Tag:noindex
X-PUBLISHED-TTL:PT1H
BEGIN:VTIMEZONE
TZID:America/New_York
BEGIN:DAYLIGHT
TZOFFSETFROM:-0500
TZOFFSETTO:-0400
TZNAME:EDT
DTSTART:20240310T070000
END:DAYLIGHT
BEGIN:STANDARD
TZOFFSETFROM:-0400
TZOFFSETTO:-0500
TZNAME:EST
DTSTART:20241103T060000
END:STANDARD
BEGIN:DAYLIGHT
TZOFFSETFROM:-0500
TZOFFSETTO:-0400
TZNAME:EDT
DTSTART:20250309T070000
END:DAYLIGHT
BEGIN:STANDARD
TZOFFSETFROM:-0400
TZOFFSETTO:-0500
TZNAME:EST
DTSTART:20251102T060000
END:STANDARD
BEGIN:DAYLIGHT
TZOFFSETFROM:-0500
TZOFFSETTO:-0400
TZNAME:EDT
DTSTART:20260308T070000
END:DAYLIGHT
BEGIN:STANDARD
TZOFFSETFROM:-0400
TZOFFSETTO:-0500
TZNAME:EST
DTSTART:20261101T060000
END:STANDARD
BEGIN:DAYLIGHT
TZOFFSETFROM:-0500
TZOFFSETTO:-0400
TZNAME:EDT
DTSTART:20270314T070000
END:DAYLIGHT
BEGIN:STANDARD
TZOFFSETFROM:-0400
TZOFFSETTO:-0500
TZNAME:EST
DTSTART:20271107T060000
END:STANDARD
END:VTIMEZONE
BEGIN:VEVENT
DTSTART;TZID=America/New_York:20251121T000000
DTEND;TZID=America/New_York:20260103T235959
DTSTAMP:20260425T202857
CREATED:20251107T023755Z
LAST-MODIFIED:20251107T023755Z
UID:10003159-1763683200-1767484799@things-to-lou.com
SUMMARY:Merry at the Marriott | pop-up holiday bar
DESCRIPTION:Event Name:\nMerry at the Marriott \nEvent Date:\nOpen daily from 3pm – 12am: Nov 21\, 2025 – Jan 3\, 2026 \nLocation:\n280 West Jefferson Street\, Louisville\, KY\, 40202 \nEvent Host:\nLouisville Marriott Downtown \nEvent Description / Other Info:\nThe Louisville Marriott Downtown is excited to announce their pop-up holiday bar\, Merry\, will officially open on Friday\, November 21st. \nFor the second year in a row\, the hotel lobby bar will transform into a winter wonderland with a special holiday menu to get into the holiday spirit and celebrate the season all month long. \nThe expanded menu this year features: \n\nThree brand new cocktails including Winter Wonderland\, Rum\, Rum Rudolph and the Merry Margarita.\nTwo brand new mocktails Cranmerry Cooler and Hot Apple Cider.\nTwo returning signature cocktails\, the Peppermint Espresso Martini and Gingerbread Old Fashioned.\n\nMerry will be open daily from 3pm-12am November 21st through January 3rd\, and is open to both hotel guests and the public. Come sip\, sparkle\, and celebrate the most wonderful time of the year at Merry!
URL:https://things-to-lou.com/events/merry-at-the-marriott-pop-up-holiday-bar/
LOCATION:Louisville Marriott Downtown\, 280 W. Jefferson St\, Louisville\, KY\, 40202\, United States
CATEGORIES:Food & Drink,Holiday Season,Mixology,Pop-Up Events
ATTACH;FMTTYPE=image/jpeg:https://things-to-lou.com/wp-content/uploads/2025/11/merry-at-the-marriott-1-e1762483984365.jpg
END:VEVENT
BEGIN:VEVENT
DTSTART;TZID=America/New_York:20251203T000000
DTEND;TZID=America/New_York:20260101T235959
DTSTAMP:20260425T202857
CREATED:20251201T193535Z
LAST-MODIFIED:20251201T193535Z
UID:10003255-1764720000-1767311999@things-to-lou.com
SUMMARY:Blitzen's Holiday Pop-Up Bar @ Omni (specific dates)
DESCRIPTION:Blitzen’s Holiday Pop-Up Bar | Blitzen’s | A pop-up Christmas bar in Louisville\, KY\n\nOmni Louisville’s seasonal holiday pop-up in Pin + Proof is now open!\n\nSanta’s Landing Suite | Santa’s Landing | Omni Louisville Hotel\n\nFully decked-out Christmas guest room!\n\nHot Chocolate Ritual | The Gilded Grinch – Located in Lobby\n\nOmni Louisville will be hosting a weekly Hot Chocolate Ritual featuring Gilded Grinch—a Dubai-chocolate–style hot cocoa.\n\n\nDates:\n\nWednesday\, December 3rd: 4p-6p\nFriday\, December 5th: 4p-6p\nThursday\, December 11th: 4p-6p\nSunday\, December 14th: 9:30am-11:30am\nThursday\, December 18th: 3pm-5pm\nSaturday\, December 20th: 3pm-5pm\nTuesday\, December 23rd: 3pm-5pm\nWednesday\, December 24th: 2pm-4pm\nWednesday\, December 31st: 3p-5p\nThursday\, January 1st: 9:30am-11:30am
URL:https://things-to-lou.com/events/blitzens-holiday-pop-up-bar-omni-specific-dates/
LOCATION:Omni Hotel Louisville\, 400 South 2nd Street Louisville\, Louisville\, KY\, 40202\, United States
CATEGORIES:Food & Drink,Holiday Season,Mixology,Pop-Up Events
END:VEVENT
BEGIN:VEVENT
DTSTART;TZID=America/New_York:20260117T130000
DTEND;TZID=America/New_York:20260117T150000
DTSTAMP:20260425T202857
CREATED:20260109T005716Z
LAST-MODIFIED:20260109T005716Z
UID:10003873-1768654800-1768662000@things-to-lou.com
SUMMARY:Shrub Class
DESCRIPTION:Learn about shrubs\, try an NA cocktail flight\, and make your own bottle of shrub to take home! \nSaturday\, January 17\, 2026 at 1:00 PM – 3:00 PM EST \n 
URL:https://things-to-lou.com/events/shrub-class/
LOCATION:Prova Spirits\, 917 E Liberty St\, Louisville\, KY\, 40204\, United States
CATEGORIES:Food & Drink,Mixology,Workshop
ORGANIZER;CN="Prova Spirits":MAILTO:sales@provaspirits.com
END:VEVENT
BEGIN:VEVENT
DTSTART;TZID=America/New_York:20260123T170000
DTEND;TZID=America/New_York:20260123T220000
DTSTAMP:20260425T202857
CREATED:20260121T042757Z
LAST-MODIFIED:20260121T042757Z
UID:10004054-1769187600-1769205600@things-to-lou.com
SUMMARY:Soft Summoning at Elixir | mocktail only event
DESCRIPTION:This Friday. After Dark. 🌙 \nA secret phrase\, a limited menu\, and your first look inside the Elixir by night. ✨ \nWhen prompted\, whisper: ✨ “The cup is empty” ✨ \nSpeak it true\, and the door will open.\nPass these words only to those you choose\, some things are not meant for everyone… \n(***this is a mocktail only event***) → \nFridays: Jan 23rd & 30th \n5:00pm- 10:00pm \n#elixirbarlou #oldlouisville #speakeasy #louisvilleky #witchownedbusiness \n***description from IG post \n\nStep into the mystical realm of Elixir\, a witchy speakeasy where classic cocktails are reinvented with a touch of wizardry. \nBehind every potion\, pour\, and secret whispered at Elixir\, you’ll find us- Kelsi\, Yani & Joe\, the mayhem behind the magic. Together\, we’ve brewed up a speakeasy hideaway where mystique\, mixology\, and a touch of mischief merge. \nWelcome to the coven. \nSip for a spell.
URL:https://things-to-lou.com/events/soft-summoning-at-elixir-mocktail-only-event/2026-01-23/
LOCATION:Elixir\, 414 W. Oak St\, Louisville\, KY\, 40203\, United States
CATEGORIES:Food & Drink,Mixology
ORGANIZER;CN="Elixir":MAILTO:thewitchesnextdoor.co@gmail.com
END:VEVENT
BEGIN:VEVENT
DTSTART;TZID=America/New_York:20260130T170000
DTEND;TZID=America/New_York:20260130T220000
DTSTAMP:20260425T202857
CREATED:20260121T042757Z
LAST-MODIFIED:20260121T042757Z
UID:10004055-1769792400-1769810400@things-to-lou.com
SUMMARY:Soft Summoning at Elixir | mocktail only event
DESCRIPTION:This Friday. After Dark. 🌙 \nA secret phrase\, a limited menu\, and your first look inside the Elixir by night. ✨ \nWhen prompted\, whisper: ✨ “The cup is empty” ✨ \nSpeak it true\, and the door will open.\nPass these words only to those you choose\, some things are not meant for everyone… \n(***this is a mocktail only event***) → \nFridays: Jan 23rd & 30th \n5:00pm- 10:00pm \n#elixirbarlou #oldlouisville #speakeasy #louisvilleky #witchownedbusiness \n***description from IG post \n\nStep into the mystical realm of Elixir\, a witchy speakeasy where classic cocktails are reinvented with a touch of wizardry. \nBehind every potion\, pour\, and secret whispered at Elixir\, you’ll find us- Kelsi\, Yani & Joe\, the mayhem behind the magic. Together\, we’ve brewed up a speakeasy hideaway where mystique\, mixology\, and a touch of mischief merge. \nWelcome to the coven. \nSip for a spell.
URL:https://things-to-lou.com/events/soft-summoning-at-elixir-mocktail-only-event/2026-01-30/
LOCATION:Elixir\, 414 W. Oak St\, Louisville\, KY\, 40203\, United States
CATEGORIES:Food & Drink,Mixology
ORGANIZER;CN="Elixir":MAILTO:thewitchesnextdoor.co@gmail.com
END:VEVENT
END:VCALENDAR