BEGIN:VCALENDAR
VERSION:2.0
PRODID:-//Things To Lou - ECPv6.15.20//NONSGML v1.0//EN
CALSCALE:GREGORIAN
METHOD:PUBLISH
X-ORIGINAL-URL:https://things-to-lou.com
X-WR-CALDESC:Events for Things To Lou
REFRESH-INTERVAL;VALUE=DURATION:PT1H
X-Robots-Tag:noindex
X-PUBLISHED-TTL:PT1H
BEGIN:VTIMEZONE
TZID:America/New_York
BEGIN:DAYLIGHT
TZOFFSETFROM:-0500
TZOFFSETTO:-0400
TZNAME:EDT
DTSTART:20250309T070000
END:DAYLIGHT
BEGIN:STANDARD
TZOFFSETFROM:-0400
TZOFFSETTO:-0500
TZNAME:EST
DTSTART:20251102T060000
END:STANDARD
BEGIN:DAYLIGHT
TZOFFSETFROM:-0500
TZOFFSETTO:-0400
TZNAME:EDT
DTSTART:20260308T070000
END:DAYLIGHT
BEGIN:STANDARD
TZOFFSETFROM:-0400
TZOFFSETTO:-0500
TZNAME:EST
DTSTART:20261101T060000
END:STANDARD
BEGIN:DAYLIGHT
TZOFFSETFROM:-0500
TZOFFSETTO:-0400
TZNAME:EDT
DTSTART:20270314T070000
END:DAYLIGHT
BEGIN:STANDARD
TZOFFSETFROM:-0400
TZOFFSETTO:-0500
TZNAME:EST
DTSTART:20271107T060000
END:STANDARD
END:VTIMEZONE
BEGIN:VEVENT
DTSTART;TZID=America/New_York:20260205T180000
DTEND;TZID=America/New_York:20260206T000000
DTSTAMP:20260423T193522
CREATED:20260128T185549Z
LAST-MODIFIED:20260128T185704Z
UID:10004197-1770314400-1770336000@things-to-lou.com
SUMMARY:After Work Kickback X Behind The Pink Door
DESCRIPTION:The Kickback returns for its first installment of 2026! Behind The Pink Door is running back-to-back weeks! Bringing you two beloved community vibes\, one epic night\, and infinite energy. An iconic moment in time that you don’t want to miss! \n✨ Celebrating Black history\, sapphic magic\, and love in ALL its forms. \n✨ Historic DJ lineup hitting the stage together for the first time ever — Black\, queer\, and excellence in full effect. \n✨ A safe\, elevated space where multi-intersectional identities are centered\, highlighted\, and uplifted. \n  \nExperience a cultural shift as we transform space where music\, energy\, and intention collide. \n#AfterWorkKickback #BehindThePinkDoor #BlackExcellence #SapphicMagic #NightlifeRemagined \n  \n***description from IG post \n\n\nCocktails by Sherri Jenkins\nFood by POCO Pop Ups\nHosted by TALA\nMusic by DJ Ayomi\, DJ DNasti\, & DJ Ibjamn
URL:https://things-to-lou.com/events/after-work-kickback-x-behind-the-pink-door-2/
LOCATION:The Whirling Tiger\, 1335 Story Ave \, KY 40206\, Louisville\, KY\, 40206\, United States
CATEGORIES:Food & Drink,LGBTQIA+,Mixology,Music,Nightlife
ATTACH;FMTTYPE=image/jpeg:https://things-to-lou.com/wp-content/uploads/2026/01/612207509_1347241044096959_4589668293982925383_n-e1769625742765.jpg
END:VEVENT
BEGIN:VEVENT
DTSTART;TZID=America/New_York:20260210T180000
DTEND;TZID=America/New_York:20260210T210000
DTSTAMP:20260423T193522
CREATED:20251216T155255Z
LAST-MODIFIED:20251216T155255Z
UID:10003456-1770746400-1770757200@things-to-lou.com
SUMMARY:Nulu "Clash of the Cocktails"
DESCRIPTION:Get ready to turn up the volume. Clash of the Cocktails returns in 2026 on Tuesday\, February 10th from 6–9pm at Galaxie with Ilegal Mezcal\, where every pour is an encore. \nWe’re bringing Louisville’s boldest bartenders to the main stage. Watch as they shake\, stir\, and shred their way through a rock-inspired cocktail battle. \nExpect wild pours\, signature riffs\, and drinks worthy of a stadium tour. \nGrab your backstage pass and join us for big flavors\, fierce competition\, and a night of unforgettable energy. \n\nYour ticket includes a complimentary Galaxie Margarita\, delicious small bites\, and the chance to sample every competitor’s cocktail. \nAdditional food and drinks will be available for purchase\, and don’t miss our on-site tattoo artists offering live tattoos throughout the event. \nWe’ll be naming both a Judge’s Choice and a People’s Choice winner\, each taking home $500. \nGuests get to cast their votes for the top cocktail\, and we’ll also award prizes for Second Place and Best Table Decorations. \nLet the cocktail battle begin. \n  \n***description from website \nGET TICKETS
URL:https://things-to-lou.com/events/nulu-clash-of-the-cocktails-3/
LOCATION:Galaxie\, 732 E Market St\, Louisville\, KY\, 40202\, United States
CATEGORIES:Food & Drink,Mixology
END:VEVENT
BEGIN:VEVENT
DTSTART;TZID=America/New_York:20260213T113000
DTEND;TZID=America/New_York:20260213T123000
DTSTAMP:20260423T193522
CREATED:20260123T012258Z
LAST-MODIFIED:20260123T012258Z
UID:10004106-1770982200-1770985800@things-to-lou.com
SUMMARY:Cupid's Crush: a valentine cocktail class | Bulleit Distilling
DESCRIPTION:For the love of bourbon – Book Now! This cocktail class sells out every year\, so we’re now offering three days to choose from. \nThis is a fun\, interactive class in a group setting\, perfect for a pair or a group of friends! \nFri 2/13\, Sat 2/14\, Sun 2/15 \nFor reservations\, visit our website. \n***Description from IG Post \n\nGrab your Valentine and add some spice to your cocktail skills! Learn proper tools\, techniques\, and flavor balance while you create a delicious rye whiskey cocktail. \nSweet treat charcuterie and take home gift included. \nAt a glance \n\n1 hour\n2 – 10 Guests per booking\nFeb 13 – 11:30am\, 2:30pm\nFeb 14 – 2:30pm\nFeb 15 – 2:30pm\n\n 
URL:https://things-to-lou.com/events/cupids-crush-a-valentine-cocktail-class-bulleit-distilling/2026-02-13/1/
LOCATION:Bulleit Distilling Co Visitor Center\, 3464 Benson Pike\, Shelbyville\, KY\, 40065\, United States
CATEGORIES:Bourbon,Mixology,Workshop
END:VEVENT
BEGIN:VEVENT
DTSTART;TZID=America/New_York:20260213T143000
DTEND;TZID=America/New_York:20260213T153000
DTSTAMP:20260423T193522
CREATED:20260123T012258Z
LAST-MODIFIED:20260123T012258Z
UID:10004107-1770993000-1770996600@things-to-lou.com
SUMMARY:Cupid's Crush: a valentine cocktail class | Bulleit Distilling
DESCRIPTION:For the love of bourbon – Book Now! This cocktail class sells out every year\, so we’re now offering three days to choose from. \nThis is a fun\, interactive class in a group setting\, perfect for a pair or a group of friends! \nFri 2/13\, Sat 2/14\, Sun 2/15 \nFor reservations\, visit our website. \n***Description from IG Post \n\nGrab your Valentine and add some spice to your cocktail skills! Learn proper tools\, techniques\, and flavor balance while you create a delicious rye whiskey cocktail. \nSweet treat charcuterie and take home gift included. \nAt a glance \n\n1 hour\n2 – 10 Guests per booking\nFeb 13 – 11:30am\, 2:30pm\nFeb 14 – 2:30pm\nFeb 15 – 2:30pm\n\n 
URL:https://things-to-lou.com/events/cupids-crush-a-valentine-cocktail-class-bulleit-distilling/2026-02-13/2/
LOCATION:Bulleit Distilling Co Visitor Center\, 3464 Benson Pike\, Shelbyville\, KY\, 40065\, United States
CATEGORIES:Bourbon,Mixology,Workshop
END:VEVENT
BEGIN:VEVENT
DTSTART;TZID=America/New_York:20260214T143000
DTEND;TZID=America/New_York:20260214T153000
DTSTAMP:20260423T193522
CREATED:20260123T012258Z
LAST-MODIFIED:20260123T012258Z
UID:10004108-1771079400-1771083000@things-to-lou.com
SUMMARY:Cupid's Crush: a valentine cocktail class | Bulleit Distilling
DESCRIPTION:For the love of bourbon – Book Now! This cocktail class sells out every year\, so we’re now offering three days to choose from. \nThis is a fun\, interactive class in a group setting\, perfect for a pair or a group of friends! \nFri 2/13\, Sat 2/14\, Sun 2/15 \nFor reservations\, visit our website. \n***Description from IG Post \n\nGrab your Valentine and add some spice to your cocktail skills! Learn proper tools\, techniques\, and flavor balance while you create a delicious rye whiskey cocktail. \nSweet treat charcuterie and take home gift included. \nAt a glance \n\n1 hour\n2 – 10 Guests per booking\nFeb 13 – 11:30am\, 2:30pm\nFeb 14 – 2:30pm\nFeb 15 – 2:30pm\n\n 
URL:https://things-to-lou.com/events/cupids-crush-a-valentine-cocktail-class-bulleit-distilling/2026-02-14/
LOCATION:Bulleit Distilling Co Visitor Center\, 3464 Benson Pike\, Shelbyville\, KY\, 40065\, United States
CATEGORIES:Bourbon,Mixology,Workshop
END:VEVENT
BEGIN:VEVENT
DTSTART;TZID=America/New_York:20260214T180000
DTEND;TZID=America/New_York:20260214T220000
DTSTAMP:20260423T193522
CREATED:20260128T184733Z
LAST-MODIFIED:20260128T184733Z
UID:10004196-1771092000-1771106400@things-to-lou.com
SUMMARY:After Work\, After Words: A Love Jones for the Heart\, Mind and Muse
DESCRIPTION:After Work Kickback & Robin G. present: After Work\, After Words! \nJoin internationally award-winning wordsmith Robin G. and master mixologist Sherri Jenkins for an unforgettable Valentine’s Day experience where word and flavor collide. \nHonoring love in all its forms\, this immersive evening is a multisensory journey through language\, sound\, and taste—using art as advocacy and creative expression as a force for mental wellness and wellbeing. \nYour ticket includes: \n\na welcome cocktail\nsmall bite\naccess to immersive art installations\nmusical entertainment\n\nSet within an elevated speakeasy atmosphere—where creativity lingers and conversation flows. \nAdditional signature cocktails will be available for purchase. \nProudly sponsored by @heavenhillbrands \n🎟️ Find the ticket link in bio or HERE \n***Description from IG post
URL:https://things-to-lou.com/events/after-work-after-words-a-love-jones-for-the-heart-mind-and-muse/
LOCATION:Hereafter (under The Misfit)\, 119 S 7th St\, Louisville\, KY\, 40202\, United States
CATEGORIES:Food & Drink,Mixology,Public Speakers
ATTACH;FMTTYPE=image/jpeg:https://things-to-lou.com/wp-content/uploads/2026/01/618597205_1349608176919130_7438127438543748568_n-e1769625734154.jpg
END:VEVENT
BEGIN:VEVENT
DTSTART;TZID=America/New_York:20260215T143000
DTEND;TZID=America/New_York:20260215T153000
DTSTAMP:20260423T193522
CREATED:20260123T012258Z
LAST-MODIFIED:20260123T012258Z
UID:10004109-1771165800-1771169400@things-to-lou.com
SUMMARY:Cupid's Crush: a valentine cocktail class | Bulleit Distilling
DESCRIPTION:For the love of bourbon – Book Now! This cocktail class sells out every year\, so we’re now offering three days to choose from. \nThis is a fun\, interactive class in a group setting\, perfect for a pair or a group of friends! \nFri 2/13\, Sat 2/14\, Sun 2/15 \nFor reservations\, visit our website. \n***Description from IG Post \n\nGrab your Valentine and add some spice to your cocktail skills! Learn proper tools\, techniques\, and flavor balance while you create a delicious rye whiskey cocktail. \nSweet treat charcuterie and take home gift included. \nAt a glance \n\n1 hour\n2 – 10 Guests per booking\nFeb 13 – 11:30am\, 2:30pm\nFeb 14 – 2:30pm\nFeb 15 – 2:30pm\n\n 
URL:https://things-to-lou.com/events/cupids-crush-a-valentine-cocktail-class-bulleit-distilling/2026-02-15/
LOCATION:Bulleit Distilling Co Visitor Center\, 3464 Benson Pike\, Shelbyville\, KY\, 40065\, United States
CATEGORIES:Bourbon,Mixology,Workshop
END:VEVENT
END:VCALENDAR