BEGIN:VCALENDAR
VERSION:2.0
PRODID:-//Things To Lou - ECPv6.15.20//NONSGML v1.0//EN
CALSCALE:GREGORIAN
METHOD:PUBLISH
X-WR-CALNAME:Things To Lou
X-ORIGINAL-URL:https://things-to-lou.com
X-WR-CALDESC:Events for Things To Lou
REFRESH-INTERVAL;VALUE=DURATION:PT1H
X-Robots-Tag:noindex
X-PUBLISHED-TTL:PT1H
BEGIN:VTIMEZONE
TZID:America/New_York
BEGIN:DAYLIGHT
TZOFFSETFROM:-0500
TZOFFSETTO:-0400
TZNAME:EDT
DTSTART:20240310T070000
END:DAYLIGHT
BEGIN:STANDARD
TZOFFSETFROM:-0400
TZOFFSETTO:-0500
TZNAME:EST
DTSTART:20241103T060000
END:STANDARD
BEGIN:DAYLIGHT
TZOFFSETFROM:-0500
TZOFFSETTO:-0400
TZNAME:EDT
DTSTART:20250309T070000
END:DAYLIGHT
BEGIN:STANDARD
TZOFFSETFROM:-0400
TZOFFSETTO:-0500
TZNAME:EST
DTSTART:20251102T060000
END:STANDARD
BEGIN:DAYLIGHT
TZOFFSETFROM:-0500
TZOFFSETTO:-0400
TZNAME:EDT
DTSTART:20260308T070000
END:DAYLIGHT
BEGIN:STANDARD
TZOFFSETFROM:-0400
TZOFFSETTO:-0500
TZNAME:EST
DTSTART:20261101T060000
END:STANDARD
BEGIN:DAYLIGHT
TZOFFSETFROM:-0500
TZOFFSETTO:-0400
TZNAME:EDT
DTSTART:20270314T070000
END:DAYLIGHT
BEGIN:STANDARD
TZOFFSETFROM:-0400
TZOFFSETTO:-0500
TZNAME:EST
DTSTART:20271107T060000
END:STANDARD
END:VTIMEZONE
BEGIN:VEVENT
DTSTART;TZID=America/New_York:20251121T000000
DTEND;TZID=America/New_York:20260103T235959
DTSTAMP:20260424T013106
CREATED:20251107T023755Z
LAST-MODIFIED:20251107T023755Z
UID:10003159-1763683200-1767484799@things-to-lou.com
SUMMARY:Merry at the Marriott | pop-up holiday bar
DESCRIPTION:Event Name:\nMerry at the Marriott \nEvent Date:\nOpen daily from 3pm – 12am: Nov 21\, 2025 – Jan 3\, 2026 \nLocation:\n280 West Jefferson Street\, Louisville\, KY\, 40202 \nEvent Host:\nLouisville Marriott Downtown \nEvent Description / Other Info:\nThe Louisville Marriott Downtown is excited to announce their pop-up holiday bar\, Merry\, will officially open on Friday\, November 21st. \nFor the second year in a row\, the hotel lobby bar will transform into a winter wonderland with a special holiday menu to get into the holiday spirit and celebrate the season all month long. \nThe expanded menu this year features: \n\nThree brand new cocktails including Winter Wonderland\, Rum\, Rum Rudolph and the Merry Margarita.\nTwo brand new mocktails Cranmerry Cooler and Hot Apple Cider.\nTwo returning signature cocktails\, the Peppermint Espresso Martini and Gingerbread Old Fashioned.\n\nMerry will be open daily from 3pm-12am November 21st through January 3rd\, and is open to both hotel guests and the public. Come sip\, sparkle\, and celebrate the most wonderful time of the year at Merry!
URL:https://things-to-lou.com/events/merry-at-the-marriott-pop-up-holiday-bar/
LOCATION:Louisville Marriott Downtown\, 280 W. Jefferson St\, Louisville\, KY\, 40202\, United States
CATEGORIES:Food & Drink,Holiday Season,Mixology,Pop-Up Events
ATTACH;FMTTYPE=image/jpeg:https://things-to-lou.com/wp-content/uploads/2025/11/merry-at-the-marriott-1-e1762483984365.jpg
END:VEVENT
END:VCALENDAR