BEGIN:VCALENDAR
VERSION:2.0
PRODID:-//Things To Lou - ECPv6.15.20//NONSGML v1.0//EN
CALSCALE:GREGORIAN
METHOD:PUBLISH
X-WR-CALNAME:Things To Lou
X-ORIGINAL-URL:https://things-to-lou.com
X-WR-CALDESC:Events for Things To Lou
REFRESH-INTERVAL;VALUE=DURATION:PT1H
X-Robots-Tag:noindex
X-PUBLISHED-TTL:PT1H
BEGIN:VTIMEZONE
TZID:America/New_York
BEGIN:DAYLIGHT
TZOFFSETFROM:-0500
TZOFFSETTO:-0400
TZNAME:EDT
DTSTART:20230312T070000
END:DAYLIGHT
BEGIN:STANDARD
TZOFFSETFROM:-0400
TZOFFSETTO:-0500
TZNAME:EST
DTSTART:20231105T060000
END:STANDARD
BEGIN:DAYLIGHT
TZOFFSETFROM:-0500
TZOFFSETTO:-0400
TZNAME:EDT
DTSTART:20240310T070000
END:DAYLIGHT
BEGIN:STANDARD
TZOFFSETFROM:-0400
TZOFFSETTO:-0500
TZNAME:EST
DTSTART:20241103T060000
END:STANDARD
BEGIN:DAYLIGHT
TZOFFSETFROM:-0500
TZOFFSETTO:-0400
TZNAME:EDT
DTSTART:20250309T070000
END:DAYLIGHT
BEGIN:STANDARD
TZOFFSETFROM:-0400
TZOFFSETTO:-0500
TZNAME:EST
DTSTART:20251102T060000
END:STANDARD
END:VTIMEZONE
BEGIN:VEVENT
DTSTART;TZID=America/New_York:20241011T000000
DTEND;TZID=America/New_York:20241012T235959
DTSTAMP:20260422T185621
CREATED:20240917T132811Z
LAST-MODIFIED:20240917T132839Z
UID:10000744-1728604800-1728777599@things-to-lou.com
SUMMARY:Goatman Festival: Louisville's only cryptid festival celebrating monsters and folklore
DESCRIPTION:The Midwest’s premier cryptid and monster event taking place at the home of the legendary Pope Lick Monster. Enjoy expert cryptozoology celebrity meet and greets\, seminars\, special tours\, vendors\, movies\, music\, and so much more. There is even a haunted attraction featuring the legendary Pope Lick Monster! This is a cryptid event unlike any other you will find and it is only in Kentucky. \nGENERAL ADMISSION: FREE!\nPARKING: FREE! \n\nGuests & Entertainment \nRon Schildknecht\nDirector\, Author \nTobias Wayland\nMothman Expert\, Author \nJ. Nathan Couch\nGoatman Expert\, Author \nGeraldine Stith\nHopkinsville Goblin Expert \nMichael W. Cook\nBigfoot Expert \nWhiskey Bent Valley Boys\nLive Music\, Oct 12 \nThe Descent\nMovie\, Oct 11 \nAntlers\nMovie\, Oct 12 \n\nAttractions: \nTrackless Train Rides \nGhosts & Monsters: paranormal bus tour \nEscape Goatman \nFood & art vendors\, and more! \n\nFRIDAY\, OCTOBER 11 \n7:00PM-11:00PM | ATTRACTIONS\, FOOD & VENDORS\n7:00PM | JARED HOWELL FREE MAGIC SHOW\n8:00PM | MOVIE: LEGEND OF THE POPE LICK MONSTER\n8:30PM | MOVIE: THE DESCENT \nSATURDAY\, OCTOBER 12 \n9:00AM-3:00PM | GHOSTS & MONSTERS BUS TOUR\n3:00PM-11:00PM | ATTRACTIONS\, FOOD & VENDORS\n3:30PM-4:15PM | FREE SEMINAR: GERALDINE STITH\n4:30PM-5:15PM | FREE SEMINAR: MICHAEL W. COOK\n5:30PM-6:15PM | FREE SEMINAR: J. NATHAN COUCH\n6:30PM-7:15PM | FREE SEMINAR: TOBIAS WAYLAND\n6:00PM-8:00PM | MUSIC: WHISKEY BENT VALLEY BOYS\n8:00PM | LIVE DIRECTOR COMMENTARY OF “LEGEND OF THE POPE LICK MONSTER”\n8:30PM | MOVIE: ANTLERS \nKENTUCKY CRYPTIDS & MONSTERS\nThe Goatman Festival is Louisville’s only cryptid festival celebrating monsters and folklore from around Kentucky and BEYOND. Of course\, it’s hard not to enjoy a bit of folklore without also exploring the paranormal!
URL:https://things-to-lou.com/events/goatman-festival-louisvilles-only-cryptid-festival-celebrating-monsters-and-folklore/
LOCATION:KY
CATEGORIES:Block Party / Community Festival,Film / Movies,Music
END:VEVENT
BEGIN:VEVENT
DTSTART;TZID=America/New_York:20241011T190000
DTEND;TZID=America/New_York:20241011T220000
DTSTAMP:20260422T185621
CREATED:20240916T211338Z
LAST-MODIFIED:20240916T211338Z
UID:10000736-1728673200-1728684000@things-to-lou.com
SUMMARY:UofL Women4Women presents "The Barn Bash"
DESCRIPTION:Event Name:\nThe Barn Bash \nEvent Date:\n2024-10-11 \nWebsite / Ticket Link:\nhttps://linktr.ee/UofLBarnBash \nLocation:\n2011 South Brook Street Louisville\, KY 40208 \nEvent Host:\nWomen4Women \nEvent Description / Other Info:\nJoin us at the U of L’s Red Barn for an evening filled with live music\, Chick-fil-A\, and good vibes! The Barn Bash is a way for us to help raise funds for Sycamore Farm\, a Louisville nonprofit working to help victims of sex trafficking. \nThere will be giveaways\, and you will be able to purchase items with 100% going back to help sex trafficking victims. Bring a friend; bring all your friends\, and party with a purpose! Don’t miss out on this fantastic event!
URL:https://things-to-lou.com/events/uofl-women4women-presents-the-barn-bash/
LOCATION:George J. Howe Red Barn\, 2011 S. Brook Street\, Louisville\, KY\, 40208\, United States
CATEGORIES:Charity Fundraiser,Dance,Music
END:VEVENT
BEGIN:VEVENT
DTSTART;TZID=America/New_York:20241011T210000
DTEND;TZID=America/New_York:20241011T230000
DTSTAMP:20260422T185621
CREATED:20241011T140929Z
LAST-MODIFIED:20241011T140929Z
UID:10000876-1728680400-1728687600@things-to-lou.com
SUMMARY:Emo Nite @ Headliners Louisville w/ Will Pugh of Cartel
DESCRIPTION:We are not a band. We are not DJ’s. We throw parties for the music we love. \nEmo Nite at Headliners Louisville with Will Pugh of Cartel\nAges 21 and up\nFriday\, October 11\nDoors: 9pm // Show: 9pm\n$16 \n$1 from every ticket sold will be donated to Living The Dream Foundation.\n$16 in advance. $16 day of show. \nThis is a 21+ event.\nShow starts at 9pm. \nLimited accessible seating available upon request at the door. Please arrive early if you require assistance and we will attempt to accommodate you as best as we can. \n  \n***Description from website
URL:https://things-to-lou.com/events/emo-nite-headliners-louisville-w-will-pugh-of-cartel/
LOCATION:Headliners Music Hall\, 1386 Lexington Road\, Louisville\, KY\, 40206\, United States
CATEGORIES:Music,Pop-Up Events
ORGANIZER;CN="Emo Nite":MAILTO:info@emonite.com
END:VEVENT
END:VCALENDAR