BEGIN:VCALENDAR
VERSION:2.0
PRODID:-//Things To Lou - ECPv6.15.20//NONSGML v1.0//EN
CALSCALE:GREGORIAN
METHOD:PUBLISH
X-ORIGINAL-URL:https://things-to-lou.com
X-WR-CALDESC:Events for Things To Lou
REFRESH-INTERVAL;VALUE=DURATION:PT1H
X-Robots-Tag:noindex
X-PUBLISHED-TTL:PT1H
BEGIN:VTIMEZONE
TZID:America/New_York
BEGIN:DAYLIGHT
TZOFFSETFROM:-0500
TZOFFSETTO:-0400
TZNAME:EDT
DTSTART:20230312T070000
END:DAYLIGHT
BEGIN:STANDARD
TZOFFSETFROM:-0400
TZOFFSETTO:-0500
TZNAME:EST
DTSTART:20231105T060000
END:STANDARD
BEGIN:DAYLIGHT
TZOFFSETFROM:-0500
TZOFFSETTO:-0400
TZNAME:EDT
DTSTART:20240310T070000
END:DAYLIGHT
BEGIN:STANDARD
TZOFFSETFROM:-0400
TZOFFSETTO:-0500
TZNAME:EST
DTSTART:20241103T060000
END:STANDARD
BEGIN:DAYLIGHT
TZOFFSETFROM:-0500
TZOFFSETTO:-0400
TZNAME:EDT
DTSTART:20250309T070000
END:DAYLIGHT
BEGIN:STANDARD
TZOFFSETFROM:-0400
TZOFFSETTO:-0500
TZNAME:EST
DTSTART:20251102T060000
END:STANDARD
END:VTIMEZONE
BEGIN:VEVENT
DTSTART;TZID=America/New_York:20241011T000000
DTEND;TZID=America/New_York:20241012T235959
DTSTAMP:20260423T035820
CREATED:20240917T132811Z
LAST-MODIFIED:20240917T132839Z
UID:10000744-1728604800-1728777599@things-to-lou.com
SUMMARY:Goatman Festival: Louisville's only cryptid festival celebrating monsters and folklore
DESCRIPTION:The Midwest’s premier cryptid and monster event taking place at the home of the legendary Pope Lick Monster. Enjoy expert cryptozoology celebrity meet and greets\, seminars\, special tours\, vendors\, movies\, music\, and so much more. There is even a haunted attraction featuring the legendary Pope Lick Monster! This is a cryptid event unlike any other you will find and it is only in Kentucky. \nGENERAL ADMISSION: FREE!\nPARKING: FREE! \n\nGuests & Entertainment \nRon Schildknecht\nDirector\, Author \nTobias Wayland\nMothman Expert\, Author \nJ. Nathan Couch\nGoatman Expert\, Author \nGeraldine Stith\nHopkinsville Goblin Expert \nMichael W. Cook\nBigfoot Expert \nWhiskey Bent Valley Boys\nLive Music\, Oct 12 \nThe Descent\nMovie\, Oct 11 \nAntlers\nMovie\, Oct 12 \n\nAttractions: \nTrackless Train Rides \nGhosts & Monsters: paranormal bus tour \nEscape Goatman \nFood & art vendors\, and more! \n\nFRIDAY\, OCTOBER 11 \n7:00PM-11:00PM | ATTRACTIONS\, FOOD & VENDORS\n7:00PM | JARED HOWELL FREE MAGIC SHOW\n8:00PM | MOVIE: LEGEND OF THE POPE LICK MONSTER\n8:30PM | MOVIE: THE DESCENT \nSATURDAY\, OCTOBER 12 \n9:00AM-3:00PM | GHOSTS & MONSTERS BUS TOUR\n3:00PM-11:00PM | ATTRACTIONS\, FOOD & VENDORS\n3:30PM-4:15PM | FREE SEMINAR: GERALDINE STITH\n4:30PM-5:15PM | FREE SEMINAR: MICHAEL W. COOK\n5:30PM-6:15PM | FREE SEMINAR: J. NATHAN COUCH\n6:30PM-7:15PM | FREE SEMINAR: TOBIAS WAYLAND\n6:00PM-8:00PM | MUSIC: WHISKEY BENT VALLEY BOYS\n8:00PM | LIVE DIRECTOR COMMENTARY OF “LEGEND OF THE POPE LICK MONSTER”\n8:30PM | MOVIE: ANTLERS \nKENTUCKY CRYPTIDS & MONSTERS\nThe Goatman Festival is Louisville’s only cryptid festival celebrating monsters and folklore from around Kentucky and BEYOND. Of course\, it’s hard not to enjoy a bit of folklore without also exploring the paranormal!
URL:https://things-to-lou.com/events/goatman-festival-louisvilles-only-cryptid-festival-celebrating-monsters-and-folklore/
LOCATION:KY
CATEGORIES:Block Party / Community Festival,Film / Movies,Music
END:VEVENT
BEGIN:VEVENT
DTSTART;TZID=America/New_York:20241012T000000
DTEND;TZID=America/New_York:20241013T235959
DTSTAMP:20260423T035820
CREATED:20241011T161603Z
LAST-MODIFIED:20241011T161603Z
UID:10000879-1728691200-1728863999@things-to-lou.com
SUMMARY:Ramen Fest @ Wilder Park
DESCRIPTION:Ramen Fest is back and better than ever with Part II! 🕹 \nOn October 12th & 13th\, we have killer lineups with music from 3-9pm! 👾 FREE ADMISSION 👾 \n🤡 **October 12th:** 🤡\nBoa Boys\nMike Bandana\nSkiptracer\nMil Mingus\nShloob\nGrandma’s Boys\nGaia \n👽 **October 13th:** 👽\nAnemic Royalty\nShrudd\nEcho Project\nRich Rat\nSave the Kids\nScrooge Mandella\nSharp Stars \nWe also have 2 killer preshow events planned for you\, starting at 3 PM with @motelsardine & @iswallowedmyteeth! 💃🖼 \nWe are working with local event organizers @kxdevents\, @wanderingtreehouse\, @nocomply502\, @doublesevenrecords\, @my.scene.is.beautiful\, @wiz.tits\, @louisvillezine\, @prono1a\, and @camp.spaceman to bring you the best experience possible! 🥳🥳 \nThank you to our sponsors @lrs102thewalrus\, @centerforneighborhoods\, and @carvers.usa for making these events possible! \nOur vendor village will be back and better than ever with over 34 vendors! 🤝 \nSpecial thanks to Betsy Ruhe\, @councilwomanchappell\, and @wilderparklouisville for making this event possible again! 💜 \n  \n**Description from Instagram post \n\n  \nRamen Fest 2024 is this weekend!\nWe’re super excited to bring everyone back to @wilderparklouisville. We just wanted to provide some more information for both days leading up to Ramen Fest. \n**BRING A COSTUME!!!** (preferably a clown or an alien) \nPlease carpool! Parking is very limited\, and the park will fill up fast. We want to have an amazing time\, but we also want to be respectful to the neighborhood and the community that lives here. (No parking on Second Street median.) \nPlease be respectful to the park and to others around you. \nWe encourage everyone to buy from your local artists at this festival. Support your local artists and musicians! Everyone vending and performing at this festival is a local artist or musician\, and buying from and supporting local vendors is the best way to support the local community. \nOur sponsors have all created unique activities and events within the festival. Community has been the heart of this event and our shows since the beginning\, so we encourage you to explore everything from @wiz.tits\, @my.scene.is.beautiful\, @kxdevents\, @wanderingtreehouse\, @prono1a\, @centerforneighborhoods \, @doublesevenrecords\, and @carvers.usa. \nWe will have food vendors for everyone. One food vendor we partnered with is @renshoku_ramen\, who recently experienced a fire. Local businesses need community support\, so if you want to help a local business recover\, consider buying from them this weekend. \n@wilderparklouisville is the biggest supporter of Ramen Fest by far. Believe it or not\, this event started with a house show. The neighbors showed up not only to support but also to party alongside each other for music and community. Donating to Wilder Park means donating to this event. \nFor this year’s Ramen Fest\, Wilder Park will have a booth explaining the community events they conduct for children and the neighborhood\, as well as handing out packs of ramen free of charge. Any leftover ramen will be donated. \nLast but not least\, thank you so much @robmolou all of this started because of this man and @centerforneighborhoods and wouldn’t be possible without them. \n  \n***Description from Instagram post
URL:https://things-to-lou.com/events/ramen-fest-wilder-park/
LOCATION:Huston Quin Park\, 4105 S 1st St\, Louisville\, KY\, 40214\, United States
CATEGORIES:Block Party / Community Festival,Food & Drink,Music
END:VEVENT
BEGIN:VEVENT
DTSTART;TZID=America/New_York:20241012T170000
DTEND;TZID=America/New_York:20241012T233000
DTSTAMP:20260423T035820
CREATED:20240906T092738Z
LAST-MODIFIED:20240906T092738Z
UID:10000681-1728752400-1728775800@things-to-lou.com
SUMMARY:Louisville Experimental Music Nights\, #1
DESCRIPTION:Tickets:\n$10 cash at Guestroom Records in Louisville \nat the door or at Grady Goods in Louisville or online here: https://somewherecoldrecords.bandcamp.com/merch/ticket-for-louisville-experimental-music-nights-on-october-12-2024 \nA small fee will be charged with CC payments or online payments.\nAll tickets are physical\, so\, if you buy one online\, it will be shipped to you. \nLineup in no particular order (lineup subject to change): \n\nAutodealer (Los Angeles)\nAaron West\nThe Corrupting Sea\nClarksmithy\nTender Mercy\nDub and Hockets\nMae.K\nChoir Siren\n\nMore info about event here \n***Description from Facebook event: https://www.facebook.com/share/yS4bLBtmQX9y8afx/
URL:https://things-to-lou.com/events/louisville-experimental-music-nights-1/
LOCATION:Chapel of St. Philip Neri\, Old Louisville\, 236 Woodbine St\, Louisville\, KY\, 40208\, United States
CATEGORIES:Music
ORGANIZER;CN="Louisville Experimental Music Nights":MAILTO:Somewherecold16@gmail.com
END:VEVENT
BEGIN:VEVENT
DTSTART;TZID=America/New_York:20241012T190000
DTEND;TZID=America/New_York:20241012T220000
DTSTAMP:20260423T035820
CREATED:20240912T052839Z
LAST-MODIFIED:20240912T052839Z
UID:10000697-1728759600-1728770400@things-to-lou.com
SUMMARY:Jelly Roll @ KFC Yum! Center | with Warren Zeiders and Alexandra Kay
DESCRIPTION:Jelly Roll: Beautifully Broken Tour — with Warren Zeiders and Alexandra Kay \nEvent Details\nJelly Roll\, the powerhouse hip-hop sensation\, is bringing his Beautifully Broken Tour to the KFC Yum! Center on October 12 for a night of electrifying music and unforgettable performances. \nJelly Roll’s distinctive fusion of Southern rap\, country influences\, and emotionally charged lyrics has garnered him a global fanbase. Recognized for his dynamic stage presence and magnetic performances\, Jelly Roll promises to deliver an incredible show at the iconic KFC Yum! Center. \nTickets are on sale now on Ticketmaster! \n\nBag Policy \nBags no larger than 14″ x 14″ x 6″ will be allowed into the arena for events. \nAll bags are subject to search upon entering the arena. Backpacks of any kind\, including drawstring\, computer bags\, and camera bags are prohibited. Please plan accordingly to help facilitate a quick and efficient entry process. Please report suspicious bags to a KFC Yum! Center team member. \nMedical and parenting bags are permitted and subject to search. \nCashless Venue \nThe KFC Yum! Center is a cashless venue. All major debit and credit cards are accepted at concession and merchandise locations within the facility. Contactless transactions can also be made using Apple Pay\, Samsung Pay\, and Google Pay. \nMobile Ticketing \nWhen your event is Mobile only\, or you selected Mobile Entry at checkout – your mobile phone is your ticket. \nWe highly recommend fans with pre-download mobile to your phone’s wallet prior to arriving to the KFC Yum! Center to avoid delays upon entry. \nMore info on Mobile Entry can be found HERE. \nParking \nThe KFC Yum! Center has a convenient multi-level garage located under the facility operated by PARC. There are also many other parking options in the surrounding area including surface lots and street parking all within walking distance to the arena. \nPlan Your Visit \nMake your visit to Louisville an experience like no other city by enjoying the booming bourbon renaissance\, world-class hotels\, and renowned culinary scene. Click here for more info. \n  \n  \n***Description from KFC Yum! Center website
URL:https://things-to-lou.com/events/jelly-roll-kfc-yum-center-with-warren-zeiders-and-alexandra-kay/
LOCATION:KFC Yum! Center\, 1 Arena Plaza\, Louisville\, KY\, 40202\, United States
CATEGORIES:Music
END:VEVENT
BEGIN:VEVENT
DTSTART;TZID=America/New_York:20241012T190000
DTEND;TZID=America/New_York:20241012T220000
DTSTAMP:20260423T035820
CREATED:20241011T162203Z
LAST-MODIFIED:20241011T162203Z
UID:10000880-1728759600-1728770400@things-to-lou.com
SUMMARY:Anemic Royalty @ Zanzabar
DESCRIPTION:Anemic Royalty — All Ages show at Zanabar with Deady\, Big Fun & Xeon Xeon Xeon\nSaturday\, October 12\nDoors: 7pm // Show: 8pm\n$10\nZanzabar\nAnemic Royalty\nw/ Deady\, Big Fun & Xeon Xeon Xeon\n10/12/24 \nDoors 7pm | Show 8pm\nZanzabar\nLouisville\, KY \n  \n**Description from website
URL:https://things-to-lou.com/events/anemic-royalty-zanzabar/
LOCATION:Zanzabar\, 2100 S Preston St\, Louisville\, KY\, 40217\, United States
CATEGORIES:Music
END:VEVENT
END:VCALENDAR