BEGIN:VCALENDAR
VERSION:2.0
PRODID:-//Things To Lou - ECPv6.15.20//NONSGML v1.0//EN
CALSCALE:GREGORIAN
METHOD:PUBLISH
X-ORIGINAL-URL:https://things-to-lou.com
X-WR-CALDESC:Events for Things To Lou
REFRESH-INTERVAL;VALUE=DURATION:PT1H
X-Robots-Tag:noindex
X-PUBLISHED-TTL:PT1H
BEGIN:VTIMEZONE
TZID:America/New_York
BEGIN:DAYLIGHT
TZOFFSETFROM:-0500
TZOFFSETTO:-0400
TZNAME:EDT
DTSTART:20250309T070000
END:DAYLIGHT
BEGIN:STANDARD
TZOFFSETFROM:-0400
TZOFFSETTO:-0500
TZNAME:EST
DTSTART:20251102T060000
END:STANDARD
BEGIN:DAYLIGHT
TZOFFSETFROM:-0500
TZOFFSETTO:-0400
TZNAME:EDT
DTSTART:20260308T070000
END:DAYLIGHT
BEGIN:STANDARD
TZOFFSETFROM:-0400
TZOFFSETTO:-0500
TZNAME:EST
DTSTART:20261101T060000
END:STANDARD
BEGIN:DAYLIGHT
TZOFFSETFROM:-0500
TZOFFSETTO:-0400
TZNAME:EDT
DTSTART:20270314T070000
END:DAYLIGHT
BEGIN:STANDARD
TZOFFSETFROM:-0400
TZOFFSETTO:-0500
TZNAME:EST
DTSTART:20271107T060000
END:STANDARD
END:VTIMEZONE
BEGIN:VEVENT
DTSTART;TZID=America/New_York:20260425T193000
DTEND;TZID=America/New_York:20260426T000000
DTSTAMP:20260425T071245
CREATED:20260416T043223Z
LAST-MODIFIED:20260416T043223Z
UID:10005032-1777145400-1777161600@things-to-lou.com
SUMMARY:Halfway To Halloween
DESCRIPTION:Mag Bar and The Louisville Fashion Bugz present Halfway to Halloween. \nLove Halloween? We do too and we can’t wait until October so we’re bringing the party 6 months early. \nCostumes\, candy\, DJ’s and dancing. Wear a costume and have chance to win a cash prize! \n\n$10 entry\n18+\nDoors @7:30pm\nSpinning @ 8:30pm\nDJ Vamp3 @ 8:30\nJNC0CAT_SLAYER @ 9:30\nCostume Contest @ 10:00\nElii3 @ 10:30\nByPerfect @11:30\n\nFACEBOOK EVENT
URL:https://things-to-lou.com/events/halfway-to-halloween/
LOCATION:Mag Bar\, 1398 S 2nd St\, Louisville\, KY\, 40208\, United States
CATEGORIES:Music,Nightlife
ATTACH;FMTTYPE=image/jpeg:https://things-to-lou.com/wp-content/uploads/2026/04/img_5115-1-e1776314688594.jpeg
END:VEVENT
END:VCALENDAR