BEGIN:VCALENDAR
VERSION:2.0
PRODID:-//Things To Lou - ECPv6.15.20//NONSGML v1.0//EN
CALSCALE:GREGORIAN
METHOD:PUBLISH
X-ORIGINAL-URL:https://things-to-lou.com
X-WR-CALDESC:Events for Things To Lou
REFRESH-INTERVAL;VALUE=DURATION:PT1H
X-Robots-Tag:noindex
X-PUBLISHED-TTL:PT1H
BEGIN:VTIMEZONE
TZID:America/New_York
BEGIN:DAYLIGHT
TZOFFSETFROM:-0500
TZOFFSETTO:-0400
TZNAME:EDT
DTSTART:20230312T070000
END:DAYLIGHT
BEGIN:STANDARD
TZOFFSETFROM:-0400
TZOFFSETTO:-0500
TZNAME:EST
DTSTART:20231105T060000
END:STANDARD
BEGIN:DAYLIGHT
TZOFFSETFROM:-0500
TZOFFSETTO:-0400
TZNAME:EDT
DTSTART:20240310T070000
END:DAYLIGHT
BEGIN:STANDARD
TZOFFSETFROM:-0400
TZOFFSETTO:-0500
TZNAME:EST
DTSTART:20241103T060000
END:STANDARD
BEGIN:DAYLIGHT
TZOFFSETFROM:-0500
TZOFFSETTO:-0400
TZNAME:EDT
DTSTART:20250309T070000
END:DAYLIGHT
BEGIN:STANDARD
TZOFFSETFROM:-0400
TZOFFSETTO:-0500
TZNAME:EST
DTSTART:20251102T060000
END:STANDARD
END:VTIMEZONE
BEGIN:VEVENT
DTSTART;TZID=America/New_York:20241001T000000
DTEND;TZID=America/New_York:20241004T235959
DTSTAMP:20260420T174946
CREATED:20240920T012543Z
LAST-MODIFIED:20240920T021015Z
UID:10000758-1727740800-1728086399@things-to-lou.com
SUMMARY:Phantoms of Prohibition: Ghosts\, Cocktails\, & Bites Tour  (promo code!) (multiple dates)
DESCRIPTION:Discover Louisville’s Prohibition past on a haunted cocktail & food tour down Whiskey Row. \nBook your tour here!\n\nUse code “thingstolou5” to save 5%!\n  \nVenture out with us and explore the hidden stories of Louisville’s haunted past. As you eat and drink your way down Whiskey Row\, you’ll meet the resident ghosts of Louisville’s historic downtown\, trace the footsteps of bourbon magnates and mobsters\, see Al Capone’s secret getaway\, discover hidden speakeasies\, and learn the shocking truth about Prohibition. \n  \nWhat to Expect\nThis tour includes 4 stops for libations\, as well as an assortment of small bites. Here’s what else to expect: \nBourbon & Cocktails\nThis is a boozy\, 21+ tour\, y’all. \nAudio Headset​\nTo help you hear us from a distance. \nSmall Group\nOur tours max out at 12 people. \nWalking\n1-1.5 Miles. Wear comfy shoes! \nExplore Whiskey Row: \nDistilleries. Speakeasies. Saloons. In the mid-1800’s\, this stretch of Main Street was filled to the brim with bourbon barrels – which would soon be considered contraband. While this area nearly crumbled to disrepair\, today the historic facades house bourbon distilleries\, bars\, restaurants and hotels. \nWhere\nMeet at 1st and Washington St\, Louisville\, KY \nWhen​\nTuesdays – Fridays\, 5:00 and 5:30 PM \n 
URL:https://things-to-lou.com/events/phantoms-of-prohibition-ghosts-cocktails-bites-tour-promo-code-multiple-dates-5/
LOCATION:Whiskey Row
CATEGORIES:Food & Drink,PROMO CODE,Walking Tour / Food Tour
END:VEVENT
BEGIN:VEVENT
DTSTART;TZID=America/New_York:20241001T000000
DTEND;TZID=America/New_York:20241006T235959
DTSTAMP:20260420T174946
CREATED:20240920T025148Z
LAST-MODIFIED:20240920T035819Z
UID:10000785-1727740800-1728259199@things-to-lou.com
SUMMARY:Whispers on Whiskey Row: Murder\, Crime\, & Ghosts of Derby City (promo code!) (multiple dates)
DESCRIPTION:Discover Louisville’s Deepest\, darkest secrets. \nBook your tour here!\n\nUse code “thingstolou5” to save 5%!\n  \nStep into the shadows of the past on a haunting history tour through the heart of downtown Louisville. As the sun sets and the city’s vibrant façade fades\, you’ll uncover the sinister secrets and chilling tales that lurk behind the historic architecture & storied streets. \nOne part ghosts\, one part grisly history that is\, sadly\, entirely true\, this guided 1.5-hour walking tour through downtown Louisville unveils the deepest\, darkest corners of Louisville’s gruesome past. Wander through dimly lit alleyways behind bustling Whiskey Row and along the shores of the murky Ohio River\, where the echoes of bygone eras resound with tragic tales of the forlorn\, the oppressed\, the betrayed\, and the ruthless. \n\nDistance: 1.5 miles\nDuration: 1.5 hours\nStops: 1 bathroom stop. Drinks & snacks available for purchase.\nCapacity: 20 people max per tour\nTime: Evenings\, Tuesdays-Sundays\nAccessibility: Wheelchair friendly \n\nWhat’s This Tour All About?\nFrom a ghost that still haunts a glamorous hotel to the tragic riots of Bloody Monday\, you’ll trace the cursed footsteps of criminals\, mobsters\, bootleggers\, enslavers\, and murderers in the city streets they once roamed. \nLed by expert storytellers\, this immersive walking tour delves into the darker chapters of Louisville’s history. Our tour explores the sort of history only told in whispers\, from notorious criminals and bootleggers who once ran Louisville’s underworld to what lies beneath the quiet waters of the Ohio River – and the spirits whose souls never left. \nOver the course of two thrilling hours\, your guide will tell the tales of… \n\nCunning bootleggers who defied Prohibition\nSalacious tunnels beneath Whiskey Row\nFires\, floods\, and plagues that ripped through the city leaving a wake of destruction\nUnsolved murders and shocking scandals\nThe tragic riots of Bloody Monday
URL:https://things-to-lou.com/events/whispers-on-whiskey-row-murder-crime-ghosts-of-derby-city-3/
LOCATION:Downtown Louisville
CATEGORIES:PROMO CODE,Sober,Walking Tour / Food Tour
END:VEVENT
END:VCALENDAR