BEGIN:VCALENDAR
VERSION:2.0
PRODID:-//Things To Lou - ECPv6.15.20//NONSGML v1.0//EN
CALSCALE:GREGORIAN
METHOD:PUBLISH
X-WR-CALNAME:Things To Lou
X-ORIGINAL-URL:https://things-to-lou.com
X-WR-CALDESC:Events for Things To Lou
REFRESH-INTERVAL;VALUE=DURATION:PT1H
X-Robots-Tag:noindex
X-PUBLISHED-TTL:PT1H
BEGIN:VTIMEZONE
TZID:America/New_York
BEGIN:DAYLIGHT
TZOFFSETFROM:-0500
TZOFFSETTO:-0400
TZNAME:EDT
DTSTART:20240310T070000
END:DAYLIGHT
BEGIN:STANDARD
TZOFFSETFROM:-0400
TZOFFSETTO:-0500
TZNAME:EST
DTSTART:20241103T060000
END:STANDARD
BEGIN:DAYLIGHT
TZOFFSETFROM:-0500
TZOFFSETTO:-0400
TZNAME:EDT
DTSTART:20250309T070000
END:DAYLIGHT
BEGIN:STANDARD
TZOFFSETFROM:-0400
TZOFFSETTO:-0500
TZNAME:EST
DTSTART:20251102T060000
END:STANDARD
BEGIN:DAYLIGHT
TZOFFSETFROM:-0500
TZOFFSETTO:-0400
TZNAME:EDT
DTSTART:20260308T070000
END:DAYLIGHT
BEGIN:STANDARD
TZOFFSETFROM:-0400
TZOFFSETTO:-0500
TZNAME:EST
DTSTART:20261101T060000
END:STANDARD
END:VTIMEZONE
BEGIN:VEVENT
DTSTART;TZID=America/New_York:20251205T000000
DTEND;TZID=America/New_York:20251206T235959
DTSTAMP:20260423T235026
CREATED:20251202T073946Z
LAST-MODIFIED:20251202T073946Z
UID:10003272-1764892800-1765065599@things-to-lou.com
SUMMARY:Annual WinterFair! | fine art\, crafts\, handcrafted items
DESCRIPTION:On Dec 5 and 6\, we will be hosting our traditional WinterFair! \nOn Friday\, Dec. 5th 1-6pm & Sat. Dec. 6th 9-4pm (4936 Brownsboro Rd. Louisville\, KY 40222) \nHeld the first Friday & Saturday in December \nUncommon Gifts for Uncommon People\nWinterFair! began in 1991\, and has not missed a year of art and artists\, creativity\, imagination\, and excellence. \nWe present fine art and very fine crafts at affordable prices in time for the winter giving season. In the season of holiday sales\, WinterFair is not your granny’s church bazaar. \nWinterFair! presents over 70 artists in two church buildings (plus Bold & Cold artists outdoors!). \nYou’ll find all original handcrafted media including ceramics\, wood\, mixed media\, fiber\, photography\, sculpture\, glass\, jewelry and much more. Our artists will be glad to tell you about their creations! \n\nIn addition to all the superb artwork (of which there is soooo much!)\, WinterFair! includes: \n\nFood\, including vegetarian\, soups\, chili (with/without meat)\, giant juicy hotdogs\, soft drinks\, coffee and yummy homemade desserts\, along with a quiet café for resting and eating.\nArt raffle supporting a worthy local charity. Art items are donated by our generous artists\, and you just might take home the very piece you want!\nThe Roberta Marx Gallery is our entrance hallway and will display artwork by All Peoples members. Many of these artists will have their own WinterFair booths or will display more creations for sale in the Member Gift Shop. Our church attracts all kinds of creative people\, so the variety is amazing!\nThe Member Gallery Gift Shop Art work in the Gift Shop is made by All Peoples artists\, many of whom have art displayed in the Gallery. You’ll find a remarkable variety at reasonable prices. Sales from the gift shop support both the artists and All Peoples
URL:https://things-to-lou.com/events/annual-winterfair-fine-art-crafts-handcrafted-items/
LOCATION:ALL PEOPLES: a Unitarian Universalist Congregation\, 4936 Brownsboro Rd\, Louisville\, KY\, 40222\, United States
CATEGORIES:Art,Food & Drink,Market,Shopping
END:VEVENT
BEGIN:VEVENT
DTSTART;TZID=America/New_York:20251205T000000
DTEND;TZID=America/New_York:20251207T235959
DTSTAMP:20260423T235026
CREATED:20251202T074159Z
LAST-MODIFIED:20251202T074159Z
UID:10003273-1764892800-1765151999@things-to-lou.com
SUMMARY:Locust Grove Holiday Book Sale
DESCRIPTION:This season’s book show promises to be our most exciting yet! Unlike our usual holiday show\, this winter\, the entire auditorium will be transformed into a reader’s paradise\, filled wall to wall with books\, thanks to a remarkable recently donated collection. \nDiscover an exceptional selection of fine-quality volumes\, including beautiful bindings\, classic literature\, poetry\, cookbooks\, and children’s books\, alongside a delightful assortment of holiday-themed books perfect for gifting or cozy winter reading. \nWhether you’re a seasoned collector or simply love the feel of a good book in your hands\, this expanded Winter Book Show invites you to browse\, linger\, and let the right story find you. \nDecember 5 – December 7\n10am – 5pm \n***description from website
URL:https://things-to-lou.com/events/locust-grove-holiday-book-sale/
LOCATION:Locust Grove\, 561 Blankenbaker Ln\, Louisville\, KY\, 40207\, United States
CATEGORIES:Market,Shopping
END:VEVENT
BEGIN:VEVENT
DTSTART;TZID=America/New_York:20251205T180000
DTEND;TZID=America/New_York:20251206T210000
DTSTAMP:20260423T235026
CREATED:20250805T181524Z
LAST-MODIFIED:20251202T064440Z
UID:10002861-1764957600-1765054800@things-to-lou.com
SUMMARY:Preview Night: Made Market | Louisville Holiday Market 2025
DESCRIPTION:Holiday shoppers\, brace yourselves for an unforgettable day of festive fun! We’re returning to Mellwood’s premier event space with an even more spectacular lineup of artisans to spark your holiday spirit! \n\nWe really enjoyed the Louisville Holiday market last year! Check out this preview! \n\nFri\, Dec 5 – Holiday Preview Market\nYou’re invited to the exciting fourth annual collaboration between Made Market and Maker’s Mark at our Holiday Preview Market! \nJoin us on Friday December 5 from 6-9pm at Mellwood Art Center (1860 Mellwood Ave\, Louisville\, KY). \nPurchase tickets here \nWe have so many incredible elements going into this event:\n\nShop all your favorite makers early\, before doors open to the public.\nGourmet charcuterie box\nLive Screen Printing with the Maker’s Studio + free tote\nMaker’s Mark tasting experience\nCash bar\nYour choice of workshop with one of our expert makers (scroll down for descriptions)\n\n**While Made Market on Saturday is intentionally family friendly\, our Preview Night is exclusively 21 & older. \nWorkshops:\n\nCustom Cologne Blend\nSignature Candle Creation\nEvergreen Elegance\n\n\nSat\, Dec 6 – Louisville Holiday Market\nWe’re thrilled for you to join us for Made Market Louisville – Holiday 2025! \nHoliday shoppers\, brace yourselves for an unforgettable day of festive fun! We’re returning to Mellwood’s premier event space with an even more spectacular lineup of artisans to spark your holiday spirit! \nDiscover unique\, handcrafted treasures from over 90 talented makers\, indulge in delicious food and drinks\, and immerse yourself in the vibrant Louisville community we cherish. \n\nTime: 10 AM – 5 PM\nLocation: Mellwood Art Center (1860 Mellwood Ave)\n\nMade Market is your go-to for curated\, one-of-a-kind gifts perfect for everyone on your list–or a little treat for yourself! \nWe’re thrilled to celebrate Louisville’s maker scene with you! \nAdmission is $5 for adults\, free for kids 15 and under\, and parking is completely FREE! \nJoin us for a day of holiday magic! \n\nWe really enjoyed the Louisville Holiday market last year! Check out this preview! \n\n  \n***description from website \n 
URL:https://things-to-lou.com/events/louisville-holiday-2025-made-market/
LOCATION:Mellwood Art Center\, 1860 Mellwood Ave\, Louisville\, 40206\, United States
CATEGORIES:Market,Shopping
ATTACH;FMTTYPE=image/png:https://things-to-lou.com/wp-content/uploads/2025/08/590171625_688277730805820_3311751047034614992_n-e1764656781398.png
END:VEVENT
END:VCALENDAR