BEGIN:VCALENDAR
VERSION:2.0
PRODID:-//Things To Lou - ECPv6.15.20//NONSGML v1.0//EN
CALSCALE:GREGORIAN
METHOD:PUBLISH
X-ORIGINAL-URL:https://things-to-lou.com
X-WR-CALDESC:Events for Things To Lou
REFRESH-INTERVAL;VALUE=DURATION:PT1H
X-Robots-Tag:noindex
X-PUBLISHED-TTL:PT1H
BEGIN:VTIMEZONE
TZID:America/New_York
BEGIN:DAYLIGHT
TZOFFSETFROM:-0500
TZOFFSETTO:-0400
TZNAME:EDT
DTSTART:20250309T070000
END:DAYLIGHT
BEGIN:STANDARD
TZOFFSETFROM:-0400
TZOFFSETTO:-0500
TZNAME:EST
DTSTART:20251102T060000
END:STANDARD
BEGIN:DAYLIGHT
TZOFFSETFROM:-0500
TZOFFSETTO:-0400
TZNAME:EDT
DTSTART:20260308T070000
END:DAYLIGHT
BEGIN:STANDARD
TZOFFSETFROM:-0400
TZOFFSETTO:-0500
TZNAME:EST
DTSTART:20261101T060000
END:STANDARD
BEGIN:DAYLIGHT
TZOFFSETFROM:-0500
TZOFFSETTO:-0400
TZNAME:EDT
DTSTART:20270314T070000
END:DAYLIGHT
BEGIN:STANDARD
TZOFFSETFROM:-0400
TZOFFSETTO:-0500
TZNAME:EST
DTSTART:20271107T060000
END:STANDARD
END:VTIMEZONE
BEGIN:VEVENT
DTSTART;TZID=America/New_York:20260213T170000
DTEND;TZID=America/New_York:20260213T210000
DTSTAMP:20260419T135059
CREATED:20260127T055414Z
LAST-MODIFIED:20260127T055432Z
UID:10004189-1771002000-1771016400@things-to-lou.com
SUMMARY:Self-Love Valentine's Market | cocktails\, tarot\, shopping
DESCRIPTION:Come sip\, shop\, heal\, flirt with self-love at our Valentine’s Market! \nWhat’s Happening:\n\nHappy Hour Specials\nCurated local vendors + pop-ups\nTarot readings for clarity\, closure & confidence\nWrite yourself a love letter (because you deserve it)\nWrite your ex a letter (don’t worry… you don’t have to send it)\nLimoncello samples\nSignature Invisible Espresso Martinis\n\nVendors:\n\n🛍️ @aittanastore\n🛍️ @imhellocookies\n🛍️ @_blacklavenderco\n🛍️ @selfishxcloo\n🛍️ @zap_pj\n\nDate/Time/Location:\n\n📆 Friday\, February 13\n🕑 5pm – 9pm\n📍 Prova Spirits\n917 E Liberty St\n\n**description from IG post
URL:https://things-to-lou.com/events/self-love-valentines-market/
LOCATION:Prova Spirits\, 917 E Liberty St\, Louisville\, KY\, 40204\, United States
CATEGORIES:Food & Drink,Market,Shopping
ORGANIZER;CN="Prova Spirits":MAILTO:sales@provaspirits.com
END:VEVENT
END:VCALENDAR