BEGIN:VCALENDAR
VERSION:2.0
PRODID:-//Things To Lou - ECPv6.15.20//NONSGML v1.0//EN
CALSCALE:GREGORIAN
METHOD:PUBLISH
X-WR-CALNAME:Things To Lou
X-ORIGINAL-URL:https://things-to-lou.com
X-WR-CALDESC:Events for Things To Lou
REFRESH-INTERVAL;VALUE=DURATION:PT1H
X-Robots-Tag:noindex
X-PUBLISHED-TTL:PT1H
BEGIN:VTIMEZONE
TZID:America/New_York
BEGIN:DAYLIGHT
TZOFFSETFROM:-0500
TZOFFSETTO:-0400
TZNAME:EDT
DTSTART:20250309T070000
END:DAYLIGHT
BEGIN:STANDARD
TZOFFSETFROM:-0400
TZOFFSETTO:-0500
TZNAME:EST
DTSTART:20251102T060000
END:STANDARD
BEGIN:DAYLIGHT
TZOFFSETFROM:-0500
TZOFFSETTO:-0400
TZNAME:EDT
DTSTART:20260308T070000
END:DAYLIGHT
BEGIN:STANDARD
TZOFFSETFROM:-0400
TZOFFSETTO:-0500
TZNAME:EST
DTSTART:20261101T060000
END:STANDARD
BEGIN:DAYLIGHT
TZOFFSETFROM:-0500
TZOFFSETTO:-0400
TZNAME:EDT
DTSTART:20270314T070000
END:DAYLIGHT
BEGIN:STANDARD
TZOFFSETFROM:-0400
TZOFFSETTO:-0500
TZNAME:EST
DTSTART:20271107T060000
END:STANDARD
END:VTIMEZONE
BEGIN:VEVENT
DTSTART;TZID=America/New_York:20260109T180000
DTEND;TZID=America/New_York:20260109T190000
DTSTAMP:20260423T022632
CREATED:20260108T082854Z
LAST-MODIFIED:20260108T082854Z
UID:10003827-1767981600-1767985200@things-to-lou.com
SUMMARY:Date Night on the Pottery Wheel
DESCRIPTION:Loopy in Love: Pottery Date Night —  Get messy\, make memories\, and spin up something special—together. \nJust $55 per person \n\nGet your hands muddy and your hearts full in this playful 1-hour wheel lesson designed for two couples! \nYou and your date will learn the basics of wheel throwing and make something totally one-of-a-kind—maybe a cup\, a bowl\, or some funky little surprise (that’s half the fun!). \nNo experience needed! With just two couples in class\, you’ll get plenty of one-on-one guidance and wheel time. Expect laughs\, clay-covered hands\, and a keepsake to remember your muddy masterpiece. \nEach person gets to keep and fire one piece. Want to hang onto another creation? You can choose to have it fired for an additional fee. \nAll materials included. Bring a towel or apron (but don’t worry—clay washes right out!).
URL:https://things-to-lou.com/events/date-night-on-the-pottery-wheel-3/2026-01-09/
CATEGORIES:Workshop
END:VEVENT
END:VCALENDAR