BEGIN:VCALENDAR
VERSION:2.0
PRODID:-//Things To Lou - ECPv6.15.20//NONSGML v1.0//EN
CALSCALE:GREGORIAN
METHOD:PUBLISH
X-WR-CALNAME:Things To Lou
X-ORIGINAL-URL:https://things-to-lou.com
X-WR-CALDESC:Events for Things To Lou
REFRESH-INTERVAL;VALUE=DURATION:PT1H
X-Robots-Tag:noindex
X-PUBLISHED-TTL:PT1H
BEGIN:VTIMEZONE
TZID:America/New_York
BEGIN:DAYLIGHT
TZOFFSETFROM:-0500
TZOFFSETTO:-0400
TZNAME:EDT
DTSTART:20250309T070000
END:DAYLIGHT
BEGIN:STANDARD
TZOFFSETFROM:-0400
TZOFFSETTO:-0500
TZNAME:EST
DTSTART:20251102T060000
END:STANDARD
BEGIN:DAYLIGHT
TZOFFSETFROM:-0500
TZOFFSETTO:-0400
TZNAME:EDT
DTSTART:20260308T070000
END:DAYLIGHT
BEGIN:STANDARD
TZOFFSETFROM:-0400
TZOFFSETTO:-0500
TZNAME:EST
DTSTART:20261101T060000
END:STANDARD
BEGIN:DAYLIGHT
TZOFFSETFROM:-0500
TZOFFSETTO:-0400
TZNAME:EDT
DTSTART:20270314T070000
END:DAYLIGHT
BEGIN:STANDARD
TZOFFSETFROM:-0400
TZOFFSETTO:-0500
TZNAME:EST
DTSTART:20271107T060000
END:STANDARD
END:VTIMEZONE
BEGIN:VEVENT
DTSTART;TZID=America/New_York:20260116T180000
DTEND;TZID=America/New_York:20260116T200000
DTSTAMP:20260425T112648
CREATED:20260102T063508Z
LAST-MODIFIED:20260102T063508Z
UID:10003587-1768586400-1768593600@things-to-lou.com
SUMMARY:Olive Oil Class with 3 Course Tasting featuring Chef Gina Stipo
DESCRIPTION:Chef Gina will explain how olives are harvested and pressed and how that process affects the taste and health properties of the oil. \nShe will lead you in a tasting of three different oils\, including one from the most recent harvest of 2025\, and you will learn to discern good olive oil from bad and learn how to buy it. \n  \nChef Gina Stipo is the owner and operator of Ecco La cucina culinary tours in Italy. \nShe lived in Tuscany for 13 years\, owned the restaurant in Louisville At the Italian Table\, and is a certified educator of Italian wines. \nhttp://www.eccolacucina.com \n  \n\nFirst Tasting: Bruschetta w Tuscan EVOO 2025\nSecond Tasting: Cannellini e Tuscan kale soup with Tuscan EVOO 2024\nThird Tasting: Orecchiette pasta w/ Rapini and Puglian EVOO 2024\n\nPLEASE NOTE: The last six (6) tickets to sell may be seated at a high-top table\, behind counter seating. \nATTENTION GUESTS: The doors will open for this event at 6:00 pm \nDIETARY CONCERNS: Please notate when you purchase any concerns or accommodations needed or email mesachefs@gmail.com. \nSEATING ACCOMMODATIONS: Please let us know if parties booking separately would like to be seated together. We will try to accommodate when possible. \n\nDate & Time \nFri\, Jan 16\n6:00 PM – 8:00 PM EST \nLocation \nMesa\, A Live Dining Show \n216 Pearl Street\, New Albany\, IN 47150 \n  \nDescription \n🍸 Open for Cocktails: 6:00 pm \n🍽️ Dinner: 6:30 pm – 8:00 pm \n 
URL:https://things-to-lou.com/events/olive-oil-class-with-3-course-tasting-featuring-chef-gina-stipo/
LOCATION:MESA\, A Live Dining Show\, 216 Pearl Street\, New Albany\, IN\, 47150\, United States
CATEGORIES:Culinary Event,Food & Drink,Workshop
ORGANIZER;CN="MESA%2C A Live Dining Show":MAILTO:mesainfo@proton.me
END:VEVENT
BEGIN:VEVENT
DTSTART;TZID=America/New_York:20260116T190000
DTEND;TZID=America/New_York:20260116T210000
DTSTAMP:20260425T112648
CREATED:20260116T040853Z
LAST-MODIFIED:20260116T040944Z
UID:10004002-1768590000-1768597200@things-to-lou.com
SUMMARY:Illuminate the Year Paint Party
DESCRIPTION:Join us for a radiant start to the new year at our Illuminate the Year Paint Party. Experience hope and enlightenment inspired by the beauty of Rapunzel’s lantern-filled sky. \nSet your intentions for the year ahead\, letting go of the past and embracing new beginnings. \n\nMakara will teach you to paint the scene step-by-step in a fun environment. It’s a low stress way to get creative socially. So grab your friends and let’s paint! \nThe ticket you purchase here is for painting instruction and all the supplies required. You do not need to bring supplies of your own. \nShahar’s full food and drink menu will be available for you to order throughout the event. \nYou are encouraged to take lots of pictures throughout the process and tag @makarathachsernett and @shahar_eats when posting to social media. You may be featured in our stories and feed. \n\nDisclaimer:\nThis event is open for all ages. Underaged guests must be accompanied by an adult at all times. \nDue to the nature of this event\, all sales are final. No refunds\, trades\, reschedules for no shows to the event. If you cannot attend\, we recommend you send someone else in place of you. \nIf we need to cancel or reschedule due to inclement weather or emergencies\, we will communicate with you about this. If you are unable to attend the rescheduled event due to this reason\, we will give a full refund for your inconvenience. \nDetails:\nFriday\, January 16th\, 2026\, 7pm-9pm\nAt Shahar\n1127 Logan St\, Louisville\, KY 40204 \nTheme:\nIlluminate the Year \n\nPREVIEW ON INSTAGRAM
URL:https://things-to-lou.com/events/illuminate-the-year-paint-party/
LOCATION:Shahar\, 1127 Logan St\, Louisville\, KY\, 40204\, United States
CATEGORIES:Art,Workshop
END:VEVENT
END:VCALENDAR