BEGIN:VCALENDAR
VERSION:2.0
PRODID:-//Things To Lou - ECPv6.15.20//NONSGML v1.0//EN
CALSCALE:GREGORIAN
METHOD:PUBLISH
X-ORIGINAL-URL:https://things-to-lou.com
X-WR-CALDESC:Events for Things To Lou
REFRESH-INTERVAL;VALUE=DURATION:PT1H
X-Robots-Tag:noindex
X-PUBLISHED-TTL:PT1H
BEGIN:VTIMEZONE
TZID:America/New_York
BEGIN:DAYLIGHT
TZOFFSETFROM:-0500
TZOFFSETTO:-0400
TZNAME:EDT
DTSTART:20250309T070000
END:DAYLIGHT
BEGIN:STANDARD
TZOFFSETFROM:-0400
TZOFFSETTO:-0500
TZNAME:EST
DTSTART:20251102T060000
END:STANDARD
BEGIN:DAYLIGHT
TZOFFSETFROM:-0500
TZOFFSETTO:-0400
TZNAME:EDT
DTSTART:20260308T070000
END:DAYLIGHT
BEGIN:STANDARD
TZOFFSETFROM:-0400
TZOFFSETTO:-0500
TZNAME:EST
DTSTART:20261101T060000
END:STANDARD
BEGIN:DAYLIGHT
TZOFFSETFROM:-0500
TZOFFSETTO:-0400
TZNAME:EDT
DTSTART:20270314T070000
END:DAYLIGHT
BEGIN:STANDARD
TZOFFSETFROM:-0400
TZOFFSETTO:-0500
TZNAME:EST
DTSTART:20271107T060000
END:STANDARD
END:VTIMEZONE
BEGIN:VEVENT
DTSTART;TZID=America/New_York:20260117T100000
DTEND;TZID=America/New_York:20260117T150000
DTSTAMP:20260423T022624
CREATED:20260108T163012Z
LAST-MODIFIED:20260108T163029Z
UID:10003833-1768644000-1768662000@things-to-lou.com
SUMMARY:MakerPlace Workshop: Paint Pouring
DESCRIPTION:Unleash your creativity in our Paint Pouring Workshop! Explore mesmerizing techniques\, experiment with unique additives to change the viscosity\, and watch vibrant acrylic colors flow into stunning abstract masterpieces. \nWhether you’re a beginner or a seasoned artist\, this hands-on experience will ignite your imagination and transform the way you see paint. Let’s pour\, swirl\, and create something extraordinary! \n\nSaturday\, January 17\, 10AM-12PM\nSaturday\, January 17\, 1-3PM\n\n$20 members/$35 non-member \nMakerPlace Workshops include general admission to Kentucky Science Center. \nOpen to ages 8+.  \nPlease note that one adult is required to attend the workshop for every two children.
URL:https://things-to-lou.com/events/makerplace-workshop-paint-pouring/
LOCATION:Kentucky Science Center\, 727 W Main Street\, Louisville\, KY\, 40202\, United States
CATEGORIES:Family & Children,Workshop
END:VEVENT
BEGIN:VEVENT
DTSTART;TZID=America/New_York:20260117T130000
DTEND;TZID=America/New_York:20260117T150000
DTSTAMP:20260423T022624
CREATED:20260109T005716Z
LAST-MODIFIED:20260109T005716Z
UID:10003873-1768654800-1768662000@things-to-lou.com
SUMMARY:Shrub Class
DESCRIPTION:Learn about shrubs\, try an NA cocktail flight\, and make your own bottle of shrub to take home! \nSaturday\, January 17\, 2026 at 1:00 PM – 3:00 PM EST \n 
URL:https://things-to-lou.com/events/shrub-class/
LOCATION:Prova Spirits\, 917 E Liberty St\, Louisville\, KY\, 40204\, United States
CATEGORIES:Food & Drink,Mixology,Workshop
ORGANIZER;CN="Prova Spirits":MAILTO:sales@provaspirits.com
END:VEVENT
BEGIN:VEVENT
DTSTART;TZID=America/New_York:20260117T170000
DTEND;TZID=America/New_York:20260117T193000
DTSTAMP:20260423T022624
CREATED:20260102T063719Z
LAST-MODIFIED:20260102T063719Z
UID:10003588-1768669200-1768678200@things-to-lou.com
SUMMARY:GET SERVED COMPETITION | w/ Chef Juan Smith of Gordon Ramsay Steakhouse and Chef Andrew Conner
DESCRIPTION:Our 4 time undefeated Get Served Champion\, Chef Andrew Conner will take on a new contestant\, Chef Juan Smith of Gordon Ramsay Steakhouse! \nOur chefs are given an ingredient for each course that they will make the star of the dish. You get a portion of each and get to choose the winner! Who will win?! It’s up to you to decide! \n\nIngredient Challenge Per Course: \n\nFirst Course: Eggroll Wrappers\nSecond Course: Butternut Squash\nThird Course: Pork – chef’s choice of cut\nFourth Course: Blood Orange\n\n  \nPLEASE NOTE: The last six (6) tickets to sell may be seated at a high-top table\, behind counter seating. \nATTENTION GUESTS: The doors will open for this event at 5:00 pm \nDIETARY CONCERNS: Please notate when you purchase any concerns or accommodations needed or email mesachefs@gmail.com. \nSEATING ACCOMMODATIONS: Please let us know if parties booking separately would like to be seated together. We will try to accommodate when possible. \n\nDate & Time \nSat\, Jan 17\n5:00 PM – 7:30 PM EST \nLocation \nMesa\, A Live Dining Show \n216 Pearl Street \nNew Albany\, IN 47150 \nDescription \n🍸 Cocktail Hour: 5:00 pm – 6:00 pm \n🍽️ Dinner: 6:00 pm – 7:30 pm
URL:https://things-to-lou.com/events/get-served-competition-w-chef-juan-smith-of-gordon-ramsay-steakhouse-and-chef-andrew-conner/
LOCATION:MESA\, A Live Dining Show\, 216 Pearl Street\, New Albany\, IN\, 47150\, United States
CATEGORIES:Contest,Culinary Event,Food & Drink,Workshop
ORGANIZER;CN="MESA%2C A Live Dining Show":MAILTO:mesainfo@proton.me
END:VEVENT
END:VCALENDAR