BEGIN:VCALENDAR
VERSION:2.0
PRODID:-//Things To Lou - ECPv6.15.20//NONSGML v1.0//EN
CALSCALE:GREGORIAN
METHOD:PUBLISH
X-ORIGINAL-URL:https://things-to-lou.com
X-WR-CALDESC:Events for Things To Lou
REFRESH-INTERVAL;VALUE=DURATION:PT1H
X-Robots-Tag:noindex
X-PUBLISHED-TTL:PT1H
BEGIN:VTIMEZONE
TZID:America/New_York
BEGIN:DAYLIGHT
TZOFFSETFROM:-0500
TZOFFSETTO:-0400
TZNAME:EDT
DTSTART:20250309T070000
END:DAYLIGHT
BEGIN:STANDARD
TZOFFSETFROM:-0400
TZOFFSETTO:-0500
TZNAME:EST
DTSTART:20251102T060000
END:STANDARD
BEGIN:DAYLIGHT
TZOFFSETFROM:-0500
TZOFFSETTO:-0400
TZNAME:EDT
DTSTART:20260308T070000
END:DAYLIGHT
BEGIN:STANDARD
TZOFFSETFROM:-0400
TZOFFSETTO:-0500
TZNAME:EST
DTSTART:20261101T060000
END:STANDARD
BEGIN:DAYLIGHT
TZOFFSETFROM:-0500
TZOFFSETTO:-0400
TZNAME:EDT
DTSTART:20270314T070000
END:DAYLIGHT
BEGIN:STANDARD
TZOFFSETFROM:-0400
TZOFFSETTO:-0500
TZNAME:EST
DTSTART:20271107T060000
END:STANDARD
END:VTIMEZONE
BEGIN:VEVENT
DTSTART;TZID=America/New_York:20260207T090000
DTEND;TZID=America/New_York:20260207T160000
DTSTAMP:20260422T074826
CREATED:20260124T014459Z
LAST-MODIFIED:20260124T014459Z
UID:10004126-1770454800-1770480000@things-to-lou.com
SUMMARY:Hot Glass MAKE IT! | glass blowing class | Hearts & Paperweights (multiple class times)
DESCRIPTION:Join us and make your own glass paperweight. Choose a heart\, an egg\, or a traditional orb\, or even an irregular colorful glass blob. \nChoose your colors and design and make it with us! \nItems will be ready for pick-up one week after the class. \nMust be 18 or older\, or 15+ with a parent. \n  \n***description from website \n  \nGET TICKETS HERE
URL:https://things-to-lou.com/events/hot-glass-make-it-glass-blowing-class-hearts-paperweights-multiple-class-times/2026-02-07/
LOCATION:ACME Artworks Hot Shop\, 953 S Clay ST\, Louisville\, KY\, 40203\, United States
CATEGORIES:Art,Workshop
ATTACH;FMTTYPE=image/jpeg:https://things-to-lou.com/wp-content/uploads/2026/01/img_5906-e1769217847414.jpg
END:VEVENT
BEGIN:VEVENT
DTSTART;TZID=America/New_York:20260207T123000
DTEND;TZID=America/New_York:20260207T140000
DTSTAMP:20260422T074826
CREATED:20251126T052911Z
LAST-MODIFIED:20251126T052911Z
UID:10003229-1770467400-1770472800@things-to-lou.com
SUMMARY:Chaos\, Cupcakes & Caffeine: Galentine's Edition
DESCRIPTION:Event Name:\nChaos\, Cupcakes & Caffeine: Galentine’s Edition \nEvent Date:\n2026-02-07 \nWebsite / Ticket Link:\nhttps://www.eventbrite.com/o/megs-magical-morsels-114337985281 \nLocation:\nThe Cottage on Eastview- 10407 Eastview Avenue\, Louisville\, KY 40299 \nEvent Host:\nMeg’s Magical Morsels \nEvent Description / Other Info:\nChaos\, Cupcakes & Caffeine: Galentine’s Edition- Decorate cupcakes. Drink caffeine. Get roasted. Includes 4 seasonal cupcakes + unlimited roasting. It’s not a class—it’s an experience. \nWHO: You. Yes\, you.\nThe adult who hasn’t had a day out in three months and thinks frosting might fix your life. For the girls\, gays\, and theys who want to vibe\, vent\, and aggressively pipe frosting onto something that can’t talk back — with their besties\, obviously.\nAges 18+ only because we can only handle one tantrum demographic at a time. \nWHAT: A cupcake decorating “class” – but not the helpful kind. Not actually a class at all.\nWe hand you the supplies. You figure out the rest.\nThere might be instructions.\nThere will be judgment. \nWHEN: Saturday\, February 7th 12:30 PM – 2 PM\nOne and a half hours of structured chaos. Or chaotic structure. Who knows.\nThat’s also about as long as we can tolerate you with that much caffeine and sugar in your system. For everyone’s safety. \nWHERE: The Cottage on Eastview at 10407 Eastview Avenue\nWe aren’t exactly sure why the owner of The Cottage on Eastview agreed to this. Bold move on their part. \nWHY: Because therapy is expensive\, and cupcakes are cheaper.\nBecause caffeine gives you the illusion of control.\nBecause you need a place to aggressively pipe buttercream and silently compete with strangers.\nBecause your inner child deserves a day of reckless sprinkle decisions. \nHOW: Buy a ticket. Show up. Regret nothing.\nWe’ll provide four cupcakes\, the frosting\, the tools\, the caffeine (available for purchase from Fuel and Flow)\, and trauma.\nYou bring the energy. And your bestie to roast your work. \nCHAOS\, CUPCAKES & CAFFEINE\nCupcake decorating for the emotionally unstable and over-caffeinated. You’re going to laugh\, you might cry\, and by the end of the day you’ll know your besties in a whole new\, “we survived this together” kind of way.
URL:https://things-to-lou.com/events/chaos-cupcakes-caffeine-galentines-edition/
LOCATION:The Cottage on Eastview\, 10407 Eastview Ave\, Jeffersontown\, KY\, 40299\, United States
CATEGORIES:Food & Drink,Workshop
ATTACH;FMTTYPE=image/png:https://things-to-lou.com/wp-content/uploads/2025/11/chaos-galentines-feb-2026-1-e1764136783930.png
END:VEVENT
BEGIN:VEVENT
DTSTART;TZID=America/New_York:20260207T123000
DTEND;TZID=America/New_York:20260207T140000
DTSTAMP:20260422T074826
CREATED:20260116T235414Z
LAST-MODIFIED:20260116T235414Z
UID:10004016-1770467400-1770472800@things-to-lou.com
SUMMARY:Chaos\, Cupcakes & Caffeine: Galentine's Edition
DESCRIPTION:Decorate cupcakes. Drink caffeine. Get roasted. Includes 4 seasonal cupcakes + unlimited roasting. It’s not a class—it’s an experience. \nWHO: You. Yes\, you. \nThe adult who hasn’t had a day out in three months and thinks frosting might fix your life. For the girls\, gays\, and theys who want to vibe\, vent\, and aggressively pipe frosting onto something that can’t talk back — with their besties\, obviously. \nAges 18+ only because we can only handle one tantrum demographic at a time. \n  \nWHAT: A cupcake decorating “class” – but not the helpful kind. Not actually a class at all. \nWe hand you the supplies. You figure out the rest. \nThere might be instructions. \nThere will be judgment. \n  \nWHEN: Saturday\, February 7th 12:30 PM – 2 PM \nOne and a half hours of structured chaos. Or chaotic structure. Who knows. \nThat’s also about as long as we can tolerate you with that much caffeine and sugar in your system. For everyone’s safety. \n  \nWHERE: The Cottage on Eastview at 10407 Eastview Avenue \nWe aren’t exactly sure why the owner of The Cottage on Eastview agreed to this. Bold move on their part. \n  \nWHY: Because therapy is expensive\, and cupcakes are cheaper. \nBecause caffeine gives you the illusion of control. \nBecause you need a place to aggressively pipe buttercream and silently compete with strangers. \nBecause your inner child deserves a day of reckless sprinkle decisions. \n  \nHOW: Buy a ticket. Show up. Regret nothing. \nWe’ll provide four cupcakes\, the frosting\, the tools\, the caffeine (available for purchase from Fuel and Flow)\, and trauma. \nYou bring the energy. And your bestie to roast your work. \n\nCHAOS\, CUPCAKES & CAFFEINE \nCupcake decorating for the emotionally unstable and over-caffeinated. You’re going to laugh\, you might cry\, and by the end of the day you’ll know your besties in a whole new\, “we survived this together” kind of way.
URL:https://things-to-lou.com/events/chaos-cupcakes-caffeine-galentines-edition-2/
LOCATION:The Cottage on Eastview\, 10407 Eastview Ave\, Jeffersontown\, KY\, 40299\, United States
CATEGORIES:Food & Drink,Workshop
END:VEVENT
BEGIN:VEVENT
DTSTART;TZID=America/New_York:20260207T140000
DTEND;TZID=America/New_York:20260207T153000
DTSTAMP:20260422T074826
CREATED:20260108T082259Z
LAST-MODIFIED:20260108T082259Z
UID:10003824-1770472800-1770478200@things-to-lou.com
SUMMARY:"Give it a Whirl" pottery class
DESCRIPTION:Get your hands muddy and dive into the magic of the pottery wheel! In this 1.5-hour lesson\, you’ll learn the basics of wheel throwing and make your very own piece—a cup\, a bowl\, or some other funky little thing (you never know what it’ll become\, and that’s part of the fun!). \nNo experience? No worries. These classes are super small\, so you’ll get plenty of one-on-one guidance and wheel time. Come solo or bring a couple of pals for a muddy good time. You’ll walk away with clay-covered hands\, good vibes\, and one piece you get to keep and cherish forever. \nAll materials included. Suggest bringing a towel or apron but all clay washes out of clothing! \n\nWe’ll kick things off with a fun\, step-by-step demo where your instructor shows you how to turn a lump of clay into something fabulous—think bowls\, cups\, or whatever shape your squishy heart desires. \nThen it’s your turn to hop on the wheel and get your hands dirty. We’ll guide you through the whole process while you play\, explore\, and maybe even surprise yourself. \nAt the end of class\, you’ll pick one favorite piece to keep—your new wobbly treasure! We’ll glaze and fire it for you. \nFeeling extra proud? You can keep additional pieces for $15 each. \n\nWhat’s included:  \n• Clay\, tools\, and aprons \n• Step-by-step instruction \n• Glazing + firing of one piece \n• Good vibes\, cool tunes\, and a guaranteed mess \n\nClass time: About 90 minutes \nExperience needed: Zero \nPickup: Your finished piece will be ready in 2–4 weeks. \nCome solo\, bring your bestie\, or book a wheel for date night
URL:https://things-to-lou.com/events/give-it-a-whirl-pottery-class-7/2026-02-07/
CATEGORIES:Workshop
END:VEVENT
BEGIN:VEVENT
DTSTART;TZID=America/New_York:20260207T150000
DTEND;TZID=America/New_York:20260207T163000
DTSTAMP:20260422T074826
CREATED:20251126T053151Z
LAST-MODIFIED:20251126T053151Z
UID:10003230-1770476400-1770481800@things-to-lou.com
SUMMARY:Chaos\, Cupcakes & Caffeine: Extreme Edition
DESCRIPTION:Event Name:\nChaos\, Cupcakes & Caffeine: Extreme Edition \nEvent Date:\n2026-02-07 \nWebsite / Ticket Link:\nhttps://www.eventbrite.com/o/megs-magical-morsels-114337985281 \nLocation:\nThe Cottage on Eastview- 10407 Eastview Avenue\, Louisville\, KY 40299 \nEvent Host:\nMeg’s Magical Morsels \nEvent Description / Other Info:\nChaos\, Cupcakes & Caffeine: Extreme Edition- Decorate cupcakes. Drink caffeine. Get roasted. Includes 4 seasonal cupcakes + unlimited roasting. It’s not a class—it’s extreme. \nWHO: You. Yes\, you.\nThe adult who hasn’t had a day out in three months and thinks frosting might fix your life. For the delightfully unhinged humans who need the Extreme Edition — the ones who think cupcake decorating isn’t “hard” enough and are absolutely begging for challenges that might make them question every life choice.\nAges 18+ only because we can only handle one tantrum demographic at a time. \nWHAT: A cupcake decorating “class” – but not the helpful kind. Not actually a class at all.\nWe hand you the supplies. We give you challenges. You figure out the rest.\nThere won’t be instructions.\nThere will be judgment. \nWHEN: Saturday\, February 7th 3 PM – 4:30 PM\nOne and a half hours of structured chaos. Or chaotic structure. Who knows.\nThat’s also about as long as we can tolerate you with that much caffeine and sugar in your system. For everyone’s safety. \nWHERE: The Cottage on Eastview at 10407 Eastview Avenue\nWe aren’t exactly sure why the owner of The Cottage on Eastview agreed to this. Bold move on their part. \nWHY: Because therapy is expensive\, and cupcakes are cheaper.\nBecause caffeine gives you the illusion of control.\nBecause you need a place to aggressively pipe buttercream and silently compete with strangers.\nBecause your inner child deserves a day of reckless sprinkle decisions. \nHOW: Buy a ticket. Show up. Regret nothing.\nWe’ll provide four cupcakes\, the frosting\, the tools\, the caffeine (available for purchase from Fuel and Flow)\, and trauma.\nYou bring the energy. And bring a friend\, your “bae”\, a coworker\, or the random person you find in the grocery store to roast your work. \nCHAOS\, CUPCAKES & CAFFEINE\nCupcake decorating for the emotionally unstable and over-caffeinated. You’re going to laugh\, you might cry\, and by the end of the day you’ll know the people you came with in a whole new\, “we created sugar-fueled anarchy and bonded through mutual insanity’ kind of way.”
URL:https://things-to-lou.com/events/chaos-cupcakes-caffeine-extreme-edition/
LOCATION:The Cottage on Eastview\, 10407 Eastview Ave\, Jeffersontown\, KY\, 40299\, United States
CATEGORIES:Food & Drink,Workshop
ATTACH;FMTTYPE=image/png:https://things-to-lou.com/wp-content/uploads/2025/11/chaos-extreme-feb-2026-1-e1764136807271.png
END:VEVENT
BEGIN:VEVENT
DTSTART;TZID=America/New_York:20260207T150000
DTEND;TZID=America/New_York:20260207T170000
DTSTAMP:20260422T074826
CREATED:20260116T235113Z
LAST-MODIFIED:20260116T235113Z
UID:10004015-1770476400-1770483600@things-to-lou.com
SUMMARY:Paint & Sip: Valentine’s Love Owl Night
DESCRIPTION:Grab your crew\, ya friends and your wine—it’s time to paint this masterpiece in Louisville! \n🎨 Paint & Sip: Owl Be Yours \n📍 A Purposeful Ponte Studio \n1939 Goldsmith Lane\, Austin Office Building \nSaturday\, February 7th \n⏰ 3:00 PM \n\nLooking for a fun Valentine’s paint and sip in Louisville that’s not awkward and not boring? Say less 😌 \nJoin us for a cozy afternoon of creativity as we paint this adorable heart-covered owl — big eyes\, soft colors\, and all the love vibes. \nThis class is beginner-friendly and perfect whether you’re coming with your boo\, your bestie\, your kiddo\, or just treating yourself (self-love counts\, period). I’ll walk you through the painting step-by-step\, so no experience needed — just show up and have fun. \nPerfect for: \n• Valentine’s paint and sip A Purposeful Ponte Studion \n• Family-friendly art class \n• Girls’ day out \n• Date day idea \n• Winter art class \n• Beginner painting class \n\n🎨 All painting supplies included \n🍷 BYOB friendly \n🎶 Feel-good music + relaxed vibes \n👉 Seats are limited and this one will fill up fast. https://lp.constantcontactpages.com/ev/reg/abkzckm \nClick “Going\,” tag your painting partner\, and come paint something cute with me. Let’s make it owl-some 💕🦉 \n\nAnd the best part? You’re guaranteed to have a blast. At the end\, you’ll walk away with more than just memories—a personalized memento to show off your new skills. No painting experience necessary! \nFree parking. \nPainting includes instructions\, paint\, pre-drawn canvas\, brushes\, all supplies needed to paint So\, gather your friends or come and meet new friends and lets paint! \nPLEASE NOTE: The studio is on the 2nd floor and there are no elevators in the building. \n 
URL:https://things-to-lou.com/events/paint-sip-valentines-love-owl-night/
LOCATION:A Purposeful Ponte Studio\, 1939 Goldsmith Ln\, STE 216\, Louisville\, KY\, 40218\, United States
CATEGORIES:Workshop
END:VEVENT
BEGIN:VEVENT
DTSTART;TZID=America/New_York:20260207T180000
DTEND;TZID=America/New_York:20260207T193000
DTSTAMP:20260422T074826
CREATED:20251126T053403Z
LAST-MODIFIED:20251126T053403Z
UID:10003231-1770487200-1770492600@things-to-lou.com
SUMMARY:Chaos\, Cupcakes & Caffeine
DESCRIPTION:Event Name:\nChaos\, Cupcakes & Caffeine \nEvent Date:\n2026-02-07 \nWebsite / Ticket Link:\nhttps://www.eventbrite.com/o/megs-magical-morsels-114337985281 \nLocation:\nThe Cottage on Eastview- 10407 Eastview Avenue\, Louisville\, KY 40299 \nEvent Host:\nMeg’s Magical Morsels: Chaos\, Cupcakes & Caffeine \nEvent Description / Other Info:\nChaos\, Cupcakes & Caffeine- Decorate cupcakes. Drink caffeine. Get roasted. Includes 4 seasonal cupcakes + unlimited roasting. It’s not a class—it’s an experience. \nWHO: You. Yes\, you.\nThe adult who hasn’t had a night out in three months and thinks frosting might fix your life.\nAges 18+ only because we can only handle one tantrum demographic at a time. \nWHAT: A cupcake decorating “class” – but not the helpful kind. Not actually a class at all.\nWe hand you the supplies. You figure out the rest.\nThere might be instructions.\nThere will be judgment. \nWHEN: Saturday\, February 7th 6:00 PM – 7:30 PM\nOne and a half hours of structured chaos. Or chaotic structure. Who knows.\nThat’s also about as long as we can tolerate you with that much caffeine and sugar in your system. For everyone’s safety. \nWHERE: The Cottage on Eastview at 10407 Eastview Avenue\nWe aren’t exactly sure why the owner of The Cottage on Eastview agreed to this. Bold move on their part. \nWHY: Because therapy is expensive\, and cupcakes are cheaper.\nBecause caffeine gives you the illusion of control.\nBecause you need a place to aggressively pipe buttercream and silently compete with strangers.\nBecause your inner child deserves a night of reckless sprinkle decisions. \nHOW: Buy a ticket. Show up. Regret nothing.\nWe’ll provide four cupcakes\, the frosting\, the tools\, the caffeine (available for purchase from Fuel and Flow)\, and trauma.\nYou bring the energy. And maybe a friend\, coworker\, or significant other to roast your work. \nCHAOS\, CUPCAKES & CAFFEINE\nCupcake decorating for the emotionally unstable and over-caffeinated. You’re going to laugh\, you might cry\, and by the end of the day you’ll know the person you came with in a whole new\, “we survived this together” kind of way.
URL:https://things-to-lou.com/events/chaos-cupcakes-caffeine/
LOCATION:The Cottage on Eastview\, 10407 Eastview Ave\, Jeffersontown\, KY\, 40299\, United States
CATEGORIES:Food & Drink,Workshop
ATTACH;FMTTYPE=image/png:https://things-to-lou.com/wp-content/uploads/2025/11/feb-chaos-teaser-9-e1764136815867.png
END:VEVENT
END:VCALENDAR