BEGIN:VCALENDAR
VERSION:2.0
PRODID:-//Things To Lou - ECPv6.15.20//NONSGML v1.0//EN
CALSCALE:GREGORIAN
METHOD:PUBLISH
X-ORIGINAL-URL:https://things-to-lou.com
X-WR-CALDESC:Events for Things To Lou
REFRESH-INTERVAL;VALUE=DURATION:PT1H
X-Robots-Tag:noindex
X-PUBLISHED-TTL:PT1H
BEGIN:VTIMEZONE
TZID:America/New_York
BEGIN:DAYLIGHT
TZOFFSETFROM:-0500
TZOFFSETTO:-0400
TZNAME:EDT
DTSTART:20250309T070000
END:DAYLIGHT
BEGIN:STANDARD
TZOFFSETFROM:-0400
TZOFFSETTO:-0500
TZNAME:EST
DTSTART:20251102T060000
END:STANDARD
BEGIN:DAYLIGHT
TZOFFSETFROM:-0500
TZOFFSETTO:-0400
TZNAME:EDT
DTSTART:20260308T070000
END:DAYLIGHT
BEGIN:STANDARD
TZOFFSETFROM:-0400
TZOFFSETTO:-0500
TZNAME:EST
DTSTART:20261101T060000
END:STANDARD
BEGIN:DAYLIGHT
TZOFFSETFROM:-0500
TZOFFSETTO:-0400
TZNAME:EDT
DTSTART:20270314T070000
END:DAYLIGHT
BEGIN:STANDARD
TZOFFSETFROM:-0400
TZOFFSETTO:-0500
TZNAME:EST
DTSTART:20271107T060000
END:STANDARD
END:VTIMEZONE
BEGIN:VEVENT
DTSTART;TZID=America/New_York:20260212T180000
DTEND;TZID=America/New_York:20260212T203000
DTSTAMP:20260422T190304
CREATED:20260117T001014Z
LAST-MODIFIED:20260117T001014Z
UID:10004021-1770919200-1770928200@things-to-lou.com
SUMMARY:Galentine's - Crushed Glass Heart Tray
DESCRIPTION:Gather your girlfriends and create a unique ceramic decorative tray with Crushed Glass and Resin! \nGet ready for a fun and creative afternoon with your gal pals. \nUnleash your artistic side as you create a stunning resin and crushed glass art piece that is beautiful and functional. No experience necessary\, just bring your creativity and we’ll provide all the materials you need. \nThis is the perfect opportunity to bond with your friends\, sip on some wine\, and make memories that will last a lifetime. Don’t miss out on this unique event! See you there!
URL:https://things-to-lou.com/events/galentines-crushed-glass-heart-tray/
LOCATION:Roselynn Hill Winery\, 10525 Old Taylorsville Rd\, Louisville\, KY\, 40299\, United States
CATEGORIES:Food & Drink,Wine / Winery,Workshop
END:VEVENT
END:VCALENDAR