BEGIN:VCALENDAR
VERSION:2.0
PRODID:-//Things To Lou - ECPv6.15.20//NONSGML v1.0//EN
CALSCALE:GREGORIAN
METHOD:PUBLISH
X-ORIGINAL-URL:https://things-to-lou.com
X-WR-CALDESC:Events for Things To Lou
REFRESH-INTERVAL;VALUE=DURATION:PT1H
X-Robots-Tag:noindex
X-PUBLISHED-TTL:PT1H
BEGIN:VTIMEZONE
TZID:America/New_York
BEGIN:DAYLIGHT
TZOFFSETFROM:-0500
TZOFFSETTO:-0400
TZNAME:EDT
DTSTART:20250309T070000
END:DAYLIGHT
BEGIN:STANDARD
TZOFFSETFROM:-0400
TZOFFSETTO:-0500
TZNAME:EST
DTSTART:20251102T060000
END:STANDARD
BEGIN:DAYLIGHT
TZOFFSETFROM:-0500
TZOFFSETTO:-0400
TZNAME:EDT
DTSTART:20260308T070000
END:DAYLIGHT
BEGIN:STANDARD
TZOFFSETFROM:-0400
TZOFFSETTO:-0500
TZNAME:EST
DTSTART:20261101T060000
END:STANDARD
BEGIN:DAYLIGHT
TZOFFSETFROM:-0500
TZOFFSETTO:-0400
TZNAME:EDT
DTSTART:20270314T070000
END:DAYLIGHT
BEGIN:STANDARD
TZOFFSETFROM:-0400
TZOFFSETTO:-0500
TZNAME:EST
DTSTART:20271107T060000
END:STANDARD
END:VTIMEZONE
BEGIN:VEVENT
DTSTART;TZID=America/New_York:20260221T090000
DTEND;TZID=America/New_York:20260221T160000
DTSTAMP:20260422T061105
CREATED:20260124T014459Z
LAST-MODIFIED:20260124T014459Z
UID:10004128-1771664400-1771689600@things-to-lou.com
SUMMARY:Hot Glass MAKE IT! | glass blowing class | Hearts & Paperweights (multiple class times)
DESCRIPTION:Join us and make your own glass paperweight. Choose a heart\, an egg\, or a traditional orb\, or even an irregular colorful glass blob. \nChoose your colors and design and make it with us! \nItems will be ready for pick-up one week after the class. \nMust be 18 or older\, or 15+ with a parent. \n  \n***description from website \n  \nGET TICKETS HERE
URL:https://things-to-lou.com/events/hot-glass-make-it-glass-blowing-class-hearts-paperweights-multiple-class-times/2026-02-21/
LOCATION:ACME Artworks Hot Shop\, 953 S Clay ST\, Louisville\, KY\, 40203\, United States
CATEGORIES:Art,Workshop
ATTACH;FMTTYPE=image/jpeg:https://things-to-lou.com/wp-content/uploads/2026/01/img_5906-e1769217847414.jpg
END:VEVENT
BEGIN:VEVENT
DTSTART;TZID=America/New_York:20260221T140000
DTEND;TZID=America/New_York:20260221T153000
DTSTAMP:20260422T061105
CREATED:20260108T082259Z
LAST-MODIFIED:20260108T082259Z
UID:10003826-1771682400-1771687800@things-to-lou.com
SUMMARY:"Give it a Whirl" pottery class
DESCRIPTION:Get your hands muddy and dive into the magic of the pottery wheel! In this 1.5-hour lesson\, you’ll learn the basics of wheel throwing and make your very own piece—a cup\, a bowl\, or some other funky little thing (you never know what it’ll become\, and that’s part of the fun!). \nNo experience? No worries. These classes are super small\, so you’ll get plenty of one-on-one guidance and wheel time. Come solo or bring a couple of pals for a muddy good time. You’ll walk away with clay-covered hands\, good vibes\, and one piece you get to keep and cherish forever. \nAll materials included. Suggest bringing a towel or apron but all clay washes out of clothing! \n\nWe’ll kick things off with a fun\, step-by-step demo where your instructor shows you how to turn a lump of clay into something fabulous—think bowls\, cups\, or whatever shape your squishy heart desires. \nThen it’s your turn to hop on the wheel and get your hands dirty. We’ll guide you through the whole process while you play\, explore\, and maybe even surprise yourself. \nAt the end of class\, you’ll pick one favorite piece to keep—your new wobbly treasure! We’ll glaze and fire it for you. \nFeeling extra proud? You can keep additional pieces for $15 each. \n\nWhat’s included:  \n• Clay\, tools\, and aprons \n• Step-by-step instruction \n• Glazing + firing of one piece \n• Good vibes\, cool tunes\, and a guaranteed mess \n\nClass time: About 90 minutes \nExperience needed: Zero \nPickup: Your finished piece will be ready in 2–4 weeks. \nCome solo\, bring your bestie\, or book a wheel for date night
URL:https://things-to-lou.com/events/give-it-a-whirl-pottery-class-7/2026-02-21/
CATEGORIES:Workshop
END:VEVENT
END:VCALENDAR