BEGIN:VCALENDAR
VERSION:2.0
PRODID:-//Things To Lou - ECPv6.15.20//NONSGML v1.0//EN
CALSCALE:GREGORIAN
METHOD:PUBLISH
X-WR-CALNAME:Things To Lou
X-ORIGINAL-URL:https://things-to-lou.com
X-WR-CALDESC:Events for Things To Lou
REFRESH-INTERVAL;VALUE=DURATION:PT1H
X-Robots-Tag:noindex
X-PUBLISHED-TTL:PT1H
BEGIN:VTIMEZONE
TZID:America/New_York
BEGIN:DAYLIGHT
TZOFFSETFROM:-0500
TZOFFSETTO:-0400
TZNAME:EDT
DTSTART:20250309T070000
END:DAYLIGHT
BEGIN:STANDARD
TZOFFSETFROM:-0400
TZOFFSETTO:-0500
TZNAME:EST
DTSTART:20251102T060000
END:STANDARD
BEGIN:DAYLIGHT
TZOFFSETFROM:-0500
TZOFFSETTO:-0400
TZNAME:EDT
DTSTART:20260308T070000
END:DAYLIGHT
BEGIN:STANDARD
TZOFFSETFROM:-0400
TZOFFSETTO:-0500
TZNAME:EST
DTSTART:20261101T060000
END:STANDARD
BEGIN:DAYLIGHT
TZOFFSETFROM:-0500
TZOFFSETTO:-0400
TZNAME:EDT
DTSTART:20270314T070000
END:DAYLIGHT
BEGIN:STANDARD
TZOFFSETFROM:-0400
TZOFFSETTO:-0500
TZNAME:EST
DTSTART:20271107T060000
END:STANDARD
END:VTIMEZONE
BEGIN:VEVENT
DTSTART;TZID=America/New_York:20260129T180000
DTEND;TZID=America/New_York:20260129T210000
DTSTAMP:20260425T201011
CREATED:20251231T074841Z
LAST-MODIFIED:20251231T074921Z
UID:10003585-1769709600-1769720400@things-to-lou.com
SUMMARY:OVW RISE | wrestling show live taping
DESCRIPTION:Catch OVW Rise every Thursday night at the historic Davis Arena. The same program that Netflix’s Wrestlers took you behind the scenes of — now experience the action live and in person! \nDoors Open: 5:45pm | Overdrive Filming: 6pm | Rise Filming: 7pm \nTickets start at $10 \n\nEvent Name: \nOVW RISE + live taping \nWebsite / Ticket Link: \nhttps://ovwrestling.com/tix/ \nLocation: \nHotpoint Davis Arena\, 4400 Shepherdsville Rd\, Louisville\, KY\, 40218 \nEvent Host: \nOHIO VALLEY WRESTLING
URL:https://things-to-lou.com/events/ovw-rise-wrestling-show-live-taping/2026-01-29/
LOCATION:HOTPOINT DAVIS ARENA\, 4400 Shepherdsville Rd\, Louisville\, KY\, 40218\, United States
CATEGORIES:Wrestling / MMA
ATTACH;FMTTYPE=image/jpeg:https://things-to-lou.com/wp-content/uploads/2025/09/551395554_1134096878661450_8315140238079840822_n-e1759163452162.jpg
END:VEVENT
END:VCALENDAR