BEGIN:VCALENDAR
VERSION:2.0
PRODID:-//Things To Lou - ECPv6.15.20//NONSGML v1.0//EN
CALSCALE:GREGORIAN
METHOD:PUBLISH
X-WR-CALNAME:Things To Lou
X-ORIGINAL-URL:https://things-to-lou.com
X-WR-CALDESC:Events for Things To Lou
REFRESH-INTERVAL;VALUE=DURATION:PT1H
X-Robots-Tag:noindex
X-PUBLISHED-TTL:PT1H
BEGIN:VTIMEZONE
TZID:America/New_York
BEGIN:DAYLIGHT
TZOFFSETFROM:-0500
TZOFFSETTO:-0400
TZNAME:EDT
DTSTART:20240310T070000
END:DAYLIGHT
BEGIN:STANDARD
TZOFFSETFROM:-0400
TZOFFSETTO:-0500
TZNAME:EST
DTSTART:20241103T060000
END:STANDARD
BEGIN:DAYLIGHT
TZOFFSETFROM:-0500
TZOFFSETTO:-0400
TZNAME:EDT
DTSTART:20250309T070000
END:DAYLIGHT
BEGIN:STANDARD
TZOFFSETFROM:-0400
TZOFFSETTO:-0500
TZNAME:EST
DTSTART:20251102T060000
END:STANDARD
BEGIN:DAYLIGHT
TZOFFSETFROM:-0500
TZOFFSETTO:-0400
TZNAME:EDT
DTSTART:20260308T070000
END:DAYLIGHT
BEGIN:STANDARD
TZOFFSETFROM:-0400
TZOFFSETTO:-0500
TZNAME:EST
DTSTART:20261101T060000
END:STANDARD
END:VTIMEZONE
BEGIN:VEVENT
DTSTART;TZID=America/New_York:20251230T160000
DTEND;TZID=America/New_York:20251230T220000
DTSTAMP:20260423T025155
CREATED:20251208T145212Z
LAST-MODIFIED:20251208T145212Z
UID:10003288-1767110400-1767132000@things-to-lou.com
SUMMARY:Rooftop Après Ski Lounge | holiday pop up
DESCRIPTION:Event Name:\nRooftop Après Ski Lounge \nEvent Date & Time:\nTues – Sat\, from December 9 – 30. \n**excluding December 24 & 25 \nOpen 4 pm – 10 pm \nWebsite / Ticket Link:\nhttps://www.opentable.com/booking/experiences-availability?rid=1361749&restref=1361749&experienceId=603480&utm_source=thingstoloublog&utm_medium=eventcalendar&utm_campaign=blog&utm_content=thingstoloueventcalendar \nLocation:\n710 E Jefferson St\, Louisville\, KY 40202 \nEvent Host:\nHigh Stakes Rooftop \nEvent Description / Other Info:\nPerched high above the alpine skyline\, **High Stakes Rooftop Après Ski Lounge** redefines mountain luxury with a seductive blend of warmth\, exclusivity\, and high-altitude glamour. \nAs the sun sinks behind snow-draped peaks\, the lounge comes alive with panoramic views that shimmer with the electric glow of the slopes below. \nAt the heart of the experience lies our **one-of-a-kind\, house-curated Champagne & Bubbles Program**\, a collection personally selected to elevate every après moment. \nSip your way through an exceptional lineup featuring iconic houses such as **Moët & Chandon\, Veuve Clicquot\, and Dom Pérignon**\, alongside rare cuvées\, boutique grower Champagnes\, and limited-edition sparkling treasures found nowhere else in the resort. Whether you’re toasting a perfect run\, celebrating a high-stakes win\, or simply indulging in the mountain’s velvet night\, each glass is a celebration of craftsmanship and altitude-kissed decadence. \nA sanctuary for the bold and the beautifully chilled\, the High Stakes Rooftop Après Ski Lounge is where luxury ascends—one bubble at a time.
URL:https://things-to-lou.com/events/rooftop-apres-ski-lounge-holiday-pop-up-4/
LOCATION:High Stakes Rooftop Grill\, 710 E Jefferson St\, Louisville\, KY\, 40202\, United States
CATEGORIES:Food & Drink,Holiday Season,Mixology
ATTACH;FMTTYPE=image/png:https://things-to-lou.com/wp-content/uploads/2025/12/screenshot-2025-12-07-at-8.07.21-pm-e1765205629827.png
END:VEVENT
BEGIN:VEVENT
DTSTART;TZID=America/New_York:20251226T000000
DTEND;TZID=America/New_York:20251227T235959
DTSTAMP:20260423T025155
CREATED:20251208T145155Z
LAST-MODIFIED:20251208T145305Z
UID:10003287-1766707200-1766879999@things-to-lou.com
SUMMARY:Rooftop Après Ski Lounge | (multiple days) holiday pop up
DESCRIPTION:Event Name:\nRooftop Après Ski Lounge \nEvent Date & Time:\nTues – Sat\, from December 9 – 30. \n**excluding December 24 & 25 \nOpen 4 pm – 10 pm \nWebsite / Ticket Link:\nhttps://www.opentable.com/booking/experiences-availability?rid=1361749&restref=1361749&experienceId=603480&utm_source=thingstoloublog&utm_medium=eventcalendar&utm_campaign=blog&utm_content=thingstoloueventcalendar \nLocation:\n710 E Jefferson St\, Louisville\, KY 40202 \nEvent Host:\nHigh Stakes Rooftop \nEvent Description / Other Info:\nPerched high above the alpine skyline\, **High Stakes Rooftop Après Ski Lounge** redefines mountain luxury with a seductive blend of warmth\, exclusivity\, and high-altitude glamour. \nAs the sun sinks behind snow-draped peaks\, the lounge comes alive with panoramic views that shimmer with the electric glow of the slopes below. \nAt the heart of the experience lies our **one-of-a-kind\, house-curated Champagne & Bubbles Program**\, a collection personally selected to elevate every après moment. \nSip your way through an exceptional lineup featuring iconic houses such as **Moët & Chandon\, Veuve Clicquot\, and Dom Pérignon**\, alongside rare cuvées\, boutique grower Champagnes\, and limited-edition sparkling treasures found nowhere else in the resort. Whether you’re toasting a perfect run\, celebrating a high-stakes win\, or simply indulging in the mountain’s velvet night\, each glass is a celebration of craftsmanship and altitude-kissed decadence. \nA sanctuary for the bold and the beautifully chilled\, the High Stakes Rooftop Après Ski Lounge is where luxury ascends—one bubble at a time.
URL:https://things-to-lou.com/events/rooftop-apres-ski-lounge-holiday-pop-up-3/
LOCATION:High Stakes Rooftop Grill\, 710 E Jefferson St\, Louisville\, KY\, 40202\, United States
CATEGORIES:Food & Drink,Holiday Season,Mixology
ATTACH;FMTTYPE=image/png:https://things-to-lou.com/wp-content/uploads/2025/12/screenshot-2025-12-07-at-8.07.21-pm-e1765205629827.png
END:VEVENT
BEGIN:VEVENT
DTSTART;TZID=America/New_York:20251223T160000
DTEND;TZID=America/New_York:20251223T220000
DTSTAMP:20260423T025155
CREATED:20251208T145128Z
LAST-MODIFIED:20251208T145128Z
UID:10003286-1766505600-1766527200@things-to-lou.com
SUMMARY:Rooftop Après Ski Lounge | holiday pop up
DESCRIPTION:Event Name:\nRooftop Après Ski Lounge \nEvent Date & Time:\nTues – Sat\, from December 9 – 30. \n**excluding December 24 & 25 \nOpen 4 pm – 10 pm \nWebsite / Ticket Link:\nhttps://www.opentable.com/booking/experiences-availability?rid=1361749&restref=1361749&experienceId=603480&utm_source=thingstoloublog&utm_medium=eventcalendar&utm_campaign=blog&utm_content=thingstoloueventcalendar \nLocation:\n710 E Jefferson St\, Louisville\, KY 40202 \nEvent Host:\nHigh Stakes Rooftop \nEvent Description / Other Info:\nPerched high above the alpine skyline\, **High Stakes Rooftop Après Ski Lounge** redefines mountain luxury with a seductive blend of warmth\, exclusivity\, and high-altitude glamour. \nAs the sun sinks behind snow-draped peaks\, the lounge comes alive with panoramic views that shimmer with the electric glow of the slopes below. \nAt the heart of the experience lies our **one-of-a-kind\, house-curated Champagne & Bubbles Program**\, a collection personally selected to elevate every après moment. \nSip your way through an exceptional lineup featuring iconic houses such as **Moët & Chandon\, Veuve Clicquot\, and Dom Pérignon**\, alongside rare cuvées\, boutique grower Champagnes\, and limited-edition sparkling treasures found nowhere else in the resort. Whether you’re toasting a perfect run\, celebrating a high-stakes win\, or simply indulging in the mountain’s velvet night\, each glass is a celebration of craftsmanship and altitude-kissed decadence. \nA sanctuary for the bold and the beautifully chilled\, the High Stakes Rooftop Après Ski Lounge is where luxury ascends—one bubble at a time.
URL:https://things-to-lou.com/events/rooftop-apres-ski-lounge-holiday-pop-up-2/
LOCATION:High Stakes Rooftop Grill\, 710 E Jefferson St\, Louisville\, KY\, 40202\, United States
CATEGORIES:Food & Drink,Holiday Season,Mixology
ATTACH;FMTTYPE=image/png:https://things-to-lou.com/wp-content/uploads/2025/12/screenshot-2025-12-07-at-8.07.21-pm-e1765205629827.png
END:VEVENT
BEGIN:VEVENT
DTSTART;TZID=America/New_York:20251216T000000
DTEND;TZID=America/New_York:20251221T235959
DTSTAMP:20260423T025155
CREATED:20251208T145050Z
LAST-MODIFIED:20251208T145050Z
UID:10003285-1765843200-1766361599@things-to-lou.com
SUMMARY:Rooftop Après Ski Lounge | (Tues-Sat) holiday pop up
DESCRIPTION:Event Name:\nRooftop Après Ski Lounge \nEvent Date & Time:\nTues – Sat\, from December 9 – 30. \n**excluding December 24 & 25 \nOpen 4 pm – 10 pm \nWebsite / Ticket Link:\nhttps://www.opentable.com/booking/experiences-availability?rid=1361749&restref=1361749&experienceId=603480&utm_source=thingstoloublog&utm_medium=eventcalendar&utm_campaign=blog&utm_content=thingstoloueventcalendar \nLocation:\n710 E Jefferson St\, Louisville\, KY 40202 \nEvent Host:\nHigh Stakes Rooftop \nEvent Description / Other Info:\nPerched high above the alpine skyline\, **High Stakes Rooftop Après Ski Lounge** redefines mountain luxury with a seductive blend of warmth\, exclusivity\, and high-altitude glamour. \nAs the sun sinks behind snow-draped peaks\, the lounge comes alive with panoramic views that shimmer with the electric glow of the slopes below. \nAt the heart of the experience lies our **one-of-a-kind\, house-curated Champagne & Bubbles Program**\, a collection personally selected to elevate every après moment. \nSip your way through an exceptional lineup featuring iconic houses such as **Moët & Chandon\, Veuve Clicquot\, and Dom Pérignon**\, alongside rare cuvées\, boutique grower Champagnes\, and limited-edition sparkling treasures found nowhere else in the resort. Whether you’re toasting a perfect run\, celebrating a high-stakes win\, or simply indulging in the mountain’s velvet night\, each glass is a celebration of craftsmanship and altitude-kissed decadence. \nA sanctuary for the bold and the beautifully chilled\, the High Stakes Rooftop Après Ski Lounge is where luxury ascends—one bubble at a time.
URL:https://things-to-lou.com/events/rooftop-apres-ski-lounge-tues-sat-holiday-pop-up/
LOCATION:High Stakes Rooftop Grill\, 710 E Jefferson St\, Louisville\, KY\, 40202\, United States
CATEGORIES:Food & Drink,Holiday Season,Mixology
ATTACH;FMTTYPE=image/png:https://things-to-lou.com/wp-content/uploads/2025/12/screenshot-2025-12-07-at-8.07.21-pm-e1765205629827.png
END:VEVENT
BEGIN:VEVENT
DTSTART;TZID=America/New_York:20251209T000000
DTEND;TZID=America/New_York:20251213T235959
DTSTAMP:20260423T025155
CREATED:20251208T144647Z
LAST-MODIFIED:20251208T145040Z
UID:10003284-1765238400-1765670399@things-to-lou.com
SUMMARY:Rooftop Après Ski Lounge | (Tues-Sat) holiday pop up
DESCRIPTION:Event Name:\nRooftop Après Ski Lounge \nEvent Date & Time:\nTues – Sat\, from December 9 – 30. \n**excluding December 24 & 25 \nOpen 4 pm – 10 pm \nWebsite / Ticket Link:\nhttps://www.opentable.com/booking/experiences-availability?rid=1361749&restref=1361749&experienceId=603480&utm_source=thingstoloublog&utm_medium=eventcalendar&utm_campaign=blog&utm_content=thingstoloueventcalendar \nLocation:\n710 E Jefferson St\, Louisville\, KY 40202 \nEvent Host:\nHigh Stakes Rooftop \nEvent Description / Other Info:\nPerched high above the alpine skyline\, **High Stakes Rooftop Après Ski Lounge** redefines mountain luxury with a seductive blend of warmth\, exclusivity\, and high-altitude glamour. \nAs the sun sinks behind snow-draped peaks\, the lounge comes alive with panoramic views that shimmer with the electric glow of the slopes below. \nAt the heart of the experience lies our **one-of-a-kind\, house-curated Champagne & Bubbles Program**\, a collection personally selected to elevate every après moment. \nSip your way through an exceptional lineup featuring iconic houses such as **Moët & Chandon\, Veuve Clicquot\, and Dom Pérignon**\, alongside rare cuvées\, boutique grower Champagnes\, and limited-edition sparkling treasures found nowhere else in the resort. Whether you’re toasting a perfect run\, celebrating a high-stakes win\, or simply indulging in the mountain’s velvet night\, each glass is a celebration of craftsmanship and altitude-kissed decadence. \nA sanctuary for the bold and the beautifully chilled\, the High Stakes Rooftop Après Ski Lounge is where luxury ascends—one bubble at a time.
URL:https://things-to-lou.com/events/rooftop-apres-ski-lounge-holiday-pop-up/
LOCATION:High Stakes Rooftop Grill\, 710 E Jefferson St\, Louisville\, KY\, 40202\, United States
CATEGORIES:Food & Drink,Holiday Season,Mixology,Pop-Up Events
ATTACH;FMTTYPE=image/png:https://things-to-lou.com/wp-content/uploads/2025/12/screenshot-2025-12-07-at-8.07.21-pm-e1765205629827.png
END:VEVENT
END:VCALENDAR