BEGIN:VCALENDAR
VERSION:2.0
PRODID:-//Things To Lou - ECPv6.15.20//NONSGML v1.0//EN
CALSCALE:GREGORIAN
METHOD:PUBLISH
X-WR-CALNAME:Things To Lou
X-ORIGINAL-URL:https://things-to-lou.com
X-WR-CALDESC:Events for Things To Lou
REFRESH-INTERVAL;VALUE=DURATION:PT1H
X-Robots-Tag:noindex
X-PUBLISHED-TTL:PT1H
BEGIN:VTIMEZONE
TZID:America/New_York
BEGIN:DAYLIGHT
TZOFFSETFROM:-0500
TZOFFSETTO:-0400
TZNAME:EDT
DTSTART:20250309T070000
END:DAYLIGHT
BEGIN:STANDARD
TZOFFSETFROM:-0400
TZOFFSETTO:-0500
TZNAME:EST
DTSTART:20251102T060000
END:STANDARD
BEGIN:DAYLIGHT
TZOFFSETFROM:-0500
TZOFFSETTO:-0400
TZNAME:EDT
DTSTART:20260308T070000
END:DAYLIGHT
BEGIN:STANDARD
TZOFFSETFROM:-0400
TZOFFSETTO:-0500
TZNAME:EST
DTSTART:20261101T060000
END:STANDARD
BEGIN:DAYLIGHT
TZOFFSETFROM:-0500
TZOFFSETTO:-0400
TZNAME:EDT
DTSTART:20270314T070000
END:DAYLIGHT
BEGIN:STANDARD
TZOFFSETFROM:-0400
TZOFFSETTO:-0500
TZNAME:EST
DTSTART:20271107T060000
END:STANDARD
END:VTIMEZONE
BEGIN:VEVENT
DTSTART;TZID=America/New_York:20260507T180000
DTEND;TZID=America/New_York:20260507T213000
DTSTAMP:20260420T081207
CREATED:20260408T204051Z
LAST-MODIFIED:20260408T204421Z
UID:10004987-1778176800-1778189400@things-to-lou.com
SUMMARY:Clermont Supper Club | supper\, cocktails\, exclusive bourbon releases\, and more
DESCRIPTION:Join our Master Distiller at The Kitchen Table Restaurant and be among the first to enjoy the latest releases from the James B. Beam Distilling Co. \nWe’re big fans of this supper club! We’ve attended before — check out our video here! \n\nJoin our Master Distiller at The Kitchen Table Restaurant and be among the first to enjoy the latest releases from the James B. Beam Distilling Co. Each Clermont Supper Club features Beam-inspired fare\, unique cocktails\, and behind-the-barrel stories from the First Family of Bourbon. \nAt Clermont Supper Club\, guests taste the latest James B. Beam Distilling Co. releases alongside a specially crafted dinner paired with a selection of cocktails and pours from The James B. Beam Distilling Co. portfolio. Following dinner\, guests have the opportunity to purchase limited offerings and merchandise after hours at The American Outpost. \n\nExperience Features:\n\nHosted by our Master Distiller at The Kitchen Table\nPrivate dinner featuring handcrafted cocktails & bourbon pairing\nTaste and have the opportunity to purchase the latest releases from the James B. Beam Distilling Co. portfolio\n\n2026 Dates:\n\nMay 7 (New Little Book™ Release)\nAug 6 (New Little Book™ The Infinite Release)\nSep 3 (New Booker’s® The Reserves Release)\nNov 5 (New James B. Beam Distillery Exclusive)\nDec 3 (New Distiller’s Share™ Release / Holiday Edition)\n\nDetails\n\nTime: 6:00pm-930pm EST\nPrice: $275.00\n21+\n\n  \n 
URL:https://things-to-lou.com/events/clermont-supper-club-supper-cocktails-exclusive-bourbon-releases-and-more/2026-05-07/
LOCATION:James B. Beam Distilling Co.\, 568 Happy Hollow Rd\, Clermont\, KY\, 40110\, United States
CATEGORIES:Bourbon,Food & Drink
ATTACH;FMTTYPE=image/jpeg:https://things-to-lou.com/wp-content/uploads/2026/04/IMG_5913-e1775679473216.jpg
END:VEVENT
BEGIN:VEVENT
DTSTART;TZID=America/New_York:20260806T180000
DTEND;TZID=America/New_York:20260806T213000
DTSTAMP:20260420T081207
CREATED:20260408T204051Z
LAST-MODIFIED:20260408T204421Z
UID:10004988-1786039200-1786051800@things-to-lou.com
SUMMARY:Clermont Supper Club | supper\, cocktails\, exclusive bourbon releases\, and more
DESCRIPTION:Join our Master Distiller at The Kitchen Table Restaurant and be among the first to enjoy the latest releases from the James B. Beam Distilling Co. \nWe’re big fans of this supper club! We’ve attended before — check out our video here! \n\nJoin our Master Distiller at The Kitchen Table Restaurant and be among the first to enjoy the latest releases from the James B. Beam Distilling Co. Each Clermont Supper Club features Beam-inspired fare\, unique cocktails\, and behind-the-barrel stories from the First Family of Bourbon. \nAt Clermont Supper Club\, guests taste the latest James B. Beam Distilling Co. releases alongside a specially crafted dinner paired with a selection of cocktails and pours from The James B. Beam Distilling Co. portfolio. Following dinner\, guests have the opportunity to purchase limited offerings and merchandise after hours at The American Outpost. \n\nExperience Features:\n\nHosted by our Master Distiller at The Kitchen Table\nPrivate dinner featuring handcrafted cocktails & bourbon pairing\nTaste and have the opportunity to purchase the latest releases from the James B. Beam Distilling Co. portfolio\n\n2026 Dates:\n\nMay 7 (New Little Book™ Release)\nAug 6 (New Little Book™ The Infinite Release)\nSep 3 (New Booker’s® The Reserves Release)\nNov 5 (New James B. Beam Distillery Exclusive)\nDec 3 (New Distiller’s Share™ Release / Holiday Edition)\n\nDetails\n\nTime: 6:00pm-930pm EST\nPrice: $275.00\n21+\n\n  \n 
URL:https://things-to-lou.com/events/clermont-supper-club-supper-cocktails-exclusive-bourbon-releases-and-more/2026-08-06/
LOCATION:James B. Beam Distilling Co.\, 568 Happy Hollow Rd\, Clermont\, KY\, 40110\, United States
CATEGORIES:Bourbon,Food & Drink
ATTACH;FMTTYPE=image/jpeg:https://things-to-lou.com/wp-content/uploads/2026/04/IMG_5913-e1775679473216.jpg
END:VEVENT
BEGIN:VEVENT
DTSTART;TZID=America/New_York:20260903T180000
DTEND;TZID=America/New_York:20260903T213000
DTSTAMP:20260420T081207
CREATED:20260408T204051Z
LAST-MODIFIED:20260408T204421Z
UID:10004989-1788458400-1788471000@things-to-lou.com
SUMMARY:Clermont Supper Club | supper\, cocktails\, exclusive bourbon releases\, and more
DESCRIPTION:Join our Master Distiller at The Kitchen Table Restaurant and be among the first to enjoy the latest releases from the James B. Beam Distilling Co. \nWe’re big fans of this supper club! We’ve attended before — check out our video here! \n\nJoin our Master Distiller at The Kitchen Table Restaurant and be among the first to enjoy the latest releases from the James B. Beam Distilling Co. Each Clermont Supper Club features Beam-inspired fare\, unique cocktails\, and behind-the-barrel stories from the First Family of Bourbon. \nAt Clermont Supper Club\, guests taste the latest James B. Beam Distilling Co. releases alongside a specially crafted dinner paired with a selection of cocktails and pours from The James B. Beam Distilling Co. portfolio. Following dinner\, guests have the opportunity to purchase limited offerings and merchandise after hours at The American Outpost. \n\nExperience Features:\n\nHosted by our Master Distiller at The Kitchen Table\nPrivate dinner featuring handcrafted cocktails & bourbon pairing\nTaste and have the opportunity to purchase the latest releases from the James B. Beam Distilling Co. portfolio\n\n2026 Dates:\n\nMay 7 (New Little Book™ Release)\nAug 6 (New Little Book™ The Infinite Release)\nSep 3 (New Booker’s® The Reserves Release)\nNov 5 (New James B. Beam Distillery Exclusive)\nDec 3 (New Distiller’s Share™ Release / Holiday Edition)\n\nDetails\n\nTime: 6:00pm-930pm EST\nPrice: $275.00\n21+\n\n  \n 
URL:https://things-to-lou.com/events/clermont-supper-club-supper-cocktails-exclusive-bourbon-releases-and-more/2026-09-03/
LOCATION:James B. Beam Distilling Co.\, 568 Happy Hollow Rd\, Clermont\, KY\, 40110\, United States
CATEGORIES:Bourbon,Food & Drink
ATTACH;FMTTYPE=image/jpeg:https://things-to-lou.com/wp-content/uploads/2026/04/IMG_5913-e1775679473216.jpg
END:VEVENT
BEGIN:VEVENT
DTSTART;TZID=America/New_York:20261105T180000
DTEND;TZID=America/New_York:20261105T213000
DTSTAMP:20260420T081207
CREATED:20260408T204051Z
LAST-MODIFIED:20260408T204421Z
UID:10004990-1793901600-1793914200@things-to-lou.com
SUMMARY:Clermont Supper Club | supper\, cocktails\, exclusive bourbon releases\, and more
DESCRIPTION:Join our Master Distiller at The Kitchen Table Restaurant and be among the first to enjoy the latest releases from the James B. Beam Distilling Co. \nWe’re big fans of this supper club! We’ve attended before — check out our video here! \n\nJoin our Master Distiller at The Kitchen Table Restaurant and be among the first to enjoy the latest releases from the James B. Beam Distilling Co. Each Clermont Supper Club features Beam-inspired fare\, unique cocktails\, and behind-the-barrel stories from the First Family of Bourbon. \nAt Clermont Supper Club\, guests taste the latest James B. Beam Distilling Co. releases alongside a specially crafted dinner paired with a selection of cocktails and pours from The James B. Beam Distilling Co. portfolio. Following dinner\, guests have the opportunity to purchase limited offerings and merchandise after hours at The American Outpost. \n\nExperience Features:\n\nHosted by our Master Distiller at The Kitchen Table\nPrivate dinner featuring handcrafted cocktails & bourbon pairing\nTaste and have the opportunity to purchase the latest releases from the James B. Beam Distilling Co. portfolio\n\n2026 Dates:\n\nMay 7 (New Little Book™ Release)\nAug 6 (New Little Book™ The Infinite Release)\nSep 3 (New Booker’s® The Reserves Release)\nNov 5 (New James B. Beam Distillery Exclusive)\nDec 3 (New Distiller’s Share™ Release / Holiday Edition)\n\nDetails\n\nTime: 6:00pm-930pm EST\nPrice: $275.00\n21+\n\n  \n 
URL:https://things-to-lou.com/events/clermont-supper-club-supper-cocktails-exclusive-bourbon-releases-and-more/2026-11-05/
LOCATION:James B. Beam Distilling Co.\, 568 Happy Hollow Rd\, Clermont\, KY\, 40110\, United States
CATEGORIES:Bourbon,Food & Drink
ATTACH;FMTTYPE=image/jpeg:https://things-to-lou.com/wp-content/uploads/2026/04/IMG_5913-e1775679473216.jpg
END:VEVENT
BEGIN:VEVENT
DTSTART;TZID=America/New_York:20261203T180000
DTEND;TZID=America/New_York:20261203T213000
DTSTAMP:20260420T081207
CREATED:20260408T204051Z
LAST-MODIFIED:20260408T204421Z
UID:10004991-1796320800-1796333400@things-to-lou.com
SUMMARY:Clermont Supper Club | supper\, cocktails\, exclusive bourbon releases\, and more
DESCRIPTION:Join our Master Distiller at The Kitchen Table Restaurant and be among the first to enjoy the latest releases from the James B. Beam Distilling Co. \nWe’re big fans of this supper club! We’ve attended before — check out our video here! \n\nJoin our Master Distiller at The Kitchen Table Restaurant and be among the first to enjoy the latest releases from the James B. Beam Distilling Co. Each Clermont Supper Club features Beam-inspired fare\, unique cocktails\, and behind-the-barrel stories from the First Family of Bourbon. \nAt Clermont Supper Club\, guests taste the latest James B. Beam Distilling Co. releases alongside a specially crafted dinner paired with a selection of cocktails and pours from The James B. Beam Distilling Co. portfolio. Following dinner\, guests have the opportunity to purchase limited offerings and merchandise after hours at The American Outpost. \n\nExperience Features:\n\nHosted by our Master Distiller at The Kitchen Table\nPrivate dinner featuring handcrafted cocktails & bourbon pairing\nTaste and have the opportunity to purchase the latest releases from the James B. Beam Distilling Co. portfolio\n\n2026 Dates:\n\nMay 7 (New Little Book™ Release)\nAug 6 (New Little Book™ The Infinite Release)\nSep 3 (New Booker’s® The Reserves Release)\nNov 5 (New James B. Beam Distillery Exclusive)\nDec 3 (New Distiller’s Share™ Release / Holiday Edition)\n\nDetails\n\nTime: 6:00pm-930pm EST\nPrice: $275.00\n21+\n\n  \n 
URL:https://things-to-lou.com/events/clermont-supper-club-supper-cocktails-exclusive-bourbon-releases-and-more/2026-12-03/
LOCATION:James B. Beam Distilling Co.\, 568 Happy Hollow Rd\, Clermont\, KY\, 40110\, United States
CATEGORIES:Bourbon,Food & Drink
ATTACH;FMTTYPE=image/jpeg:https://things-to-lou.com/wp-content/uploads/2026/04/IMG_5913-e1775679473216.jpg
END:VEVENT
END:VCALENDAR