BEGIN:VCALENDAR
VERSION:2.0
PRODID:-//Things To Lou - ECPv6.15.20//NONSGML v1.0//EN
CALSCALE:GREGORIAN
METHOD:PUBLISH
X-ORIGINAL-URL:https://things-to-lou.com
X-WR-CALDESC:Events for Things To Lou
REFRESH-INTERVAL;VALUE=DURATION:PT1H
X-Robots-Tag:noindex
X-PUBLISHED-TTL:PT1H
BEGIN:VTIMEZONE
TZID:America/New_York
BEGIN:DAYLIGHT
TZOFFSETFROM:-0500
TZOFFSETTO:-0400
TZNAME:EDT
DTSTART:20250309T070000
END:DAYLIGHT
BEGIN:STANDARD
TZOFFSETFROM:-0400
TZOFFSETTO:-0500
TZNAME:EST
DTSTART:20251102T060000
END:STANDARD
BEGIN:DAYLIGHT
TZOFFSETFROM:-0500
TZOFFSETTO:-0400
TZNAME:EDT
DTSTART:20260308T070000
END:DAYLIGHT
BEGIN:STANDARD
TZOFFSETFROM:-0400
TZOFFSETTO:-0500
TZNAME:EST
DTSTART:20261101T060000
END:STANDARD
BEGIN:DAYLIGHT
TZOFFSETFROM:-0500
TZOFFSETTO:-0400
TZNAME:EDT
DTSTART:20270314T070000
END:DAYLIGHT
BEGIN:STANDARD
TZOFFSETFROM:-0400
TZOFFSETTO:-0500
TZNAME:EST
DTSTART:20271107T060000
END:STANDARD
END:VTIMEZONE
BEGIN:VEVENT
DTSTART;TZID=America/New_York:20260419T180000
DTEND;TZID=America/New_York:20260419T210000
DTSTAMP:20260419T083706
CREATED:20260325T194459Z
LAST-MODIFIED:20260325T194459Z
UID:10004774-1776621600-1776632400@things-to-lou.com
SUMMARY:KY Shakespeare in the Parks: "The Tempest"
DESCRIPTION:Kentucky Shakespeare\, the Official Shakespeare Festival of the Commonwealth\, presents the annual FREE Shakespeare in the Parks tour of THE TEMPEST\, touring to a record 46 parks this spring and coming to Iroquois Amphitheater on April 19th! \n“O brave new world\, that has such people in’t!” \nShakespeare’s final play is a testament to the redeeming power of love and forgiveness – featuring fools\, spirits\, monsters\, shipwrecks\, and magical spells. This one-act magical comedy is performed with five actors in neighborhood parks across the region this spring. \nThese are FREE\, Family-friendly performances for the community and do not require reservations or tickets. \nThe show is approximately 80 minutes long without an intermission. \n\n  \nApril 19 \nDoors: 6:00 pm \nShow: 6:30 pm \n 
URL:https://things-to-lou.com/events/ky-shakespeare-in-the-parks-the-tempest/
LOCATION:Iroquois Amphitheater\, 1080 Amphitheater Rd\, Louisville\, KY\, 40214\, United States
CATEGORIES:Art,Family & Children,Theatre
END:VEVENT
BEGIN:VEVENT
DTSTART;TZID=America/New_York:20260425T090000
DTEND;TZID=America/New_York:20260425T143000
DTSTAMP:20260419T083706
CREATED:20260124T013106Z
LAST-MODIFIED:20260124T013106Z
UID:10004116-1777107600-1777127400@things-to-lou.com
SUMMARY:Hot Glass MAKE IT! | glass blowing class | CUPS (multiple class times)
DESCRIPTION:It’s Cup season! Join us for a Saturday cup class in April and get ready for Oaks and Derby by making your very own drinking glass for your favorite beverage. \nWhat’s your favorite style\, rocks glass? Iced tea? Water glass? Choose your colors and design and MAKE IT with us! \nItems will be ready for pick-up one week after the class. \nMust be 18 or older\, or 15+ with a parent. \n***description from website \n  \nGET TICKETS HERE
URL:https://things-to-lou.com/events/hot-glass-make-it-glass-blowing-class-cups-multiple-class-times/2026-04-25/
LOCATION:ACME Artworks Hot Shop\, 953 S Clay ST\, Louisville\, KY\, 40203\, United States
CATEGORIES:Workshop
ATTACH;FMTTYPE=image/jpeg:https://things-to-lou.com/wp-content/uploads/2026/01/img_4191_original-e1769217839753.jpg
END:VEVENT
END:VCALENDAR