BEGIN:VCALENDAR
VERSION:2.0
PRODID:-//Things To Lou - ECPv6.15.20//NONSGML v1.0//EN
CALSCALE:GREGORIAN
METHOD:PUBLISH
X-WR-CALNAME:Things To Lou
X-ORIGINAL-URL:https://things-to-lou.com
X-WR-CALDESC:Events for Things To Lou
REFRESH-INTERVAL;VALUE=DURATION:PT1H
X-Robots-Tag:noindex
X-PUBLISHED-TTL:PT1H
BEGIN:VTIMEZONE
TZID:America/New_York
BEGIN:DAYLIGHT
TZOFFSETFROM:-0500
TZOFFSETTO:-0400
TZNAME:EDT
DTSTART:20240310T070000
END:DAYLIGHT
BEGIN:STANDARD
TZOFFSETFROM:-0400
TZOFFSETTO:-0500
TZNAME:EST
DTSTART:20241103T060000
END:STANDARD
BEGIN:DAYLIGHT
TZOFFSETFROM:-0500
TZOFFSETTO:-0400
TZNAME:EDT
DTSTART:20250309T070000
END:DAYLIGHT
BEGIN:STANDARD
TZOFFSETFROM:-0400
TZOFFSETTO:-0500
TZNAME:EST
DTSTART:20251102T060000
END:STANDARD
BEGIN:DAYLIGHT
TZOFFSETFROM:-0500
TZOFFSETTO:-0400
TZNAME:EDT
DTSTART:20260308T070000
END:DAYLIGHT
BEGIN:STANDARD
TZOFFSETFROM:-0400
TZOFFSETTO:-0500
TZNAME:EST
DTSTART:20261101T060000
END:STANDARD
END:VTIMEZONE
BEGIN:VEVENT
DTSTART;TZID=America/New_York:20250921T173000
DTEND;TZID=America/New_York:20250921T203000
DTSTAMP:20260420T024227
CREATED:20250806T045607Z
LAST-MODIFIED:20250806T045607Z
UID:10002864-1758475800-1758486600@things-to-lou.com
SUMMARY:Hard Pressed & Hand Poured: Blake's Hard Cider x Maddox & Rose Marketplace
DESCRIPTION:Join us for Hard Pressed & Hand Poured with Blake’s Hard Cider + Maddox & Rose Marketplace. Sip and smell- pour decisions await you! \nAges 21+ \nJoin us for a fun evening filled with delicious hard cider from Blake’s Hard Cider and custom\, handmade candles from Maddox & Rose Marketplace. Get ready to sip on refreshing ciders and shop for one-of-a-kind items in a charming setting. \nThis event is happening on This event will take place on Sunday\, September 21st\, 2025 at Maddox & Rose Marketplace in the Nulu neighborhood. Don’t miss out on this exciting opportunity to enjoy this one-of-a-kind collaboration! \n  \n***description from Eventbrite
URL:https://things-to-lou.com/events/hard-pressed-hand-poured-blakes-hard-cider-x-maddox-rose-marketplace/
LOCATION:Maddox & Rose Marketplace\, 900 E Main St #104\, Louisville\, KY\, 40206\, United States
CATEGORIES:Beer / Brewery,Food & Drink,Workshop
END:VEVENT
END:VCALENDAR