BEGIN:VCALENDAR
VERSION:2.0
PRODID:-//Things To Lou - ECPv6.15.20//NONSGML v1.0//EN
CALSCALE:GREGORIAN
METHOD:PUBLISH
X-ORIGINAL-URL:https://things-to-lou.com
X-WR-CALDESC:Events for Things To Lou
REFRESH-INTERVAL;VALUE=DURATION:PT1H
X-Robots-Tag:noindex
X-PUBLISHED-TTL:PT1H
BEGIN:VTIMEZONE
TZID:America/New_York
BEGIN:DAYLIGHT
TZOFFSETFROM:-0500
TZOFFSETTO:-0400
TZNAME:EDT
DTSTART:20250309T070000
END:DAYLIGHT
BEGIN:STANDARD
TZOFFSETFROM:-0400
TZOFFSETTO:-0500
TZNAME:EST
DTSTART:20251102T060000
END:STANDARD
BEGIN:DAYLIGHT
TZOFFSETFROM:-0500
TZOFFSETTO:-0400
TZNAME:EDT
DTSTART:20260308T070000
END:DAYLIGHT
BEGIN:STANDARD
TZOFFSETFROM:-0400
TZOFFSETTO:-0500
TZNAME:EST
DTSTART:20261101T060000
END:STANDARD
BEGIN:DAYLIGHT
TZOFFSETFROM:-0500
TZOFFSETTO:-0400
TZNAME:EDT
DTSTART:20270314T070000
END:DAYLIGHT
BEGIN:STANDARD
TZOFFSETFROM:-0400
TZOFFSETTO:-0500
TZNAME:EST
DTSTART:20271107T060000
END:STANDARD
END:VTIMEZONE
BEGIN:VEVENT
DTSTART;TZID=America/New_York:20260422T173000
DTEND;TZID=America/New_York:20260422T210000
DTSTAMP:20260420T025510
CREATED:20260408T210919Z
LAST-MODIFIED:20260408T210919Z
UID:10004996-1776879000-1776891600@things-to-lou.com
SUMMARY:Bar Music Bingo Party @ High Stakes Rooftop
DESCRIPTION:Get ready for a high-energy night of music\, drinks\, and rooftop fun at High Stakes Rooftop\, located on the 6th floor of the Tempo by Hilton in NuLu\, on Wednesday\, April 22nd! \nWe’re turning up the volume with Bar Music Bingo featuring the ultimate playlist of bar anthems\, throwback bangers\, sing-along favorites\, and guilty pleasures that will have the whole rooftop vibing. \n\nCheck-In: 5:30 PM\nBingo Starts: 6:00 PM\n\nNo boring numbers here—when you hear the song\, mark your card and get ready to sing it loud\, cheer your friends on\, and chase that bingo. Expect a lively crowd\, big energy\, and plenty of moments where the whole rooftop is singing along together. \nFuel the party with themed drink specials from our friends at Tito’s and Red Bull\, grab your crew\, and get ready for a night of music\, laughs\, and rooftop bragging rights. Come early\, bring your best sing-along energy\, and let’s make Wednesday night in NuLu the most fun night of the week. \n 
URL:https://things-to-lou.com/events/bar-music-bingo-party-high-stakes-rooftop/
LOCATION:High Stakes Rooftop Grill\, 710 E Jefferson St\, Louisville\, KY\, 40202\, United States
CATEGORIES:Food & Drink,Games/Pinball/Bingo/etc.
ATTACH;FMTTYPE=image/png:https://things-to-lou.com/wp-content/uploads/2026/04/aaaaaaaaaaaaaaaaaaaaaaaaaaaaaaaaaaaaa-e1775656269303.png
END:VEVENT
END:VCALENDAR