BEGIN:VCALENDAR
VERSION:2.0
PRODID:-//Things To Lou - ECPv6.15.20//NONSGML v1.0//EN
CALSCALE:GREGORIAN
METHOD:PUBLISH
X-WR-CALNAME:Things To Lou
X-ORIGINAL-URL:https://things-to-lou.com
X-WR-CALDESC:Events for Things To Lou
REFRESH-INTERVAL;VALUE=DURATION:PT1H
X-Robots-Tag:noindex
X-PUBLISHED-TTL:PT1H
BEGIN:VTIMEZONE
TZID:America/New_York
BEGIN:DAYLIGHT
TZOFFSETFROM:-0500
TZOFFSETTO:-0400
TZNAME:EDT
DTSTART:20240310T070000
END:DAYLIGHT
BEGIN:STANDARD
TZOFFSETFROM:-0400
TZOFFSETTO:-0500
TZNAME:EST
DTSTART:20241103T060000
END:STANDARD
BEGIN:DAYLIGHT
TZOFFSETFROM:-0500
TZOFFSETTO:-0400
TZNAME:EDT
DTSTART:20250309T070000
END:DAYLIGHT
BEGIN:STANDARD
TZOFFSETFROM:-0400
TZOFFSETTO:-0500
TZNAME:EST
DTSTART:20251102T060000
END:STANDARD
BEGIN:DAYLIGHT
TZOFFSETFROM:-0500
TZOFFSETTO:-0400
TZNAME:EDT
DTSTART:20260308T070000
END:DAYLIGHT
BEGIN:STANDARD
TZOFFSETFROM:-0400
TZOFFSETTO:-0500
TZNAME:EST
DTSTART:20261101T060000
END:STANDARD
END:VTIMEZONE
BEGIN:VEVENT
DTSTART;TZID=America/New_York:20250920T180000
DTEND;TZID=America/New_York:20250920T210000
DTSTAMP:20260424T211516
CREATED:20250910T022824Z
LAST-MODIFIED:20250910T022824Z
UID:10002945-1758391200-1758402000@things-to-lou.com
SUMMARY:Chalkfest
DESCRIPTION:Event Name: \nChalkfest \nEvent Date: \n2025-09-20 \nWebsite / Ticket Link: \n  \nLocation: \nHighlands Block (Deer Park) \nEvent Host: \nPurrfect Day Cafe \nEvent Description / Other Info: \nSaturday\, September 20\, 2025\, 6 PM – 9 PM \nLocation: The Highlands (Deer Park Suites) \n  \nPresented by (sidewalk in front of these businesses): Purrfect Day Cafe\, Highlands Fish Market\, Rosehill Lagerhaus\, The Post\, Darlings Bar\, El Mundo \nSquares of sidewalk will be chalked off for local artists. \nFirst come – first served. Come show off your skills! Chalk buckets will be provided. \nChalkfest will be a vibrant\, evening block party celebrating creativity\, community\, and the colorful energy of the Highlands. \nFeaturing local artists\, live chalk art\, and an interactive passport adventure for customers along our neighborhood block to WIN a basket of swag and gift cards! \n  \nMORE INFO ON FACEBOOK
URL:https://things-to-lou.com/events/chalkfest/
CATEGORIES:Art,Block Party / Community Festival
END:VEVENT
END:VCALENDAR