BEGIN:VCALENDAR
VERSION:2.0
PRODID:-//Things To Lou - ECPv6.15.20//NONSGML v1.0//EN
CALSCALE:GREGORIAN
METHOD:PUBLISH
X-WR-CALNAME:Things To Lou
X-ORIGINAL-URL:https://things-to-lou.com
X-WR-CALDESC:Events for Things To Lou
REFRESH-INTERVAL;VALUE=DURATION:PT1H
X-Robots-Tag:noindex
X-PUBLISHED-TTL:PT1H
BEGIN:VTIMEZONE
TZID:America/New_York
BEGIN:DAYLIGHT
TZOFFSETFROM:-0500
TZOFFSETTO:-0400
TZNAME:EDT
DTSTART:20240310T070000
END:DAYLIGHT
BEGIN:STANDARD
TZOFFSETFROM:-0400
TZOFFSETTO:-0500
TZNAME:EST
DTSTART:20241103T060000
END:STANDARD
BEGIN:DAYLIGHT
TZOFFSETFROM:-0500
TZOFFSETTO:-0400
TZNAME:EDT
DTSTART:20250309T070000
END:DAYLIGHT
BEGIN:STANDARD
TZOFFSETFROM:-0400
TZOFFSETTO:-0500
TZNAME:EST
DTSTART:20251102T060000
END:STANDARD
BEGIN:DAYLIGHT
TZOFFSETFROM:-0500
TZOFFSETTO:-0400
TZNAME:EDT
DTSTART:20260308T070000
END:DAYLIGHT
BEGIN:STANDARD
TZOFFSETFROM:-0400
TZOFFSETTO:-0500
TZNAME:EST
DTSTART:20261101T060000
END:STANDARD
END:VTIMEZONE
BEGIN:VEVENT
DTSTART;TZID=America/New_York:20250711T180000
DTEND;TZID=America/New_York:20250711T230000
DTSTAMP:20260425T221314
CREATED:20250709T071234Z
LAST-MODIFIED:20250709T071256Z
UID:10002742-1752256800-1752274800@things-to-lou.com
SUMMARY:Schmitt Furniture’s 89th Birthday Bash | free concert\, Juice Box Heroes\, food\, beer
DESCRIPTION:Celebrate Schmitt Furniture’s 89th Birthday Bash Friday\, July 11th at the New Albany Amphitheater with a FREE CONCERT featuring local food\, beer and wine with JAKJAW taking the stage at 6:00 pm and the Juice Box Heroes from 8:00 to 11:00 pm! \n\nPresented By: Schmitt Furniture\nDates: July 11\, 2025\nLocation: New Albany Riverfront Amphitheater\nAddress: 101 – 599 Ohio River Greenway\, New Albany\, IN 47150\nTime: 6:00 PM to 11:00 PM
URL:https://things-to-lou.com/events/schmitt-furnitures-89th-birthday-bash-free-concert-juice-box-heroes-food-beer/
END:VEVENT
END:VCALENDAR