BEGIN:VCALENDAR
VERSION:2.0
PRODID:-//Things To Lou - ECPv6.15.20//NONSGML v1.0//EN
CALSCALE:GREGORIAN
METHOD:PUBLISH
X-WR-CALNAME:Things To Lou
X-ORIGINAL-URL:https://things-to-lou.com
X-WR-CALDESC:Events for Things To Lou
REFRESH-INTERVAL;VALUE=DURATION:PT1H
X-Robots-Tag:noindex
X-PUBLISHED-TTL:PT1H
BEGIN:VTIMEZONE
TZID:America/New_York
BEGIN:DAYLIGHT
TZOFFSETFROM:-0500
TZOFFSETTO:-0400
TZNAME:EDT
DTSTART:20240310T070000
END:DAYLIGHT
BEGIN:STANDARD
TZOFFSETFROM:-0400
TZOFFSETTO:-0500
TZNAME:EST
DTSTART:20241103T060000
END:STANDARD
BEGIN:DAYLIGHT
TZOFFSETFROM:-0500
TZOFFSETTO:-0400
TZNAME:EDT
DTSTART:20250309T070000
END:DAYLIGHT
BEGIN:STANDARD
TZOFFSETFROM:-0400
TZOFFSETTO:-0500
TZNAME:EST
DTSTART:20251102T060000
END:STANDARD
BEGIN:DAYLIGHT
TZOFFSETFROM:-0500
TZOFFSETTO:-0400
TZNAME:EDT
DTSTART:20260308T070000
END:DAYLIGHT
BEGIN:STANDARD
TZOFFSETFROM:-0400
TZOFFSETTO:-0500
TZNAME:EST
DTSTART:20261101T060000
END:STANDARD
END:VTIMEZONE
BEGIN:VEVENT
DTSTART;TZID=America/New_York:20250726T000000
DTEND;TZID=America/New_York:20250728T235959
DTSTAMP:20260425T135501
CREATED:20250718T182843Z
LAST-MODIFIED:20250718T182922Z
UID:10002796-1753488000-1753747199@things-to-lou.com
SUMMARY:55th Annual World Championship DAINTY Contest & Festival
DESCRIPTION:🎉 55th Annual World Championship DAINTY Contest & Festival! 🏆 \nCome one\, come all! To that same old street corner on the last Monday in July\, for the 55th Annual World Championship Dainty Contest! \nThis is the weekend that Schnitzelburgers look forward to all year long\, and this year we’ve got more to celebrate than ever before! \nFULL SCHEDULE OF EVENTS:\nFull details on Dainty weekend\, including how to play at http://www.DaintyFest.org\n____________________________________________________\n🎠 Saturday\, July 26: 5:00pm – late @ The MerryWeather \nDainty FUNdraiser Carnival\n———————————————————-\nJoin us on Saturday for an evening of FUN 🎯 \nFeaturing: \n🎪 Hand-crafted\, old style carnival games from NBD Home Repair (where you can win tickets for some Dainty merch\, SACC merch\, & more!)\n🏏 Take a swing at the Dainty in our Dainty batting cage\n🌭 Delicious food\, 🍻 drinks\, 🥒 pickle ice cream –courtesy of Dairy Dell!\n🧑‍🤝‍🧑 Good company\n🤼‍♂️ And oh – WRESTLING from OVW!\n👉 (See all the details: http://www.DaintyFest.org)\n______________________________________________________\n🎷 Sunday\, July 27: 11:00am – 4:00pm @ George Hauck Way \nSchnitzelburg Sunday Funday\n———————————————————-\nSunday is the Opening Ceremonies for Dainty 2025\, and a celebration of the best community in the world! \nThe day begins at The MerryWeather for some recovery brunch (11:00am – noon) 🥞 — and also serves as the starting point for the Dainty Parade! 🎺 (Presented by BCCN Law) \nFrom there\, the procession — led by a live performance from the Hot Sauce Brass Band — winds through Schnitzelburg to the home of the Dainty: the corner of George Hauck Way. \nOnce there\, enjoy and take part in: \n🏅 Hanging of the plaque to recognize last year’s world champion\, Col. JM Lippa\n🥪 The Bologna Sandwich Eating Contest (Presented by Emerald Title Group)\n🥒 The Pickle Juice Chugging Contest\n🎩 The Dainty Magic Show & 🐐 Petting Zoo (Presented by Hauck’s Corner)\n🏘️ Plus booths from neighborhood associations\, local businesses\, and your friendly Dainty Fest organizers!\n👉 (See all the details or signup for Bologna and Pickle contest: http://www.DaintyFest.org)\n____________________________________________________ \nMonday\, July 28: 4:30pm – last at bat @ George Hauck Way \n55th Annual World Championship Dainty Contest\n———————————————————-\nNow for the main event! 🎉 \nSince 1971\, folks from all across Louisville have gathered at the corner of George Hauck Way to compete in the slowest five hours in sports 🐢 and be part of the quirky tradition started by George 55 years ago: The Dainty! \n🪵 The Rules: \n• 45 years or older to play \n• One hand only on the Dainty bat \n• Three strikes – a strike is whenever wood touches wood \n🏆 Farthest Dainty distance is the champion\n🍋 Shortest Dainty distance gets a basket of lemons\n🥪 Bologna sandwich with mustard on white bread\, a bag of plain chips\, and a whole pickle is the official meal\n📋 Signups begin at 4:30\n🕔 Play begins just after 5:00\n⏳ Game runs till we run out of bologna or players\n(See all the rules\, signup details\, and more: http://www.DaintyFest.org) \n  \n***description from Facebook event
URL:https://things-to-lou.com/events/55th-annual-world-championship-dainty-contest-festival/
CATEGORIES:Block Party / Community Festival,Contest,Food & Drink,Local Culture
END:VEVENT
END:VCALENDAR