BEGIN:VCALENDAR
VERSION:2.0
PRODID:-//Things To Lou - ECPv6.15.20//NONSGML v1.0//EN
CALSCALE:GREGORIAN
METHOD:PUBLISH
X-WR-CALNAME:Things To Lou
X-ORIGINAL-URL:https://things-to-lou.com
X-WR-CALDESC:Events for Things To Lou
REFRESH-INTERVAL;VALUE=DURATION:PT1H
X-Robots-Tag:noindex
X-PUBLISHED-TTL:PT1H
BEGIN:VTIMEZONE
TZID:America/New_York
BEGIN:DAYLIGHT
TZOFFSETFROM:-0500
TZOFFSETTO:-0400
TZNAME:EDT
DTSTART:20240310T070000
END:DAYLIGHT
BEGIN:STANDARD
TZOFFSETFROM:-0400
TZOFFSETTO:-0500
TZNAME:EST
DTSTART:20241103T060000
END:STANDARD
BEGIN:DAYLIGHT
TZOFFSETFROM:-0500
TZOFFSETTO:-0400
TZNAME:EDT
DTSTART:20250309T070000
END:DAYLIGHT
BEGIN:STANDARD
TZOFFSETFROM:-0400
TZOFFSETTO:-0500
TZNAME:EST
DTSTART:20251102T060000
END:STANDARD
BEGIN:DAYLIGHT
TZOFFSETFROM:-0500
TZOFFSETTO:-0400
TZNAME:EDT
DTSTART:20260308T070000
END:DAYLIGHT
BEGIN:STANDARD
TZOFFSETFROM:-0400
TZOFFSETTO:-0500
TZNAME:EST
DTSTART:20261101T060000
END:STANDARD
END:VTIMEZONE
BEGIN:VEVENT
DTSTART;TZID=America/New_York:20251004T000000
DTEND;TZID=America/New_York:20251005T235959
DTSTAMP:20260420T043519
CREATED:20250930T074552Z
LAST-MODIFIED:20250930T074552Z
UID:10003055-1759536000-1759708799@things-to-lou.com
SUMMARY:Artists and Afros 2025 (multiple dates)
DESCRIPTION:Join us for an immersive weekend filled with soulful live jazz\, stunning visual art for sale\, and meaningful connection. \nArtists & Afros is a celebration of creativity\, culture\, and community\, bringing together talented artists. Witness firsthand the captivating brilliance of visual artists. The event is free and open to the public. \nParking for the art show is $10. Patrons will be able to park at the Norton Healthcare Sports & Learning Center and take a bus to the St. James Court Art Show or Speed Art Museum. \n\nCheck the website for more details\, you may register for a ticket now on Eventbrite! \nWe’re thrilled to welcome you back for the second annual Artists & Afros! Building on the success of last year’s dynamic showcase\, this year promises an even more vibrant celebration of art\, culture\, and community. Enjoy an immersive weekend filled with soulful live jazz by The Erica Denise\, stunning visual art\, and meaningful connection. Whether you’re a collector\, enthusiast\, or curious newcomer\, join us for a champagne toast as we honor the creativity that enriches our world—we can’t wait to see you there! \nMeet the Jurors:\nWe are honored to have a distinguished panel of jurors for this year’s Artists & Afros exhibition\, each bringing a wealth of expertise and a deep appreciation for Black artistic expression. Their combined experience in art\, culture\, and community ensures a thoughtful and insightful selection process that celebrates the diverse talents showcased within our vibrant community. \n\nEd Hamilton – Award winning\, nationally renowned sculptor\, whose body of work includes the Joe Louis sculpture in Joe Louis Arena\, Detroit\, MI The Booker T. Washington Monument at Hampton University\, Hampton\, VA and The Spirit of Freedom\, Civil War Monument in Washington\, DC (the first public sculpture in the nation’s capital created by an African American.\nAndre’ Kimo Guess\, President & CEO\, Fund for the Arts (FFTA) – He notably served as the Vice President and Producer of Jazz at Lincoln Center (JALC) in New York City and as President and CEO of the August Wilson Center for African American Culture in Pittsburgh. He has also owned and operated his management consulting firm\, GuessWorks\, Inc.\, for over 14 years.\nCathy Smith Shannon\, Chief Curator and Co-owner of E&S Gallery\, Inc. the largest Black owned framing gallery in the U.S. Master of Arts and Art History with a concentration in Critical and Curatorial Studies\n\n\nDetails:\nVenue Address: 3029 Muhammad Ali Blvd. Louisville\, KY 40203 \nThe Norton Healthcare Sports & Learning Center is located just 15 minutes from the Louisville Muhammad Ali International Airport and easily accessible from I-264\, I-64\, and downtown Louisville. \n  \n***description from website
URL:https://things-to-lou.com/events/artists-and-afros-2025-multiple-dates/
LOCATION:Norton Healthcare Sports & Learning Center\, 3029 W Muhammad Ali Blvd\, Louisville\, KY\, 40212\, United States
CATEGORIES:Art,Block Party / Community Festival,Market
END:VEVENT
END:VCALENDAR