BEGIN:VCALENDAR
VERSION:2.0
PRODID:-//Things To Lou - ECPv6.15.20//NONSGML v1.0//EN
CALSCALE:GREGORIAN
METHOD:PUBLISH
X-WR-CALNAME:Things To Lou
X-ORIGINAL-URL:https://things-to-lou.com
X-WR-CALDESC:Events for Things To Lou
REFRESH-INTERVAL;VALUE=DURATION:PT1H
X-Robots-Tag:noindex
X-PUBLISHED-TTL:PT1H
BEGIN:VTIMEZONE
TZID:America/New_York
BEGIN:DAYLIGHT
TZOFFSETFROM:-0500
TZOFFSETTO:-0400
TZNAME:EDT
DTSTART:20240310T070000
END:DAYLIGHT
BEGIN:STANDARD
TZOFFSETFROM:-0400
TZOFFSETTO:-0500
TZNAME:EST
DTSTART:20241103T060000
END:STANDARD
BEGIN:DAYLIGHT
TZOFFSETFROM:-0500
TZOFFSETTO:-0400
TZNAME:EDT
DTSTART:20250309T070000
END:DAYLIGHT
BEGIN:STANDARD
TZOFFSETFROM:-0400
TZOFFSETTO:-0500
TZNAME:EST
DTSTART:20251102T060000
END:STANDARD
BEGIN:DAYLIGHT
TZOFFSETFROM:-0500
TZOFFSETTO:-0400
TZNAME:EDT
DTSTART:20260308T070000
END:DAYLIGHT
BEGIN:STANDARD
TZOFFSETFROM:-0400
TZOFFSETTO:-0500
TZNAME:EST
DTSTART:20261101T060000
END:STANDARD
END:VTIMEZONE
BEGIN:VEVENT
DTSTART;TZID=America/New_York:20251017T170000
DTEND;TZID=America/New_York:20251017T200000
DTSTAMP:20260424T173202
CREATED:20251008T030552Z
LAST-MODIFIED:20251008T030552Z
UID:10003059-1760720400-1760731200@things-to-lou.com
SUMMARY:Olmsted Parks Beer Garden – Shelby Park
DESCRIPTION:The Olmsted Parks Beer Garden Series brings pop up events to various parks within the Olmsted Park System. These events are great opportunities to meet your neighbors and spend time in our beautiful urban green spaces. \nOctober 17\, 2025 | 5:00pm – 8:00pm \nShelby Park: 600 E Oak St\, Louisville\, KY 40203 \nEnjoy beer from West Sixth Brewing and food from local food trucks. Admission is free. This family friendly event features lawn games and fun for all! \n**description from website
URL:https://things-to-lou.com/events/olmsted-parks-beer-garden-shelby-park/
LOCATION:Shelby Park\, 600 E Oak St\, Louisville\, KY\, 40203\, United States
CATEGORIES:Beer / Brewery,Block Party / Community Festival,Outdoors
END:VEVENT
BEGIN:VEVENT
DTSTART;TZID=America/New_York:20251017T170000
DTEND;TZID=America/New_York:20251017T233000
DTSTAMP:20260424T173202
CREATED:20251008T031145Z
LAST-MODIFIED:20251008T031145Z
UID:10003060-1760720400-1760743800@things-to-lou.com
SUMMARY:Nulu Nights
DESCRIPTION:Join us for our next NuLu Nights on October 17! \nExperience the energy of NuLu Nights\, a vibrant evening series happening July 25\, August 22\, October 17\, and December 12. \nOn each date\, the NuLu neighborhood comes alive after hours with live music\, pop-up art activations\, and exclusive in-store experiences. Retailers and local businesses will stay open late\, offering special discounts\, limited-time offers\, and one-of-a-kind finds you won’t want to miss. \nWhether you’re shopping\, sipping\, or simply soaking in the atmosphere\, NuLu Nights is your perfect excuse to spend an unforgettable night in one of Louisville’s most creative districts. \n***description from website
URL:https://things-to-lou.com/events/nulu-nights-5/
LOCATION:NULU\, 701 E Market St.\, Louisville\, KY\, 40202\, United States
CATEGORIES:Block Party / Community Festival,Shopping
END:VEVENT
END:VCALENDAR