BEGIN:VCALENDAR
VERSION:2.0
PRODID:-//Things To Lou - ECPv6.15.20//NONSGML v1.0//EN
CALSCALE:GREGORIAN
METHOD:PUBLISH
X-WR-CALNAME:Things To Lou
X-ORIGINAL-URL:https://things-to-lou.com
X-WR-CALDESC:Events for Things To Lou
REFRESH-INTERVAL;VALUE=DURATION:PT1H
X-Robots-Tag:noindex
X-PUBLISHED-TTL:PT1H
BEGIN:VTIMEZONE
TZID:America/New_York
BEGIN:DAYLIGHT
TZOFFSETFROM:-0500
TZOFFSETTO:-0400
TZNAME:EDT
DTSTART:20250309T070000
END:DAYLIGHT
BEGIN:STANDARD
TZOFFSETFROM:-0400
TZOFFSETTO:-0500
TZNAME:EST
DTSTART:20251102T060000
END:STANDARD
BEGIN:DAYLIGHT
TZOFFSETFROM:-0500
TZOFFSETTO:-0400
TZNAME:EDT
DTSTART:20260308T070000
END:DAYLIGHT
BEGIN:STANDARD
TZOFFSETFROM:-0400
TZOFFSETTO:-0500
TZNAME:EST
DTSTART:20261101T060000
END:STANDARD
BEGIN:DAYLIGHT
TZOFFSETFROM:-0500
TZOFFSETTO:-0400
TZNAME:EDT
DTSTART:20270314T070000
END:DAYLIGHT
BEGIN:STANDARD
TZOFFSETFROM:-0400
TZOFFSETTO:-0500
TZNAME:EST
DTSTART:20271107T060000
END:STANDARD
END:VTIMEZONE
BEGIN:VEVENT
DTSTART;TZID=America/New_York:20260128T000000
DTEND;TZID=America/New_York:20260201T235959
DTSTAMP:20260423T224753
CREATED:20251126T053819Z
LAST-MODIFIED:20251126T054356Z
UID:10003232-1769558400-1769990399@things-to-lou.com
SUMMARY:2026 Discover Boating® Louisville Boat\, RV & Sportshow® (multiple dates)
DESCRIPTION:Event Name:\n2026 Discover Boating® Louisville Boat\, RV & Sportshow® \nEvent Date:\nJan 28 – Feb 1\, 2026 \nWebsite / Ticket Link:\nhttps://secure.interactiveticketing.com/1.43/fa23b9/?_gl=1*zwozac*_gcl_au*MzQ2MDQwOTc5LjE3NjA5NzU1Njk.*_ga*MTI0MjAwNDc5Ni4xNzYwOTc1NTY5*_ga_KBP7PWQMY7*czE3NjM0MTIzNDYkbzkkZzAkdDE3NjM0MTIzNDYkajYwJGwwJGgw&_ga=2.82054678.1605582518.1763412346-1242004796.1760975569#/select \nLocation:\nKentucky Exposition Center: 937 Phillips Lane Louisville\, KY 40209 \nEvent Description / Other Info:\nLouisville’s favorite winter tradition is back. The Discover Boating® Louisville Boat\, RV & Sportshow\, in partnership with Progressive® Insurance\, returns Wednesday\, January 28–Sunday\, February 1\, 2026 to the Kentucky Exposition Center with more than 550 RVs and boats to explore and shop. As the region’s largest event of its kind\, the annual show offers a welcome escape from cabin fever. \nThere is also no shortage of fun for the whole family with a variety of interactive activities to jumpstart next summer’s outdoor adventures. Highlights of the 2026 show include the return of fan favorites\, such as the catch-and-release trout pond and the paddle sports pool\, plus new entertainment including a touch-tank with stingrays and daily archery performances\, along with a lineup of free seminars and many other activities for every outdoors enthusiast. \nThe event takes place at these dates and times: \n\nWednesday\, January 28: 5 p.m. – 9 p.m.\nThursday\, January 29: 12 p.m. – 9 p.m.\nFriday\, January 30: 12 p.m. – 9 p.m.\nSaturday\, January 31: 10 a.m. – 9 p.m.\nSunday\, February 1: 10 a.m. – 5 p.m.\n\nTicket Information:\n\nAdults (ages 13 & older) – $14\nChildren (12 & under) – FREE when accompanied by a paid adult\n\nFor more information\, visit https://www.louisvilleboatshow.com/features or visit @louboatrvshow on Instagram and Discover Boating Louisville Boat\, RV & Sportshow on Facebook. \n 
URL:https://things-to-lou.com/events/2026-discover-boating-louisville-boat-rv-sportshow-multiple-dates/
LOCATION:Kentucky Exposition Center\, 937 Phillips Lane\, Louisville\, KY\, 40209\, United States
CATEGORIES:Outdoors
ATTACH;FMTTYPE=image/jpeg:https://things-to-lou.com/wp-content/uploads/2025/11/lbrvss_photo-2-e1764136824838.jpg
END:VEVENT
END:VCALENDAR