BEGIN:VCALENDAR
VERSION:2.0
PRODID:-//Things To Lou - ECPv6.15.20//NONSGML v1.0//EN
CALSCALE:GREGORIAN
METHOD:PUBLISH
X-ORIGINAL-URL:https://things-to-lou.com
X-WR-CALDESC:Events for Things To Lou
REFRESH-INTERVAL;VALUE=DURATION:PT1H
X-Robots-Tag:noindex
X-PUBLISHED-TTL:PT1H
BEGIN:VTIMEZONE
TZID:America/New_York
BEGIN:DAYLIGHT
TZOFFSETFROM:-0500
TZOFFSETTO:-0400
TZNAME:EDT
DTSTART:20250309T070000
END:DAYLIGHT
BEGIN:STANDARD
TZOFFSETFROM:-0400
TZOFFSETTO:-0500
TZNAME:EST
DTSTART:20251102T060000
END:STANDARD
BEGIN:DAYLIGHT
TZOFFSETFROM:-0500
TZOFFSETTO:-0400
TZNAME:EDT
DTSTART:20260308T070000
END:DAYLIGHT
BEGIN:STANDARD
TZOFFSETFROM:-0400
TZOFFSETTO:-0500
TZNAME:EST
DTSTART:20261101T060000
END:STANDARD
BEGIN:DAYLIGHT
TZOFFSETFROM:-0500
TZOFFSETTO:-0400
TZNAME:EDT
DTSTART:20270314T070000
END:DAYLIGHT
BEGIN:STANDARD
TZOFFSETFROM:-0400
TZOFFSETTO:-0500
TZNAME:EST
DTSTART:20271107T060000
END:STANDARD
END:VTIMEZONE
BEGIN:VEVENT
DTSTART;TZID=America/New_York:20260430T220000
DTEND;TZID=America/New_York:20260501T030000
DTSTAMP:20260423T140046
CREATED:20260416T045405Z
LAST-MODIFIED:20260416T045405Z
UID:10005036-1777586400-1777604400@things-to-lou.com
SUMMARY:Thurby at Taj 811 | with True Story Whiskeys
DESCRIPTION:Sponsored by True Story Whiskeys
URL:https://things-to-lou.com/events/thurby-at-taj-811-with-true-story-whiskeys/
LOCATION:Taj 811\, 811 East Market Street\, Louisville\, KY\, 40206\, United States
CATEGORIES:Bourbon,Derby,Food & Drink,Mixology
ATTACH;FMTTYPE=image/jpeg:https://things-to-lou.com/wp-content/uploads/2026/04/9b7e7248-100c-4c94-821b-dc2f7a214d64-e1776314712448.jpg
END:VEVENT
BEGIN:VEVENT
DTSTART;TZID=America/New_York:20260501T000000
DTEND;TZID=America/New_York:20260503T235959
DTSTAMP:20260423T140046
CREATED:20251212T221022Z
LAST-MODIFIED:20251212T221022Z
UID:10003337-1777593600-1777852799@things-to-lou.com
SUMMARY:SECRETS OF LOUISVILLE Food & History Tour in Nulu | promo code! (multiple times)
DESCRIPTION:Experience Louisville’s story one bite at a time.\nThis tour offers a delicious introduction to the quintessential foods and drinks that define both Louisville and Kentucky. \nStroll through the trendy NuLu and historic Butchertown neighborhoods while sampling famous dishes that originated right here in Louisville— from the foothills of Appalachia to the glitz and glamour of Prohibition-era Louisville. \nEnjoy tastings from six unique stops and how Louisville’s heritage and history have shaped these iconic foods. \n\n  \nBook your tour here!\nUse promo code “thingstolou10” and save 10% on your tickets!\nThe best way to discover Louisville’s essential flavors – without the hassle of driving around – even if you’re short on time! This tour frequently sells out\, so reserve your spot early. \n  \n\nQUICK DETAILS\n\nDistance: 1.5 miles\, flat\nDuration: 3 hours\nFood Stops: 6 stops for local dishes & drinks\nCapacity: 12 per tour\nTime: 1 PM\, Fridays-Sundays\nAccessibility: Wheelchair and stroller friendly. All ages welcome. Ages 2 and under are free.\n\n\nWhere\nMeet at 636 E Main St\, Louisville\, KY 40202 \nWhen​\nFridays\, Saturdays\, and Sundays at 1 PM \n\nWhat’s This Tour All About?\nIs it a food tour or a history tour? The answer\, of course\, is both! This tour is the perfect blend of tastes and tales. \nOver the 3 hours you’ll spend with us\, you’ll enjoy … \n\n8 Delicious dishes representing Kentucky’s heritage (come hungry)\nBarrel-aged craft beer tasting and 2 refreshing alcoholic slushies\nThe unfiltered history of two of Louisville’s most historic neighborhoods\nJokes that we proof-tested on other people first\, probably\nAudio headset (the better to hear your guide – and those jokes)\n\n\nWhat to Expect \nWe’ll be making 6 delicious stops! You can also expect… \nFood & Drinks\nCome hungry & thirsty! (Mocktails also available) \nAudio Headset​\nThe lightweight headset helps you hear us from a distance. \nSmall Group\nOur tours max out at 12 people. \nWalking\n1-1.5 Miles. Wear comfy shoes!
URL:https://things-to-lou.com/events/secrets-of-louisville-food-history-tour-in-nulu-promo-code-multiple-times-53/
LOCATION:KY
CATEGORIES:Walking Tour / Food Tour
ATTACH;FMTTYPE=image/jpeg:https://things-to-lou.com/wp-content/uploads/2025/12/IMG_1316-e1765576295555.jpg
END:VEVENT
BEGIN:VEVENT
DTSTART;TZID=America/New_York:20260501T100000
DTEND;TZID=America/New_York:20260501T140000
DTSTAMP:20260423T140046
CREATED:20260408T202327Z
LAST-MODIFIED:20260408T202327Z
UID:10004982-1777629600-1777644000@things-to-lou.com
SUMMARY:Oaked 2026: A Taste of Beam
DESCRIPTION:Celebrating the biggest weekend in horse racing all weekend long at James B. Beam Distilling Co.! Enjoy mint juleps\, delicious Southern-style BBQ\, and live music at the home of the First family of bourbon. \nEmbark with us on an Oak’s Day adventure to discover the rich flavors and bold traditions that live at James B. Beam Distilling Co. \nJoin us on Friday\, May 1st for a 6-stop journey around the Homeplace that includes tastings of limited-release bourbons\, cocktails and unique activations. \nComplete all (6) stops to gain exclusive access to limited-edition items and souvenirs! This event is not a guided tour\, and guests are encouraged to start their journey anytime between 10am-2pm while campus will be active all day with live music\, cocktails\, and tastings! \nExperience Features\n\nBourbon Tasting seminars led by Fred & Freddie\nSamplings of limited-release bourbons\nClayton & Crume Leather Customization\nMint Julep in a souvenir cup\nCountry Ham Tasting\nLive music\n\nDetails\n\nTime: 10:00am-2:00pm EST (Experience good for anytime between)\nPrice: $100.00 per person\nMust be 21+\n\n 
URL:https://things-to-lou.com/events/oaked-2026-a-taste-of-beam/
LOCATION:James B. Beam Distilling Co.\, 568 Happy Hollow Rd\, Clermont\, KY\, 40110\, United States
CATEGORIES:Bourbon,Derby
ATTACH;FMTTYPE=image/jpeg:https://things-to-lou.com/wp-content/uploads/2026/04/IMG_5913-e1775679473216.jpg
END:VEVENT
BEGIN:VEVENT
DTSTART;TZID=America/New_York:20260506T000000
DTEND;TZID=America/New_York:20260508T235959
DTSTAMP:20260423T140046
CREATED:20251212T224144Z
LAST-MODIFIED:20251212T224144Z
UID:10003361-1778025600-1778284799@things-to-lou.com
SUMMARY:Beyond the Barrel: Walking Bourbon Tour with Food Pairings | promo code! | multiple dates
DESCRIPTION:Go beyond the barrel to dive into bourbon’s storied history and learn all the stories they won’t tell you on a Kentucky Bourbon Trail distillery tour! \nAs the sun sets over the vibrant NuLu neighborhood\, you’ll visit award-winning restaurants\, hidden speakeasies\, rooftop terraces\, and cozy tasting rooms. \n\nBook your tour here!\nUse code “thingstolou10” to save 10%!\n\nUncover the secrets of Kentucky bourbon.\n  \n\nTrace the origins of bourbon whiskey from its roots in the Appalachian foothills to today’s thriving bourbon scene\nUnlock bourbon’s versatility and depth through paired bites\, pours\, and cocktails\nTry modern re-interpretations of classic Louisville bourbon cocktails such as the Old Fashioned and the Mint Julep\nSample bourbon’s full range of versatility\, including clarified\, fat-washed\, river-aged\, wheated\, infused\, and finished bourbons\nLand a few coveted tables at some of the most celebrated eateries in town\, including restaurants by Michelin Star and James Beard winning Chefs\n\n\nDETAILS\nDistance: 1 mile \nDuration: 3 hours \nFood: 5 stops\, 8 tastings \nDrinks: 2 bourbon pours\, 4 cocktails \nCapacity: 12 \nTime: 5 & 5:30 PM\, Wed-Fri \nAccessibility: 21+\, wheelchair friendly \n\nBook your tour here!\nUse code “thingstolou10” to save 10%!
URL:https://things-to-lou.com/events/beyond-the-barrel-walking-bourbon-tour-with-food-pairings-promo-code-multiple-dates-36/
LOCATION:KY
CATEGORIES:Walking Tour / Food Tour
ATTACH;FMTTYPE=image/jpeg:https://things-to-lou.com/wp-content/uploads/2025/12/FULL-SIZE-Beyond-the-Barrel-Tour-37-e1765577921595.jpg
END:VEVENT
BEGIN:VEVENT
DTSTART;TZID=America/New_York:20260507T180000
DTEND;TZID=America/New_York:20260507T213000
DTSTAMP:20260423T140046
CREATED:20260408T204051Z
LAST-MODIFIED:20260408T204421Z
UID:10004987-1778176800-1778189400@things-to-lou.com
SUMMARY:Clermont Supper Club | supper\, cocktails\, exclusive bourbon releases\, and more
DESCRIPTION:Join our Master Distiller at The Kitchen Table Restaurant and be among the first to enjoy the latest releases from the James B. Beam Distilling Co. \nWe’re big fans of this supper club! We’ve attended before — check out our video here! \n\nJoin our Master Distiller at The Kitchen Table Restaurant and be among the first to enjoy the latest releases from the James B. Beam Distilling Co. Each Clermont Supper Club features Beam-inspired fare\, unique cocktails\, and behind-the-barrel stories from the First Family of Bourbon. \nAt Clermont Supper Club\, guests taste the latest James B. Beam Distilling Co. releases alongside a specially crafted dinner paired with a selection of cocktails and pours from The James B. Beam Distilling Co. portfolio. Following dinner\, guests have the opportunity to purchase limited offerings and merchandise after hours at The American Outpost. \n\nExperience Features:\n\nHosted by our Master Distiller at The Kitchen Table\nPrivate dinner featuring handcrafted cocktails & bourbon pairing\nTaste and have the opportunity to purchase the latest releases from the James B. Beam Distilling Co. portfolio\n\n2026 Dates:\n\nMay 7 (New Little Book™ Release)\nAug 6 (New Little Book™ The Infinite Release)\nSep 3 (New Booker’s® The Reserves Release)\nNov 5 (New James B. Beam Distillery Exclusive)\nDec 3 (New Distiller’s Share™ Release / Holiday Edition)\n\nDetails\n\nTime: 6:00pm-930pm EST\nPrice: $275.00\n21+\n\n  \n 
URL:https://things-to-lou.com/events/clermont-supper-club-supper-cocktails-exclusive-bourbon-releases-and-more/2026-05-07/
LOCATION:James B. Beam Distilling Co.\, 568 Happy Hollow Rd\, Clermont\, KY\, 40110\, United States
CATEGORIES:Bourbon,Food & Drink
ATTACH;FMTTYPE=image/jpeg:https://things-to-lou.com/wp-content/uploads/2026/04/IMG_5913-e1775679473216.jpg
END:VEVENT
BEGIN:VEVENT
DTSTART;TZID=America/New_York:20260508T000000
DTEND;TZID=America/New_York:20260510T235959
DTSTAMP:20260423T140046
CREATED:20251212T221032Z
LAST-MODIFIED:20251212T221032Z
UID:10003338-1778198400-1778457599@things-to-lou.com
SUMMARY:SECRETS OF LOUISVILLE Food & History Tour in Nulu | promo code! (multiple times)
DESCRIPTION:Experience Louisville’s story one bite at a time.\nThis tour offers a delicious introduction to the quintessential foods and drinks that define both Louisville and Kentucky. \nStroll through the trendy NuLu and historic Butchertown neighborhoods while sampling famous dishes that originated right here in Louisville— from the foothills of Appalachia to the glitz and glamour of Prohibition-era Louisville. \nEnjoy tastings from six unique stops and how Louisville’s heritage and history have shaped these iconic foods. \n\n  \nBook your tour here!\nUse promo code “thingstolou10” and save 10% on your tickets!\nThe best way to discover Louisville’s essential flavors – without the hassle of driving around – even if you’re short on time! This tour frequently sells out\, so reserve your spot early. \n  \n\nQUICK DETAILS\n\nDistance: 1.5 miles\, flat\nDuration: 3 hours\nFood Stops: 6 stops for local dishes & drinks\nCapacity: 12 per tour\nTime: 1 PM\, Fridays-Sundays\nAccessibility: Wheelchair and stroller friendly. All ages welcome. Ages 2 and under are free.\n\n\nWhere\nMeet at 636 E Main St\, Louisville\, KY 40202 \nWhen​\nFridays\, Saturdays\, and Sundays at 1 PM \n\nWhat’s This Tour All About?\nIs it a food tour or a history tour? The answer\, of course\, is both! This tour is the perfect blend of tastes and tales. \nOver the 3 hours you’ll spend with us\, you’ll enjoy … \n\n8 Delicious dishes representing Kentucky’s heritage (come hungry)\nBarrel-aged craft beer tasting and 2 refreshing alcoholic slushies\nThe unfiltered history of two of Louisville’s most historic neighborhoods\nJokes that we proof-tested on other people first\, probably\nAudio headset (the better to hear your guide – and those jokes)\n\n\nWhat to Expect \nWe’ll be making 6 delicious stops! You can also expect… \nFood & Drinks\nCome hungry & thirsty! (Mocktails also available) \nAudio Headset​\nThe lightweight headset helps you hear us from a distance. \nSmall Group\nOur tours max out at 12 people. \nWalking\n1-1.5 Miles. Wear comfy shoes!
URL:https://things-to-lou.com/events/secrets-of-louisville-food-history-tour-in-nulu-promo-code-multiple-times-54/
LOCATION:KY
CATEGORIES:Walking Tour / Food Tour
ATTACH;FMTTYPE=image/jpeg:https://things-to-lou.com/wp-content/uploads/2025/12/FULL-SIZE-NuLu-Biscuit-Belly-Flight-1-e1765576303372.jpg
END:VEVENT
BEGIN:VEVENT
DTSTART;TZID=America/New_York:20260513T000000
DTEND;TZID=America/New_York:20260515T235959
DTSTAMP:20260423T140046
CREATED:20251212T224150Z
LAST-MODIFIED:20251212T224543Z
UID:10003362-1778630400-1778889599@things-to-lou.com
SUMMARY:Beyond the Barrel: Walking Bourbon Tour with Food Pairings | promo code! | multiple dates
DESCRIPTION:Go beyond the barrel to dive into bourbon’s storied history and learn all the stories they won’t tell you on a Kentucky Bourbon Trail distillery tour! \nAs the sun sets over the vibrant NuLu neighborhood\, you’ll visit award-winning restaurants\, hidden speakeasies\, rooftop terraces\, and cozy tasting rooms. \n\nBook your tour here!\nUse code “thingstolou10” to save 10%!\n\nUncover the secrets of Kentucky bourbon.\n  \n\nTrace the origins of bourbon whiskey from its roots in the Appalachian foothills to today’s thriving bourbon scene\nUnlock bourbon’s versatility and depth through paired bites\, pours\, and cocktails\nTry modern re-interpretations of classic Louisville bourbon cocktails such as the Old Fashioned and the Mint Julep\nSample bourbon’s full range of versatility\, including clarified\, fat-washed\, river-aged\, wheated\, infused\, and finished bourbons\nLand a few coveted tables at some of the most celebrated eateries in town\, including restaurants by Michelin Star and James Beard winning Chefs\n\n\nDETAILS\nDistance: 1 mile \nDuration: 3 hours \nFood: 5 stops\, 8 tastings \nDrinks: 2 bourbon pours\, 4 cocktails \nCapacity: 12 \nTime: 5 & 5:30 PM\, Wed-Fri \nAccessibility: 21+\, wheelchair friendly \n\nBook your tour here!\nUse code “thingstolou10” to save 10%!
URL:https://things-to-lou.com/events/beyond-the-barrel-walking-bourbon-tour-with-food-pairings-promo-code-multiple-dates-37/
LOCATION:KY
CATEGORIES:Walking Tour / Food Tour
ATTACH;FMTTYPE=image/jpeg:https://things-to-lou.com/wp-content/uploads/2025/12/FULL-SIZE-BTB-2-2-e1765577912108.jpg
END:VEVENT
BEGIN:VEVENT
DTSTART;TZID=America/New_York:20260515T000000
DTEND;TZID=America/New_York:20260517T235959
DTSTAMP:20260423T140046
CREATED:20251212T221048Z
LAST-MODIFIED:20251212T221048Z
UID:10003339-1778803200-1779062399@things-to-lou.com
SUMMARY:SECRETS OF LOUISVILLE Food & History Tour in Nulu | promo code! (multiple times)
DESCRIPTION:Experience Louisville’s story one bite at a time.\nThis tour offers a delicious introduction to the quintessential foods and drinks that define both Louisville and Kentucky. \nStroll through the trendy NuLu and historic Butchertown neighborhoods while sampling famous dishes that originated right here in Louisville— from the foothills of Appalachia to the glitz and glamour of Prohibition-era Louisville. \nEnjoy tastings from six unique stops and how Louisville’s heritage and history have shaped these iconic foods. \n\n  \nBook your tour here!\nUse promo code “thingstolou10” and save 10% on your tickets!\nThe best way to discover Louisville’s essential flavors – without the hassle of driving around – even if you’re short on time! This tour frequently sells out\, so reserve your spot early. \n  \n\nQUICK DETAILS\n\nDistance: 1.5 miles\, flat\nDuration: 3 hours\nFood Stops: 6 stops for local dishes & drinks\nCapacity: 12 per tour\nTime: 1 PM\, Fridays-Sundays\nAccessibility: Wheelchair and stroller friendly. All ages welcome. Ages 2 and under are free.\n\n\nWhere\nMeet at 636 E Main St\, Louisville\, KY 40202 \nWhen​\nFridays\, Saturdays\, and Sundays at 1 PM \n\nWhat’s This Tour All About?\nIs it a food tour or a history tour? The answer\, of course\, is both! This tour is the perfect blend of tastes and tales. \nOver the 3 hours you’ll spend with us\, you’ll enjoy … \n\n8 Delicious dishes representing Kentucky’s heritage (come hungry)\nBarrel-aged craft beer tasting and 2 refreshing alcoholic slushies\nThe unfiltered history of two of Louisville’s most historic neighborhoods\nJokes that we proof-tested on other people first\, probably\nAudio headset (the better to hear your guide – and those jokes)\n\n\nWhat to Expect \nWe’ll be making 6 delicious stops! You can also expect… \nFood & Drinks\nCome hungry & thirsty! (Mocktails also available) \nAudio Headset​\nThe lightweight headset helps you hear us from a distance. \nSmall Group\nOur tours max out at 12 people. \nWalking\n1-1.5 Miles. Wear comfy shoes!
URL:https://things-to-lou.com/events/secrets-of-louisville-food-history-tour-in-nulu-promo-code-multiple-times-55/
LOCATION:KY
CATEGORIES:Walking Tour / Food Tour
ATTACH;FMTTYPE=image/jpeg:https://things-to-lou.com/wp-content/uploads/2025/12/FS-Nulu-10-e1765576311521.jpg
END:VEVENT
BEGIN:VEVENT
DTSTART;TZID=America/New_York:20260520T000000
DTEND;TZID=America/New_York:20260522T235959
DTSTAMP:20260423T140046
CREATED:20251212T224156Z
LAST-MODIFIED:20251212T224156Z
UID:10003363-1779235200-1779494399@things-to-lou.com
SUMMARY:Beyond the Barrel: Walking Bourbon Tour with Food Pairings | promo code! | multiple dates
DESCRIPTION:Go beyond the barrel to dive into bourbon’s storied history and learn all the stories they won’t tell you on a Kentucky Bourbon Trail distillery tour! \nAs the sun sets over the vibrant NuLu neighborhood\, you’ll visit award-winning restaurants\, hidden speakeasies\, rooftop terraces\, and cozy tasting rooms. \n\nBook your tour here!\nUse code “thingstolou10” to save 10%!\n\nUncover the secrets of Kentucky bourbon.\n  \n\nTrace the origins of bourbon whiskey from its roots in the Appalachian foothills to today’s thriving bourbon scene\nUnlock bourbon’s versatility and depth through paired bites\, pours\, and cocktails\nTry modern re-interpretations of classic Louisville bourbon cocktails such as the Old Fashioned and the Mint Julep\nSample bourbon’s full range of versatility\, including clarified\, fat-washed\, river-aged\, wheated\, infused\, and finished bourbons\nLand a few coveted tables at some of the most celebrated eateries in town\, including restaurants by Michelin Star and James Beard winning Chefs\n\n\nDETAILS\nDistance: 1 mile \nDuration: 3 hours \nFood: 5 stops\, 8 tastings \nDrinks: 2 bourbon pours\, 4 cocktails \nCapacity: 12 \nTime: 5 & 5:30 PM\, Wed-Fri \nAccessibility: 21+\, wheelchair friendly \n\nBook your tour here!\nUse code “thingstolou10” to save 10%!
URL:https://things-to-lou.com/events/beyond-the-barrel-walking-bourbon-tour-with-food-pairings-promo-code-multiple-dates-38/
LOCATION:KY
CATEGORIES:Walking Tour / Food Tour
ATTACH;FMTTYPE=image/jpeg:https://things-to-lou.com/wp-content/uploads/2025/12/FULL-SIZE-Bourbon-Food-Tour-22-e1765577825386.jpg
END:VEVENT
BEGIN:VEVENT
DTSTART;TZID=America/New_York:20260522T000000
DTEND;TZID=America/New_York:20260524T235959
DTSTAMP:20260423T140046
CREATED:20251212T221057Z
LAST-MODIFIED:20251212T221057Z
UID:10003340-1779408000-1779667199@things-to-lou.com
SUMMARY:SECRETS OF LOUISVILLE Food & History Tour in Nulu | promo code! (multiple times)
DESCRIPTION:Experience Louisville’s story one bite at a time.\nThis tour offers a delicious introduction to the quintessential foods and drinks that define both Louisville and Kentucky. \nStroll through the trendy NuLu and historic Butchertown neighborhoods while sampling famous dishes that originated right here in Louisville— from the foothills of Appalachia to the glitz and glamour of Prohibition-era Louisville. \nEnjoy tastings from six unique stops and how Louisville’s heritage and history have shaped these iconic foods. \n\n  \nBook your tour here!\nUse promo code “thingstolou10” and save 10% on your tickets!\nThe best way to discover Louisville’s essential flavors – without the hassle of driving around – even if you’re short on time! This tour frequently sells out\, so reserve your spot early. \n  \n\nQUICK DETAILS\n\nDistance: 1.5 miles\, flat\nDuration: 3 hours\nFood Stops: 6 stops for local dishes & drinks\nCapacity: 12 per tour\nTime: 1 PM\, Fridays-Sundays\nAccessibility: Wheelchair and stroller friendly. All ages welcome. Ages 2 and under are free.\n\n\nWhere\nMeet at 636 E Main St\, Louisville\, KY 40202 \nWhen​\nFridays\, Saturdays\, and Sundays at 1 PM \n\nWhat’s This Tour All About?\nIs it a food tour or a history tour? The answer\, of course\, is both! This tour is the perfect blend of tastes and tales. \nOver the 3 hours you’ll spend with us\, you’ll enjoy … \n\n8 Delicious dishes representing Kentucky’s heritage (come hungry)\nBarrel-aged craft beer tasting and 2 refreshing alcoholic slushies\nThe unfiltered history of two of Louisville’s most historic neighborhoods\nJokes that we proof-tested on other people first\, probably\nAudio headset (the better to hear your guide – and those jokes)\n\n\nWhat to Expect \nWe’ll be making 6 delicious stops! You can also expect… \nFood & Drinks\nCome hungry & thirsty! (Mocktails also available) \nAudio Headset​\nThe lightweight headset helps you hear us from a distance. \nSmall Group\nOur tours max out at 12 people. \nWalking\n1-1.5 Miles. Wear comfy shoes!
URL:https://things-to-lou.com/events/secrets-of-louisville-food-history-tour-in-nulu-promo-code-multiple-times-56/
LOCATION:KY
CATEGORIES:Walking Tour / Food Tour
ATTACH;FMTTYPE=image/jpeg:https://things-to-lou.com/wp-content/uploads/2025/12/NuLu-Food-Tour-FULL-SIZE-24-e1765576318546.jpg
END:VEVENT
BEGIN:VEVENT
DTSTART;TZID=America/New_York:20260527T000000
DTEND;TZID=America/New_York:20260529T235959
DTSTAMP:20260423T140046
CREATED:20251212T224202Z
LAST-MODIFIED:20251212T224559Z
UID:10003364-1779840000-1780099199@things-to-lou.com
SUMMARY:Beyond the Barrel: Walking Bourbon Tour with Food Pairings | promo code! | multiple dates
DESCRIPTION:Go beyond the barrel to dive into bourbon’s storied history and learn all the stories they won’t tell you on a Kentucky Bourbon Trail distillery tour! \nAs the sun sets over the vibrant NuLu neighborhood\, you’ll visit award-winning restaurants\, hidden speakeasies\, rooftop terraces\, and cozy tasting rooms. \n\nBook your tour here!\nUse code “thingstolou10” to save 10%!\n\nUncover the secrets of Kentucky bourbon.\n  \n\nTrace the origins of bourbon whiskey from its roots in the Appalachian foothills to today’s thriving bourbon scene\nUnlock bourbon’s versatility and depth through paired bites\, pours\, and cocktails\nTry modern re-interpretations of classic Louisville bourbon cocktails such as the Old Fashioned and the Mint Julep\nSample bourbon’s full range of versatility\, including clarified\, fat-washed\, river-aged\, wheated\, infused\, and finished bourbons\nLand a few coveted tables at some of the most celebrated eateries in town\, including restaurants by Michelin Star and James Beard winning Chefs\n\n\nDETAILS\nDistance: 1 mile \nDuration: 3 hours \nFood: 5 stops\, 8 tastings \nDrinks: 2 bourbon pours\, 4 cocktails \nCapacity: 12 \nTime: 5 & 5:30 PM\, Wed-Fri \nAccessibility: 21+\, wheelchair friendly \n\nBook your tour here!\nUse code “thingstolou10” to save 10%!
URL:https://things-to-lou.com/events/beyond-the-barrel-walking-bourbon-tour-with-food-pairings-promo-code-multiple-dates-39/
LOCATION:KY
CATEGORIES:Walking Tour / Food Tour
ATTACH;FMTTYPE=image/jpeg:https://things-to-lou.com/wp-content/uploads/2025/12/FULL-SIZE-Beyond-the-Barrel-Tour-5-e1765577928790.jpg
END:VEVENT
BEGIN:VEVENT
DTSTART;TZID=America/New_York:20260529T000000
DTEND;TZID=America/New_York:20260531T235959
DTSTAMP:20260423T140046
CREATED:20251212T221106Z
LAST-MODIFIED:20251212T221106Z
UID:10003341-1780012800-1780271999@things-to-lou.com
SUMMARY:SECRETS OF LOUISVILLE Food & History Tour in Nulu | promo code! (multiple times)
DESCRIPTION:Experience Louisville’s story one bite at a time.\nThis tour offers a delicious introduction to the quintessential foods and drinks that define both Louisville and Kentucky. \nStroll through the trendy NuLu and historic Butchertown neighborhoods while sampling famous dishes that originated right here in Louisville— from the foothills of Appalachia to the glitz and glamour of Prohibition-era Louisville. \nEnjoy tastings from six unique stops and how Louisville’s heritage and history have shaped these iconic foods. \n\n  \nBook your tour here!\nUse promo code “thingstolou10” and save 10% on your tickets!\nThe best way to discover Louisville’s essential flavors – without the hassle of driving around – even if you’re short on time! This tour frequently sells out\, so reserve your spot early. \n  \n\nQUICK DETAILS\n\nDistance: 1.5 miles\, flat\nDuration: 3 hours\nFood Stops: 6 stops for local dishes & drinks\nCapacity: 12 per tour\nTime: 1 PM\, Fridays-Sundays\nAccessibility: Wheelchair and stroller friendly. All ages welcome. Ages 2 and under are free.\n\n\nWhere\nMeet at 636 E Main St\, Louisville\, KY 40202 \nWhen​\nFridays\, Saturdays\, and Sundays at 1 PM \n\nWhat’s This Tour All About?\nIs it a food tour or a history tour? The answer\, of course\, is both! This tour is the perfect blend of tastes and tales. \nOver the 3 hours you’ll spend with us\, you’ll enjoy … \n\n8 Delicious dishes representing Kentucky’s heritage (come hungry)\nBarrel-aged craft beer tasting and 2 refreshing alcoholic slushies\nThe unfiltered history of two of Louisville’s most historic neighborhoods\nJokes that we proof-tested on other people first\, probably\nAudio headset (the better to hear your guide – and those jokes)\n\n\nWhat to Expect \nWe’ll be making 6 delicious stops! You can also expect… \nFood & Drinks\nCome hungry & thirsty! (Mocktails also available) \nAudio Headset​\nThe lightweight headset helps you hear us from a distance. \nSmall Group\nOur tours max out at 12 people. \nWalking\n1-1.5 Miles. Wear comfy shoes!
URL:https://things-to-lou.com/events/secrets-of-louisville-food-history-tour-in-nulu-promo-code-multiple-times-57/
LOCATION:KY
CATEGORIES:Walking Tour / Food Tour
ATTACH;FMTTYPE=image/jpeg:https://things-to-lou.com/wp-content/uploads/2025/12/NuLu-Food-Tour-FULL-SIZE-16-e1765576325965.jpg
END:VEVENT
END:VCALENDAR