BEGIN:VCALENDAR
VERSION:2.0
PRODID:-//Things To Lou - ECPv6.15.20//NONSGML v1.0//EN
CALSCALE:GREGORIAN
METHOD:PUBLISH
X-WR-CALNAME:Things To Lou
X-ORIGINAL-URL:https://things-to-lou.com
X-WR-CALDESC:Events for Things To Lou
REFRESH-INTERVAL;VALUE=DURATION:PT1H
X-Robots-Tag:noindex
X-PUBLISHED-TTL:PT1H
BEGIN:VTIMEZONE
TZID:America/New_York
BEGIN:DAYLIGHT
TZOFFSETFROM:-0500
TZOFFSETTO:-0400
TZNAME:EDT
DTSTART:20250309T070000
END:DAYLIGHT
BEGIN:STANDARD
TZOFFSETFROM:-0400
TZOFFSETTO:-0500
TZNAME:EST
DTSTART:20251102T060000
END:STANDARD
BEGIN:DAYLIGHT
TZOFFSETFROM:-0500
TZOFFSETTO:-0400
TZNAME:EDT
DTSTART:20260308T070000
END:DAYLIGHT
BEGIN:STANDARD
TZOFFSETFROM:-0400
TZOFFSETTO:-0500
TZNAME:EST
DTSTART:20261101T060000
END:STANDARD
BEGIN:DAYLIGHT
TZOFFSETFROM:-0500
TZOFFSETTO:-0400
TZNAME:EDT
DTSTART:20270314T070000
END:DAYLIGHT
BEGIN:STANDARD
TZOFFSETFROM:-0400
TZOFFSETTO:-0500
TZNAME:EST
DTSTART:20271107T060000
END:STANDARD
END:VTIMEZONE
BEGIN:VEVENT
DTSTART;TZID=America/New_York:20260422T000000
DTEND;TZID=America/New_York:20260424T235959
DTSTAMP:20260423T135144
CREATED:20251212T224136Z
LAST-MODIFIED:20251212T224136Z
UID:10003360-1776816000-1777075199@things-to-lou.com
SUMMARY:Beyond the Barrel: Walking Bourbon Tour with Food Pairings | promo code! | multiple dates
DESCRIPTION:Go beyond the barrel to dive into bourbon’s storied history and learn all the stories they won’t tell you on a Kentucky Bourbon Trail distillery tour! \nAs the sun sets over the vibrant NuLu neighborhood\, you’ll visit award-winning restaurants\, hidden speakeasies\, rooftop terraces\, and cozy tasting rooms. \n\nBook your tour here!\nUse code “thingstolou10” to save 10%!\n\nUncover the secrets of Kentucky bourbon.\n  \n\nTrace the origins of bourbon whiskey from its roots in the Appalachian foothills to today’s thriving bourbon scene\nUnlock bourbon’s versatility and depth through paired bites\, pours\, and cocktails\nTry modern re-interpretations of classic Louisville bourbon cocktails such as the Old Fashioned and the Mint Julep\nSample bourbon’s full range of versatility\, including clarified\, fat-washed\, river-aged\, wheated\, infused\, and finished bourbons\nLand a few coveted tables at some of the most celebrated eateries in town\, including restaurants by Michelin Star and James Beard winning Chefs\n\n\nDETAILS\nDistance: 1 mile \nDuration: 3 hours \nFood: 5 stops\, 8 tastings \nDrinks: 2 bourbon pours\, 4 cocktails \nCapacity: 12 \nTime: 5 & 5:30 PM\, Wed-Fri \nAccessibility: 21+\, wheelchair friendly \n\nBook your tour here!\nUse code “thingstolou10” to save 10%!
URL:https://things-to-lou.com/events/beyond-the-barrel-walking-bourbon-tour-with-food-pairings-promo-code-multiple-dates-35/
LOCATION:KY
CATEGORIES:Walking Tour / Food Tour
ATTACH;FMTTYPE=image/jpeg:https://things-to-lou.com/wp-content/uploads/2025/12/FULL-SIZE-Beyond-the-Barrel-Tour-5-e1765577928790.jpg
END:VEVENT
BEGIN:VEVENT
DTSTART;TZID=America/New_York:20260423T000000
DTEND;TZID=America/New_York:20260424T235959
DTSTAMP:20260423T135144
CREATED:20251212T213732Z
LAST-MODIFIED:20251212T213732Z
UID:10003313-1776902400-1777075199@things-to-lou.com
SUMMARY:The Bourbon Trolley: Distillery Tour\, Tasting Rooms & Bourbon Experiences | promo code! (multiple tour times)
DESCRIPTION:Use code “thingstolou10” to save 10%!\nBook your tour here!\n\nStep aboard Louisville’s historic trolley to explore distilleries\, tasting rooms\, & bourbon-infused bites! \nAs you roll through downtown\, NuLu\, and Butchertown\, you’ll get exclusive access to tasting rooms\, tour a bourbon distillery\, and sample treats with a bourbon twist. \nEach stop features pours\, tours\, cocktails\, stories\, and plenty of Bourbon City surprises. \nDETAILS\n🥃 Duration: 3 hours\n🥃 Distance: 0.25 miles of walking\n🥃 Trolley: 24-hour LouHop pass included\n🥃 Bourbon Experiences: 5 stops\, including a distillery tour & tasting rooms\n🥃 Tastings: 9 bourbon pours\, 2 cocktails and 9 small food samples\n🥃 Capacity: 12\n🥃 Time: 1:30-4:30 PM\, Thursdays & Fridays\n🥃 Accessibility: 21+. Wheelchair accessible with advanced notice. \nWHAT TO EXPECT\n\nStep inside a bourbon distillery (that’s almost always sold out) for a customized tour and guided tasting\nSip bourbon flights and exclusive cocktails in hidden speakeasies and tasting rooms at some of America’s oldest bourbon brands\nGo beyond the glass with tastings of barrel-aged sauces\, spices\, and treats that showcase bourbon’s influence on Kentucky cuisine.\nExplore Downtown\, NuLu\, and Butchertown in comfort aboard a climate-controlled historic trolley. Plus\, continue exploring with a 24-hour LouHop pass after your tour.\n\n\nLouisville’s Most Unique Bourbon Tour\nPerfect for both bourbon newcomers and seasoned enthusiasts\, this guided trolley tour through Downtown\, NuLu\, and Butchertown offers exclusive access to tasting rooms\, speakeasies\, artisans\, and a distillery you won’t find on any other Kentucky bourbon experience. \nOver the 3 hours you’ll spend with us\, you’ll enjoy …\n\nExclusive bourbon tastings & cocktails\nDistillery tour & guided tasting\nHistoric trolley ride with expert guides\n24-hour LouHop hop-on\, hop-off pass to use after your tour\n\n\nAn UNFORGETTABLE trolley tour!\n5-Star Experience \nExclusive access\, custom crafted cocktails\, and experiences. \nHistoric Trolley \nTake in the views as you roll through town in climate-controlled comfort. \nBourbon \nEnjoy bourbon flights\, a distillery tour\, craft cocktails\, and bourbon-infused samples. \nSmall Group \nCapped at 12 people for a more personalized experience. \nBook your tour here!
URL:https://things-to-lou.com/events/the-bourbon-trolley-distillery-tour-tasting-rooms-bourbon-experiences-promo-code-multiple-tour-times-15/
LOCATION:KY
CATEGORIES:Walking Tour / Food Tour
ATTACH;FMTTYPE=image/jpeg:https://things-to-lou.com/wp-content/uploads/2025/12/FULL-SIZE-Bourbon-Trolley-21-e1765572460116.jpg
END:VEVENT
BEGIN:VEVENT
DTSTART;TZID=America/New_York:20260424T000000
DTEND;TZID=America/New_York:20260426T235959
DTSTAMP:20260423T135144
CREATED:20251212T221020Z
LAST-MODIFIED:20251212T221020Z
UID:10003336-1776988800-1777247999@things-to-lou.com
SUMMARY:SECRETS OF LOUISVILLE Food & History Tour in Nulu | promo code! (multiple times)
DESCRIPTION:Experience Louisville’s story one bite at a time.\nThis tour offers a delicious introduction to the quintessential foods and drinks that define both Louisville and Kentucky. \nStroll through the trendy NuLu and historic Butchertown neighborhoods while sampling famous dishes that originated right here in Louisville— from the foothills of Appalachia to the glitz and glamour of Prohibition-era Louisville. \nEnjoy tastings from six unique stops and how Louisville’s heritage and history have shaped these iconic foods. \n\n  \nBook your tour here!\nUse promo code “thingstolou10” and save 10% on your tickets!\nThe best way to discover Louisville’s essential flavors – without the hassle of driving around – even if you’re short on time! This tour frequently sells out\, so reserve your spot early. \n  \n\nQUICK DETAILS\n\nDistance: 1.5 miles\, flat\nDuration: 3 hours\nFood Stops: 6 stops for local dishes & drinks\nCapacity: 12 per tour\nTime: 1 PM\, Fridays-Sundays\nAccessibility: Wheelchair and stroller friendly. All ages welcome. Ages 2 and under are free.\n\n\nWhere\nMeet at 636 E Main St\, Louisville\, KY 40202 \nWhen​\nFridays\, Saturdays\, and Sundays at 1 PM \n\nWhat’s This Tour All About?\nIs it a food tour or a history tour? The answer\, of course\, is both! This tour is the perfect blend of tastes and tales. \nOver the 3 hours you’ll spend with us\, you’ll enjoy … \n\n8 Delicious dishes representing Kentucky’s heritage (come hungry)\nBarrel-aged craft beer tasting and 2 refreshing alcoholic slushies\nThe unfiltered history of two of Louisville’s most historic neighborhoods\nJokes that we proof-tested on other people first\, probably\nAudio headset (the better to hear your guide – and those jokes)\n\n\nWhat to Expect \nWe’ll be making 6 delicious stops! You can also expect… \nFood & Drinks\nCome hungry & thirsty! (Mocktails also available) \nAudio Headset​\nThe lightweight headset helps you hear us from a distance. \nSmall Group\nOur tours max out at 12 people. \nWalking\n1-1.5 Miles. Wear comfy shoes!
URL:https://things-to-lou.com/events/secrets-of-louisville-food-history-tour-in-nulu-promo-code-multiple-times-52/
LOCATION:KY
CATEGORIES:Walking Tour / Food Tour
ATTACH;FMTTYPE=image/jpeg:https://things-to-lou.com/wp-content/uploads/2025/12/NuLu-Food-Tour-FULL-SIZE-9-e1765576289467.jpg
END:VEVENT
BEGIN:VEVENT
DTSTART;TZID=America/New_York:20260425T180000
DTEND;TZID=America/New_York:20260425T210000
DTSTAMP:20260423T135144
CREATED:20260416T051104Z
LAST-MODIFIED:20260416T051104Z
UID:10005039-1777140000-1777150800@things-to-lou.com
SUMMARY:Derby in Paristown: a Kentucky Creatives Meetup
DESCRIPTION:Creatives! We are less than two weeks out from our Derby in Paristown Event April 25! \nThis isn’t just a party—it’s a showcase of our community’s power to support KEY: Kentucky Embraces You @kentuckyembracesyou \n\nWE need 10 “Lead Creators” to help us fill the garden. \nThe Mission: Share your unique 20% discount code: SPRING26 in your stories today. \nThe Reward: The creator who drives the most ticket sales gets a VIP Branding Session with our event photographers and a featured spotlight on the KYC main page. \n\nEvent Activities include: \n– Craft porcelain painting / decoupage\n– Select Bourbon Tasting with @savannah__crawford\n– Couture Derby Queens mini fashion show with @minglekristin\, @elle_laganda & @snowelleboots\n– Exclusive Airbnbs for overnight stay on 4/25 at @louisvilleexperience \nSee you there? Don’t miss this unique elevated derby event! 🥂 \n***description from IG post
URL:https://things-to-lou.com/events/derby-in-paristown-a-kentucky-creatives-meetup/
LOCATION:Paristown Arts District\, 731 Brent Street\, Louisville\, KY\, 40204\, United States
CATEGORIES:Derby,Fashion,Market
ATTACH;FMTTYPE=image/jpeg:https://things-to-lou.com/wp-content/uploads/2026/04/670333333_18201692209339766_1789954208271140443_n-e1776316166174.jpg
END:VEVENT
BEGIN:VEVENT
DTSTART;TZID=America/New_York:20260428T173000
DTEND;TZID=America/New_York:20260428T190000
DTSTAMP:20260423T135144
CREATED:20260416T050605Z
LAST-MODIFIED:20260416T050605Z
UID:10005038-1777397400-1777402800@things-to-lou.com
SUMMARY:True Story Whiskey "Finish the Flavor" with Wes Henderson
DESCRIPTION:Join us for a fun game-style experience called\, “Finish the Flavor.” \nThis fun and unique evening will be led by Wes Henderson\, the co-founder of Louisville Distilling Company—which produces Angel’s Envy—to teach the art of secondary barrel finishing. \nThis event brings a robust education to trade members as well as Bourbon enthusiasts. \n\nTuesday\, April 28\, 2026;   5:30 PM – 7:00 PM \nLocation: Total Wine & More-St. Matthews\n5067 Shelbyville Rd.\nLouisville\, KY 40207
URL:https://things-to-lou.com/events/true-story-whiskey-finish-the-flavor-with-wes-henderson/
LOCATION:KY
CATEGORIES:Bourbon
END:VEVENT
BEGIN:VEVENT
DTSTART;TZID=America/New_York:20260430T180000
DTEND;TZID=America/New_York:20260430T210000
DTSTAMP:20260423T135144
CREATED:20260408T201348Z
LAST-MODIFIED:20260408T201727Z
UID:10004981-1777572000-1777582800@things-to-lou.com
SUMMARY:Horses + Heritage 2026: A Beam Bourbon Social
DESCRIPTION:Kick-off the big weekend and join us at the James B. Beam Distilling Co. on Thursday\, April 30th for a Beam Bourbon Social! \nGuests will enjoy a variety of Kentucky-inspired fare prepared by The Kitchen Table\, sip on our signature cocktails\, and sample specialty bourbons\, all while listening to live music by Small Time Napoleon. \nExperience Features\n\nKentucky-inspired fare from The Kitchen Table\nSignature cocktails featuring Beam-made bourbons. (2 included with ticket purchase)\nRare and specialty bourbon samplings (2 included with ticket purchase)\nCash bar available for additional drink purchases\nLive Music\n\nDetails\n\nTime: 6:00pm-9:30pm EST\nPrice: $100.00 per person\n\n  \n 
URL:https://things-to-lou.com/events/horses-heritage-2026-a-beam-bourbon-social/
LOCATION:James B. Beam Distilling Co.\, 568 Happy Hollow Rd\, Clermont\, KY\, 40110\, United States
CATEGORIES:Bourbon,Derby
ATTACH;FMTTYPE=image/jpeg:https://things-to-lou.com/wp-content/uploads/2026/04/IMG_1825-e1775679614713.jpg
END:VEVENT
BEGIN:VEVENT
DTSTART;TZID=America/New_York:20260430T220000
DTEND;TZID=America/New_York:20260501T030000
DTSTAMP:20260423T135144
CREATED:20260416T045405Z
LAST-MODIFIED:20260416T045405Z
UID:10005036-1777586400-1777604400@things-to-lou.com
SUMMARY:Thurby at Taj 811 | with True Story Whiskeys
DESCRIPTION:Sponsored by True Story Whiskeys
URL:https://things-to-lou.com/events/thurby-at-taj-811-with-true-story-whiskeys/
LOCATION:Taj 811\, 811 East Market Street\, Louisville\, KY\, 40206\, United States
CATEGORIES:Bourbon,Derby,Food & Drink,Mixology
ATTACH;FMTTYPE=image/jpeg:https://things-to-lou.com/wp-content/uploads/2026/04/9b7e7248-100c-4c94-821b-dc2f7a214d64-e1776314712448.jpg
END:VEVENT
END:VCALENDAR