BEGIN:VCALENDAR
VERSION:2.0
PRODID:-//Things To Lou - ECPv6.15.20//NONSGML v1.0//EN
CALSCALE:GREGORIAN
METHOD:PUBLISH
X-WR-CALNAME:Things To Lou
X-ORIGINAL-URL:https://things-to-lou.com
X-WR-CALDESC:Events for Things To Lou
REFRESH-INTERVAL;VALUE=DURATION:PT1H
X-Robots-Tag:noindex
X-PUBLISHED-TTL:PT1H
BEGIN:VTIMEZONE
TZID:America/New_York
BEGIN:DAYLIGHT
TZOFFSETFROM:-0500
TZOFFSETTO:-0400
TZNAME:EDT
DTSTART:20250309T070000
END:DAYLIGHT
BEGIN:STANDARD
TZOFFSETFROM:-0400
TZOFFSETTO:-0500
TZNAME:EST
DTSTART:20251102T060000
END:STANDARD
BEGIN:DAYLIGHT
TZOFFSETFROM:-0500
TZOFFSETTO:-0400
TZNAME:EDT
DTSTART:20260308T070000
END:DAYLIGHT
BEGIN:STANDARD
TZOFFSETFROM:-0400
TZOFFSETTO:-0500
TZNAME:EST
DTSTART:20261101T060000
END:STANDARD
BEGIN:DAYLIGHT
TZOFFSETFROM:-0500
TZOFFSETTO:-0400
TZNAME:EDT
DTSTART:20270314T070000
END:DAYLIGHT
BEGIN:STANDARD
TZOFFSETFROM:-0400
TZOFFSETTO:-0500
TZNAME:EST
DTSTART:20271107T060000
END:STANDARD
END:VTIMEZONE
BEGIN:VEVENT
DTSTART;TZID=America/New_York:20260117T100000
DTEND;TZID=America/New_York:20260117T140000
DTSTAMP:20260424T082900
CREATED:20251231T034449Z
LAST-MODIFIED:20251231T034449Z
UID:10003473-1768644000-1768658400@things-to-lou.com
SUMMARY:GaGa vs Taylor Drag Brunch!
DESCRIPTION:Event Name:\nGaGa vs Taylor Drag Brunch! \nEvent Date:\n2026-01-17 \nWebsite / Ticket Link:\nhttps://www.opentable.com/r/high-stakes-rooftop-grill-louisville \nLocation:\n710 E Jefferson St\, Louisville\, KY 40202 \nEvent Host:\nHigh Stakes Rooftop Grill \nEvent Description / Other Info:\nTaylor Swift vs. Lady Gaga Drag Brunch at High Stakes Rooftop ✨ \nHigh Stakes Rooftop – Louisville\, KY\nSaturday\, January 17th\, 2026 \nAre you ready to choose a side… or love them both? \nJoin us for a high-energy Drag Brunch showdown as Team Taylor goes head-to-head with Team Gaga in an epic pop diva battle you won’t forget. Expect fierce performances\, iconic looks\, and nonstop anthems from two of the biggest legends in music history—served with a side of glamour and attitude\, all set against the stunning rooftop views at High Stakes. \nThe Experience\n\nBrunch starts at 10:00 AM\nDrag performances begin at 11:00 AM\n\nBrunch Details\n\n$38 per person\nEnjoy a family-style American Classic Breakfast\, starting with:\n\nBottomless fresh-baked pastries\nFluffy pancakes\nScrambled eggs\nCrispy breakfast potatoes\nToast\nBacon\n\n\n\nCocktails by Ketel One\n\nOur friends at Ketel One will be serving up brunch-perfect favorites\, including:\n\nClassic Cosmopolitan\nLemon Drop Martini\nEspresso Martini\n\n\n\nWhether you’re singing along to Love Story or dancing to Bad Romance\, this is your chance to brunch boldly\, sip stylishly\, and celebrate pop royalty—drag style. \nCome dressed inspired by your favorite era\, bring your crew\, and get ready for a rooftop brunch with high stakes\, high heels\, and high notes.
URL:https://things-to-lou.com/events/gaga-vs-taylor-drag-brunch/
LOCATION:High Stakes Rooftop Grill\, 710 E Jefferson St\, Louisville\, KY\, 40202\, United States
CATEGORIES:Drag Show / Drag Brunch,Food & Drink
ATTACH;FMTTYPE=image/png:https://things-to-lou.com/wp-content/uploads/2025/12/screenshot-2025-10-10-at-11.37.01-am-1-e1767152444449.png
END:VEVENT
BEGIN:VEVENT
DTSTART;TZID=America/New_York:20260117T100000
DTEND;TZID=America/New_York:20260117T150000
DTSTAMP:20260424T082900
CREATED:20260110T000016Z
LAST-MODIFIED:20260110T000016Z
UID:10003972-1768644000-1768662000@things-to-lou.com
SUMMARY:GaGa vs Taylor Drag Brunch
DESCRIPTION:✨ Taylor Swift vs. Lady Gaga Drag Brunch at High Stakes Rooftop ✨\n📍 High Stakes Rooftop – Louisville\, KY\n📅 Saturday\, January 17th\, 2026 \nAre you ready to choose a side… or love them both? Join us for a high-energy Drag Brunch showdown as Team Taylor goes head-to-head with Team Gaga in an epic pop diva battle you won’t forget. Expect fierce performances\, iconic looks\, and nonstop anthems from two of the biggest legends in music history—served with a side of glamour and attitude\, all set against the stunning rooftop views at High Stakes. \n💃 The Experience \nBrunch starts at 10:00 AM \nDrag performances begin at 11:00 AM \n🍳 Brunch Details – $38 per person\nEnjoy a family-style American Classic Breakfast\, starting with: \nBottomless fresh-baked pastries \nFluffy pancakes \nScrambled eggs \nCrispy breakfast potatoes \nToast \nBacon \n🍸 Cocktails by Ketel One\nOur friends at Ketel One will be serving up brunch-perfect favorites\, including: \nClassic Cosmopolitan \nLemon Drop Martini \nEspresso Martini \nWhether you’re singing along to Love Story or dancing to Bad Romance\, this is your chance to brunch boldly\, sip stylishly\, and celebrate pop royalty—drag style. Come dressed inspired by your favorite era\, bring your crew\, and get ready for a rooftop brunch with high stakes\, high heels\, and high notes. 🌈✨ \nAdd-ons available\nDrag Brunch Kids \n$15.00
URL:https://things-to-lou.com/events/gaga-vs-taylor-drag-brunch-2/
LOCATION:High Stakes Rooftop Grill\, 710 E Jefferson St\, Louisville\, KY\, 40202\, United States
CATEGORIES:Drag Show / Drag Brunch,Food & Drink
END:VEVENT
BEGIN:VEVENT
DTSTART;TZID=America/New_York:20260124T090000
DTEND;TZID=America/New_York:20260124T140000
DTSTAMP:20260424T082900
CREATED:20251231T034729Z
LAST-MODIFIED:20251231T034729Z
UID:10003474-1769245200-1769263200@things-to-lou.com
SUMMARY:Jazz Brunch at High Stakes Rooftop
DESCRIPTION:Event Name:\nJazz Brunch at High Stakes Rooftop \nEvent Date:\n2026-01-24 \nWebsite / Ticket Link:\nhttps://www.opentable.com/r/high-stakes-rooftop-grill-louisville \nLocation:\n710 E Jefferson St\, Louisville\, KY 40202 \nEvent Host:\nHigh Stakes Rooftop Grill \nEvent Description / Other Info:\nSavor a sophisticated Jazz Brunch at High Stakes Rooftop\, featuring soulful live performances by the talented local artist Carly Johnson. \nEnjoy breathtaking city views as you indulge in delicious food and sip on our exceptional handcrafted cocktails. \nWhether relaxing with friends or celebrating a special occasion\, this brunch offers a perfect blend of great music\, stunning scenery\, and delectable eats in an elevated setting. \n\nBrunch is 9am to 2pm\nlive music from 11am-2pm\nreservations strongly advised.
URL:https://things-to-lou.com/events/jazz-brunch-at-high-stakes-rooftop/
LOCATION:High Stakes Rooftop Grill\, 710 E Jefferson St\, Louisville\, KY\, 40202\, United States
CATEGORIES:Food & Drink,Music
ATTACH;FMTTYPE=image/png:https://things-to-lou.com/wp-content/uploads/2025/12/screenshot-2025-10-10-at-11.37.01-am-1-e1767152444449.png
END:VEVENT
BEGIN:VEVENT
DTSTART;TZID=America/New_York:20260125T110000
DTEND;TZID=America/New_York:20260125T130000
DTSTAMP:20260424T082900
CREATED:20260109T214301Z
LAST-MODIFIED:20260109T214301Z
UID:10003890-1769338800-1769346000@things-to-lou.com
SUMMARY:Whirly Burly Brunch | live band and burlesque
DESCRIPTION:FEATURING AUBVIOUS + TIGRESS BLEU \nTIPS ENCOURAGED \nTICKETS ON SLIDING SCALE\nGA $10-$25\nVIP $30-$35 \n$1 FROM EACH TICKET TO LOCAL FOOD DRIVE \nAges 18 and up\nSunday\, January 25\nShow: 11 am\n$13.25 to $39
URL:https://things-to-lou.com/events/whirly-burly-brunch-live-band-and-burlesque/
LOCATION:The Whirling Tiger\, 1335 Story Ave \, KY 40206\, Louisville\, KY\, 40206\, United States
CATEGORIES:Burlesque,Food & Drink
END:VEVENT
END:VCALENDAR