BEGIN:VCALENDAR
VERSION:2.0
PRODID:-//Things To Lou - ECPv6.15.20//NONSGML v1.0//EN
CALSCALE:GREGORIAN
METHOD:PUBLISH
X-WR-CALNAME:Things To Lou
X-ORIGINAL-URL:https://things-to-lou.com
X-WR-CALDESC:Events for Things To Lou
REFRESH-INTERVAL;VALUE=DURATION:PT1H
X-Robots-Tag:noindex
X-PUBLISHED-TTL:PT1H
BEGIN:VTIMEZONE
TZID:America/New_York
BEGIN:DAYLIGHT
TZOFFSETFROM:-0500
TZOFFSETTO:-0400
TZNAME:EDT
DTSTART:20250309T070000
END:DAYLIGHT
BEGIN:STANDARD
TZOFFSETFROM:-0400
TZOFFSETTO:-0500
TZNAME:EST
DTSTART:20251102T060000
END:STANDARD
BEGIN:DAYLIGHT
TZOFFSETFROM:-0500
TZOFFSETTO:-0400
TZNAME:EDT
DTSTART:20260308T070000
END:DAYLIGHT
BEGIN:STANDARD
TZOFFSETFROM:-0400
TZOFFSETTO:-0500
TZNAME:EST
DTSTART:20261101T060000
END:STANDARD
BEGIN:DAYLIGHT
TZOFFSETFROM:-0500
TZOFFSETTO:-0400
TZNAME:EDT
DTSTART:20270314T070000
END:DAYLIGHT
BEGIN:STANDARD
TZOFFSETFROM:-0400
TZOFFSETTO:-0500
TZNAME:EST
DTSTART:20271107T060000
END:STANDARD
END:VTIMEZONE
BEGIN:VEVENT
DTSTART;TZID=America/New_York:20260207T110000
DTEND;TZID=America/New_York:20260207T130000
DTSTAMP:20260422T075122
CREATED:20260123T014334Z
LAST-MODIFIED:20260123T014334Z
UID:10004110-1770462000-1770469200@things-to-lou.com
SUMMARY:Board & You's Galentine’s Brunch
DESCRIPTION:Join us for Galentine’s Brunch on February 7th 💕🥂 \nA three-course brunch with cocktail pairings\, thoughtfully curated and brought to life with some of our favorite local businesses. \nWhat to expect: \n🍽️ Three-course menu + cocktail pairings\n🍓 Raspberry\, berry\, and brunch flavors\n🎁 Giveaways from beloved local brands\n💗 Red & pink dress code encouraged \nSwipe to see the full menu + giveaway partners. \nSeats are limited. Reserve via OpenTable at the link in bio. \n***description from IG post \n 
URL:https://things-to-lou.com/events/board-yous-galentines-brunch/
LOCATION:BOARD & YOU BISTRO\, 434 Pearl St\, New Albany\, IN\, 47150\, United States
CATEGORIES:Food & Drink
END:VEVENT
BEGIN:VEVENT
DTSTART;TZID=America/New_York:20260214T090000
DTEND;TZID=America/New_York:20260214T150000
DTSTAMP:20260422T075122
CREATED:20260121T035558Z
LAST-MODIFIED:20260121T035752Z
UID:10004051-1771059600-1771081200@things-to-lou.com
SUMMARY:Galentine's Market Brunch
DESCRIPTION:💝Who needs a Valentine when you have brunch + besties? 💕🥂 \nGalentine’s Brunch at Logan Street Market presented by @bluepopart \nFeb 14 | 9a–3p ✨ \n***description from IG Post \n  \nFirst 26 to arrive receive gift bag! \n\nValentines Brunch Specials\nMimosas & Cocktails\nValentines Pop Ups and Shops\nSpecial Jewelry Charm Bar
URL:https://things-to-lou.com/events/galentines-market-brunch/
LOCATION:Logan Street Market\, 1001 Logan Street\, Louisivlle\, KY\, 40204\, United States
CATEGORIES:Food & Drink,Market,Shopping
END:VEVENT
BEGIN:VEVENT
DTSTART;TZID=America/New_York:20260214T100000
DTEND;TZID=America/New_York:20260214T120000
DTSTAMP:20260422T075122
CREATED:20260120T032347Z
LAST-MODIFIED:20260120T032347Z
UID:10004043-1771063200-1771070400@things-to-lou.com
SUMMARY:K-Pop Drag Brunch: Valentine’s Day Edition
DESCRIPTION:Love is in the air — and so is the bass! \nJoin us at High Stakes Rooftop for a K-Pop–themed Drag Brunch that’s serving fierce performances\, heart-pounding hits\, and plenty of Valentine’s Day energy. \nWhether you’re celebrating with your sweetheart\, your besties\, or your favorite bias\, this brunch is the perfect way to spend Valentine’s Day — bold\, fabulous\, and anything but ordinary. \n$38 per person (plus tax & gratuity) \nIncludes bottomless fresh-baked pastries and a family-style American breakfast spread: \n\nFluffy pancakes\nScrambled eggs\nCrispy bacon\nBreakfast potatoes\nToast with jams & jellies\nCoffee\, tea\, and soda\n\nTo keep the love flowing\, we’ve partnered with Crown Royal to bring you a special curated cocktail list\, featuring smooth\, show-stopping sips made to match the high-energy K-pop vibes. \nExpect jaw-dropping drag performances\, iconic choreography\, and all the K-pop bangers you know and love — from sweet love songs to full-on dance anthems. \nWhether you’re a BLINK\, ARMY\, ONCE\, or just here for the queens and the cocktails\, this brunch is all about big performances\, big flavors\, and even bigger fun. \nCome for the romance. Stay for the performances. Leave absolutely obsessed. \n\nEvent Name:\nK-Pop Drag Brunch: Valentine’s Day Edition \nEvent Date:\n2026-02-14 \nWebsite / Ticket Link:\nhttps://www.opentable.com/booking/experiences-availability?rid=1361749&restref=1361749&experienceId=614857&utm_source=external&utm_medium=referral&utm_campaign=shared \nLocation:\n710 E Jefferson St\, Louisville\, KY 40202 \nEvent Host:\nHigh Stakes Rooftop Grill
URL:https://things-to-lou.com/events/k-pop-drag-brunch-valentines-day-edition/
LOCATION:High Stakes Rooftop Grill\, 710 E Jefferson St\, Louisville\, KY\, 40202\, United States
CATEGORIES:Food & Drink,Music
ATTACH;FMTTYPE=image/png:https://things-to-lou.com/wp-content/uploads/2026/01/screenshot-2025-10-06-at-8.35.32-am-1-1-e1768879499641.png
END:VEVENT
BEGIN:VEVENT
DTSTART;TZID=America/New_York:20260221T090000
DTEND;TZID=America/New_York:20260221T140000
DTSTAMP:20260422T075122
CREATED:20260204T184745Z
LAST-MODIFIED:20260204T184745Z
UID:10004576-1771664400-1771682400@things-to-lou.com
SUMMARY:Jazz Brunch at High Stakes Rooftop
DESCRIPTION:Savor a sophisticated Jazz Brunch at High Stakes Rooftop\, featuring soulful live performances by the talented local artist Carly Johnson. \nEnjoy breathtaking city views as you indulge in delicious food and sip on our exceptional handcrafted cocktails. \nWhether relaxing with friends or celebrating a special occasion\, this brunch offers a perfect blend of great music\, stunning scenery\, and delectable eats in an elevated setting. \nBrunch is 9am to 2pm live music from 11am-2pm reservations strongly advised. \n 
URL:https://things-to-lou.com/events/jazz-brunch-at-high-stakes-rooftop-2/
LOCATION:High Stakes Rooftop Grill\, 710 E Jefferson St\, Louisville\, KY\, 40202\, United States
CATEGORIES:Food & Drink,Music
ATTACH;FMTTYPE=image/png:https://things-to-lou.com/wp-content/uploads/2026/02/screenshot-2025-10-06-at-8.35.32-am-e1770230413150.png
END:VEVENT
END:VCALENDAR