BEGIN:VCALENDAR
VERSION:2.0
PRODID:-//Things To Lou - ECPv6.15.20//NONSGML v1.0//EN
CALSCALE:GREGORIAN
METHOD:PUBLISH
X-ORIGINAL-URL:https://things-to-lou.com
X-WR-CALDESC:Events for Things To Lou
REFRESH-INTERVAL;VALUE=DURATION:PT1H
X-Robots-Tag:noindex
X-PUBLISHED-TTL:PT1H
BEGIN:VTIMEZONE
TZID:America/New_York
BEGIN:DAYLIGHT
TZOFFSETFROM:-0500
TZOFFSETTO:-0400
TZNAME:EDT
DTSTART:20250309T070000
END:DAYLIGHT
BEGIN:STANDARD
TZOFFSETFROM:-0400
TZOFFSETTO:-0500
TZNAME:EST
DTSTART:20251102T060000
END:STANDARD
BEGIN:DAYLIGHT
TZOFFSETFROM:-0500
TZOFFSETTO:-0400
TZNAME:EDT
DTSTART:20260308T070000
END:DAYLIGHT
BEGIN:STANDARD
TZOFFSETFROM:-0400
TZOFFSETTO:-0500
TZNAME:EST
DTSTART:20261101T060000
END:STANDARD
BEGIN:DAYLIGHT
TZOFFSETFROM:-0500
TZOFFSETTO:-0400
TZNAME:EDT
DTSTART:20270314T070000
END:DAYLIGHT
BEGIN:STANDARD
TZOFFSETFROM:-0400
TZOFFSETTO:-0500
TZNAME:EST
DTSTART:20271107T060000
END:STANDARD
END:VTIMEZONE
BEGIN:VEVENT
DTSTART;TZID=America/New_York:20260207T110000
DTEND;TZID=America/New_York:20260207T130000
DTSTAMP:20260424T211604
CREATED:20260123T014334Z
LAST-MODIFIED:20260123T014334Z
UID:10004110-1770462000-1770469200@things-to-lou.com
SUMMARY:Board & You's Galentine’s Brunch
DESCRIPTION:Join us for Galentine’s Brunch on February 7th 💕🥂 \nA three-course brunch with cocktail pairings\, thoughtfully curated and brought to life with some of our favorite local businesses. \nWhat to expect: \n🍽️ Three-course menu + cocktail pairings\n🍓 Raspberry\, berry\, and brunch flavors\n🎁 Giveaways from beloved local brands\n💗 Red & pink dress code encouraged \nSwipe to see the full menu + giveaway partners. \nSeats are limited. Reserve via OpenTable at the link in bio. \n***description from IG post \n 
URL:https://things-to-lou.com/events/board-yous-galentines-brunch/
LOCATION:BOARD & YOU BISTRO\, 434 Pearl St\, New Albany\, IN\, 47150\, United States
CATEGORIES:Food & Drink
END:VEVENT
END:VCALENDAR