BEGIN:VCALENDAR
VERSION:2.0
PRODID:-//Things To Lou - ECPv6.15.20//NONSGML v1.0//EN
CALSCALE:GREGORIAN
METHOD:PUBLISH
X-WR-CALNAME:Things To Lou
X-ORIGINAL-URL:https://things-to-lou.com
X-WR-CALDESC:Events for Things To Lou
REFRESH-INTERVAL;VALUE=DURATION:PT1H
X-Robots-Tag:noindex
X-PUBLISHED-TTL:PT1H
BEGIN:VTIMEZONE
TZID:America/New_York
BEGIN:DAYLIGHT
TZOFFSETFROM:-0500
TZOFFSETTO:-0400
TZNAME:EDT
DTSTART:20250309T070000
END:DAYLIGHT
BEGIN:STANDARD
TZOFFSETFROM:-0400
TZOFFSETTO:-0500
TZNAME:EST
DTSTART:20251102T060000
END:STANDARD
BEGIN:DAYLIGHT
TZOFFSETFROM:-0500
TZOFFSETTO:-0400
TZNAME:EDT
DTSTART:20260308T070000
END:DAYLIGHT
BEGIN:STANDARD
TZOFFSETFROM:-0400
TZOFFSETTO:-0500
TZNAME:EST
DTSTART:20261101T060000
END:STANDARD
BEGIN:DAYLIGHT
TZOFFSETFROM:-0500
TZOFFSETTO:-0400
TZNAME:EDT
DTSTART:20270314T070000
END:DAYLIGHT
BEGIN:STANDARD
TZOFFSETFROM:-0400
TZOFFSETTO:-0500
TZNAME:EST
DTSTART:20271107T060000
END:STANDARD
END:VTIMEZONE
BEGIN:VEVENT
DTSTART;TZID=America/New_York:20260212T200000
DTEND;TZID=America/New_York:20260212T233000
DTSTAMP:20260423T153903
CREATED:20260128T052349Z
LAST-MODIFIED:20260128T052349Z
UID:10004195-1770926400-1770939000@things-to-lou.com
SUMMARY:"Tempting Tunes" by Blanc's Burlesque | ft. Naomi Wayne | Behind the Velvet Curtain
DESCRIPTION:Get a head start on Valentines weekend with the one and the only @thenaomiwayne joining us to host and set the tune for our burlesque performances by @sistasolee and @therealmissblanc at the amazing @hellorhighwaterbar \nThursday\, February 12th ❤️💋 \n2 SHOWINGS: 8pm OR 10pm \nReservations on their tock site under: Behind The Velvet Curtain… 😉 \nWe hope to see you there 💋 \n***description from IG post \n\n  \nMAKE YOUR RESERVATIONS HERE
URL:https://things-to-lou.com/events/tempting-tunes-by-blancs-burlesque-ft-naomi-wayne-behind-the-velvet-curtain/
LOCATION:Hell or High Water\, 112 West Washington Street\, Louisville\, KY\, 40202\, United States
CATEGORIES:Burlesque,Drag Show / Drag Brunch,Food & Drink,Music,Nightlife
END:VEVENT
END:VCALENDAR