BEGIN:VCALENDAR
VERSION:2.0
PRODID:-//Things To Lou - ECPv6.15.20//NONSGML v1.0//EN
CALSCALE:GREGORIAN
METHOD:PUBLISH
X-ORIGINAL-URL:https://things-to-lou.com
X-WR-CALDESC:Events for Things To Lou
REFRESH-INTERVAL;VALUE=DURATION:PT1H
X-Robots-Tag:noindex
X-PUBLISHED-TTL:PT1H
BEGIN:VTIMEZONE
TZID:America/New_York
BEGIN:DAYLIGHT
TZOFFSETFROM:-0500
TZOFFSETTO:-0400
TZNAME:EDT
DTSTART:20250309T070000
END:DAYLIGHT
BEGIN:STANDARD
TZOFFSETFROM:-0400
TZOFFSETTO:-0500
TZNAME:EST
DTSTART:20251102T060000
END:STANDARD
BEGIN:DAYLIGHT
TZOFFSETFROM:-0500
TZOFFSETTO:-0400
TZNAME:EDT
DTSTART:20260308T070000
END:DAYLIGHT
BEGIN:STANDARD
TZOFFSETFROM:-0400
TZOFFSETTO:-0500
TZNAME:EST
DTSTART:20261101T060000
END:STANDARD
BEGIN:DAYLIGHT
TZOFFSETFROM:-0500
TZOFFSETTO:-0400
TZNAME:EDT
DTSTART:20270314T070000
END:DAYLIGHT
BEGIN:STANDARD
TZOFFSETFROM:-0400
TZOFFSETTO:-0500
TZNAME:EST
DTSTART:20271107T060000
END:STANDARD
END:VTIMEZONE
BEGIN:VEVENT
DTSTART;TZID=America/New_York:20260206T110000
DTEND;TZID=America/New_York:20260207T020000
DTSTAMP:20260423T150036
CREATED:20260206T043359Z
LAST-MODIFIED:20260206T043438Z
UID:10004673-1770375600-1770429600@things-to-lou.com
SUMMARY:Grand Opening & Ribbon Cutting: Chica's Cantina
DESCRIPTION:Come celebrate with us and the chicas this Friday at 11 AM for our official grand opening and ribbon cutting ceremony! \nOur first 100 customers will get to indulge in a free (delicious + juicy) taco 🌮❤️ \nWe can’t wait to show you all the spirit of Chicas Cantina 💃 \n#chicascantinalou #newsmallbusiness #grandopening #taqueria #louisvillefood \n***Description from Instagram post \n\nWe recently visited Chica’s Cantina and it was a blast! \nCheck out our video on Instagram or Tiktok!
URL:https://things-to-lou.com/events/grand-opening-ribbon-cutting-chicas-cantina/
LOCATION:Chica’s Cantina\, 1015 E Main Street\, Louisville\, KY\, 40206\, United States
CATEGORIES:Food & Drink,Grand Openings
ATTACH;FMTTYPE=image/jpeg:https://things-to-lou.com/wp-content/uploads/2026/02/img_6138-e1770352067167.jpg
END:VEVENT
BEGIN:VEVENT
DTSTART;TZID=America/New_York:20260206T180000
DTEND;TZID=America/New_York:20260206T203000
DTSTAMP:20260423T150036
CREATED:20260121T050924Z
LAST-MODIFIED:20260121T051528Z
UID:10004062-1770400800-1770409800@things-to-lou.com
SUMMARY:Galentine's Girls Night Out
DESCRIPTION:Let’s go girls! It’s time for some much-needed time with your squad (and of course\, PINK COCKTAILS)! \nThere’s no better way for you and your girls to get a break and spend a day of “ladies celebrating ladies” than to get out on the town with your besties for an evening of never ending laughter and sangrias for days!! \nInside the door you’ll be welcomed with a keepsake Galentine’s mystery bag that will make your heart flutter. Start your much-needed girl time in our Depot building decorated to the nines in “Galentine” theme. \nCheck out the girly grabs in our gift shop or sneak a peek at the specialty cocktails your squad will be sure to love. Once on board our 1940’s luxury dining cars\, let your hair hang down as our culinary team treats you to a scrumptious 4-course dinner only dreams are made of. Soak in the beautiful scenery as you get a little out of line and “cheers” the night away in style! \nIncludes\n\n2.5 hour\, 35-mile roundtrip excursion\nGourmet\, four-course dinner prepared fresh onboard by our dedicated culinary team\nAll non-alcoholic beverages\, including after dinner coffee and tea\nAdditional purchases can be made at our full bar (in the Depot as well as onboard the train) and our gift shop.\n\nLadies Only \nFriday\, February 6th — 6:00pm\n(Arrive up to an hour early for girly cocktails in the Depot) \n***description from webstie \nINSTAGRAM POST
URL:https://things-to-lou.com/events/galentines-girls-night-out/
LOCATION:MY OLD KENTUCKY DINNER TRAIN\, 602 North 3rd Street\, Bardstown\, KY\, 40004\, United States
CATEGORIES:Food & Drink
END:VEVENT
END:VCALENDAR