BEGIN:VCALENDAR
VERSION:2.0
PRODID:-//Things To Lou - ECPv6.15.20//NONSGML v1.0//EN
CALSCALE:GREGORIAN
METHOD:PUBLISH
X-WR-CALNAME:Things To Lou
X-ORIGINAL-URL:https://things-to-lou.com
X-WR-CALDESC:Events for Things To Lou
REFRESH-INTERVAL;VALUE=DURATION:PT1H
X-Robots-Tag:noindex
X-PUBLISHED-TTL:PT1H
BEGIN:VTIMEZONE
TZID:America/New_York
BEGIN:DAYLIGHT
TZOFFSETFROM:-0500
TZOFFSETTO:-0400
TZNAME:EDT
DTSTART:20250309T070000
END:DAYLIGHT
BEGIN:STANDARD
TZOFFSETFROM:-0400
TZOFFSETTO:-0500
TZNAME:EST
DTSTART:20251102T060000
END:STANDARD
BEGIN:DAYLIGHT
TZOFFSETFROM:-0500
TZOFFSETTO:-0400
TZNAME:EDT
DTSTART:20260308T070000
END:DAYLIGHT
BEGIN:STANDARD
TZOFFSETFROM:-0400
TZOFFSETTO:-0500
TZNAME:EST
DTSTART:20261101T060000
END:STANDARD
BEGIN:DAYLIGHT
TZOFFSETFROM:-0500
TZOFFSETTO:-0400
TZNAME:EDT
DTSTART:20270314T070000
END:DAYLIGHT
BEGIN:STANDARD
TZOFFSETFROM:-0400
TZOFFSETTO:-0500
TZNAME:EST
DTSTART:20271107T060000
END:STANDARD
END:VTIMEZONE
BEGIN:VEVENT
DTSTART;TZID=America/New_York:20260324T190000
DTEND;TZID=America/New_York:20260324T210000
DTSTAMP:20260419T141610
CREATED:20260109T223129Z
LAST-MODIFIED:20260109T223129Z
UID:10003920-1774378800-1774386000@things-to-lou.com
SUMMARY:Riverdance 30 - The New Generation
DESCRIPTION:Since Riverdance first emerged onto the world stage\, its fusion of Irish and international dance and music has captured the hearts of millions worldwide. The Grammy award-winning music and the infectious energy of its mesmerising choreography and breathtaking performances has left audiences in awe and established Riverdance as a global cultural sensation. \nTo celebrate this incredible 30th year milestone\, Riverdance will embark on a special anniversary tour\, bringing its magic to audiences around the world. This spectacular production rejuvenates the much-loved original show with new innovative choreography and costumes and state of the art lighting\, projection and motion graphics. And for the first time Riverdance welcomes “The New Generation” of performers\, all of whom were not born when the show began 30 years ago. John McColgan\, Director of Riverdance said “It is both a privilege and a delight to celebrate 30 years of Riverdance and the unique journey it has taken us on. In those 30 years the show has transformed from a spectacle into a global cultural phenomenon – continuously evolving yet remaining true to its Irish roots. \nOn this upcoming tour we look forward to welcoming ‘The New Generation’ of artists while paying tribute to the talented performers\, creators\, dedicated crew\, and the millions of fans who have made Riverdance a worldwide celebration of music and dance.” Audiences will enjoy a unique and memorable performance which blends the traditional and the contemporary\, showcasing the skill and passion of the world-class of dancers\, musicians and singers in the Riverdance ensemble. Composed by Bill Whelan. Produced by Moya Doherty. Directed by John McColgan. \nPNC Broadway in Louisville: Riverdance 30 – The New Generation
URL:https://things-to-lou.com/events/riverdance-30-the-new-generation/2026-03-24/
LOCATION:Kentucky Performing Arts\, 501 W Main St\, Louisville\, KY\, 40202\, United States
CATEGORIES:Dance,Entertainment
END:VEVENT
END:VCALENDAR