BEGIN:VCALENDAR
VERSION:2.0
PRODID:-//Things To Lou - ECPv6.15.20//NONSGML v1.0//EN
CALSCALE:GREGORIAN
METHOD:PUBLISH
X-ORIGINAL-URL:https://things-to-lou.com
X-WR-CALDESC:Events for Things To Lou
REFRESH-INTERVAL;VALUE=DURATION:PT1H
X-Robots-Tag:noindex
X-PUBLISHED-TTL:PT1H
BEGIN:VTIMEZONE
TZID:America/New_York
BEGIN:DAYLIGHT
TZOFFSETFROM:-0500
TZOFFSETTO:-0400
TZNAME:EDT
DTSTART:20240310T070000
END:DAYLIGHT
BEGIN:STANDARD
TZOFFSETFROM:-0400
TZOFFSETTO:-0500
TZNAME:EST
DTSTART:20241103T060000
END:STANDARD
BEGIN:DAYLIGHT
TZOFFSETFROM:-0500
TZOFFSETTO:-0400
TZNAME:EDT
DTSTART:20250309T070000
END:DAYLIGHT
BEGIN:STANDARD
TZOFFSETFROM:-0400
TZOFFSETTO:-0500
TZNAME:EST
DTSTART:20251102T060000
END:STANDARD
BEGIN:DAYLIGHT
TZOFFSETFROM:-0500
TZOFFSETTO:-0400
TZNAME:EDT
DTSTART:20260308T070000
END:DAYLIGHT
BEGIN:STANDARD
TZOFFSETFROM:-0400
TZOFFSETTO:-0500
TZNAME:EST
DTSTART:20261101T060000
END:STANDARD
END:VTIMEZONE
BEGIN:VEVENT
DTSTART;TZID=America/New_York:20251015T180000
DTEND;TZID=America/New_York:20251015T200000
DTSTAMP:20260425T200621
CREATED:20251013T144252Z
LAST-MODIFIED:20251013T144252Z
UID:10003091-1760551200-1760558400@things-to-lou.com
SUMMARY:FIND Louisville (Speed Dating for Singles Ages 26-40)
DESCRIPTION:Find love with in-person singles and matchmaking events curated by locals. Go on at least eight 5-minute dates in one night\, matched with the most compatible people in the room! \nUse your phone to navigate tables\, make your choices\, and receive mutual match emails at the end of the night. \nSpeed Dating for Singles Ages 26-40 | Louisville\, KY\nWednesday\, October 15\, 2025\n6:00 PM 8:00 PM \nLogan Street Market\n1001 Logan Street\nLouisville\, KY\, 40204 \n  \nAGENDA:\n6:00 PM – 6:15 PM Check-in\, socialize\, grab a drink \n6:15 PM – 7:15 PM Speed dating rounds \n7:15 PM – 7:30 PM Break for drinks and open socializing \n7:30 PM – 8:00 PM Final speed dating rounds \n8:00 PM Hangout and socialize \n11:00 PM Mutual Match emails sent \n\nHOW IT WORKS:\nSecure your spot at the event by selecting the gender and age you are\, not who you want to match with. \nCheck your confirmation email for a link to set up your FIND dating account. On this account\, you will answer a few simple questions to ensure we find you the most compatible people in the room. \nShow up to the event and let the matchmaking magic happen. Drinks are available for purchase. \nWe hope to match you with at least 7 people during each event but exact matches will determine by attendance and compatibility. \nAfter each 5 min round\, make notes\, and make your decision using your phone. \nAfter the event\, look for an email that night with your mutual matches. \nTHINGS TO BRING:\nCharged cell phone – yes yes we do use a web based app to run speed dating. No need to download an app \nID – Most events include alcohol so bring your ID to grab a drink \nAn open mind – Have fun\, be open minded\, and be yourself! \nLooking for some dating tips? View our resources here.
URL:https://things-to-lou.com/events/find-louisville-speed-dating-for-singles-ages-26-40/
LOCATION:Logan Street Market\, 1001 Logan Street\, Louisivlle\, KY\, 40204\, United States
CATEGORIES:Dating Event
END:VEVENT
BEGIN:VEVENT
DTSTART;TZID=America/New_York:20251024T100000
DTEND;TZID=America/New_York:20251024T110000
DTSTAMP:20260425T200621
CREATED:20250119T061123Z
LAST-MODIFIED:20250119T061123Z
UID:10001538-1761300000-1761303600@things-to-lou.com
SUMMARY:LUL First Date Experience
DESCRIPTION:LUL First Date Experience\nThe Louisville Urban League First Date Experience is a unique opportunity to engage with the organization and discover the heart of our mission. You can expect to explore the diverse range of programs and initiatives that define our impact in Louisville. Whether you are a longtime supporter or new to the community\, there is something for everyone to discover. \nJoin us in deepening your understanding of the 6 pillars of the Louisville Urban League: Job\, Justice\, Health\, Housing\, Education\, and Black Business! \nRegister for event here. \nAll First Date Experience events in 2025: \n\nJanuary 24\nFebruary 28\nMarch 28\nJune 27\nJuly 25\nSeptember 26\nOctober 24\n\n***Description from website
URL:https://things-to-lou.com/events/lul-first-date-experience-2/
LOCATION:KY
CATEGORIES:Dating Event
END:VEVENT
END:VCALENDAR