BEGIN:VCALENDAR
VERSION:2.0
PRODID:-//Things To Lou - ECPv6.15.20//NONSGML v1.0//EN
CALSCALE:GREGORIAN
METHOD:PUBLISH
X-WR-CALNAME:Things To Lou
X-ORIGINAL-URL:https://things-to-lou.com
X-WR-CALDESC:Events for Things To Lou
REFRESH-INTERVAL;VALUE=DURATION:PT1H
X-Robots-Tag:noindex
X-PUBLISHED-TTL:PT1H
BEGIN:VTIMEZONE
TZID:America/New_York
BEGIN:DAYLIGHT
TZOFFSETFROM:-0500
TZOFFSETTO:-0400
TZNAME:EDT
DTSTART:20240310T070000
END:DAYLIGHT
BEGIN:STANDARD
TZOFFSETFROM:-0400
TZOFFSETTO:-0500
TZNAME:EST
DTSTART:20241103T060000
END:STANDARD
BEGIN:DAYLIGHT
TZOFFSETFROM:-0500
TZOFFSETTO:-0400
TZNAME:EDT
DTSTART:20250309T070000
END:DAYLIGHT
BEGIN:STANDARD
TZOFFSETFROM:-0400
TZOFFSETTO:-0500
TZNAME:EST
DTSTART:20251102T060000
END:STANDARD
BEGIN:DAYLIGHT
TZOFFSETFROM:-0500
TZOFFSETTO:-0400
TZNAME:EDT
DTSTART:20260308T070000
END:DAYLIGHT
BEGIN:STANDARD
TZOFFSETFROM:-0400
TZOFFSETTO:-0500
TZNAME:EST
DTSTART:20261101T060000
END:STANDARD
END:VTIMEZONE
BEGIN:VEVENT
DTSTART;TZID=America/New_York:20251217T180000
DTEND;TZID=America/New_York:20251217T200000
DTSTAMP:20260419T193039
CREATED:20251126T052417Z
LAST-MODIFIED:20251126T052505Z
UID:10003228-1765994400-1766001600@things-to-lou.com
SUMMARY:Speed Dating for Singles: Ages 21-35
DESCRIPTION:Event Name:\nSpeed Dating for Singles Ages 21-35 | Louisville \nEvent Date:\n2025-12-17 \nWebsite / Ticket Link:\nhttps://gofind.events/findevents/dec17louisville \nLocation:\nLogan Street Market\, 1001 Logan Street\, Louisville\, KY\, 40204 \nEvent Host:\nFind Louisville \nEvent Description / Other Info:\nFind love with in-person singles and matchmaking events curated by locals. Go on at least eight 5-minute dates in one night\, matched with the most compatible people in the room! \nUse your phone to navigate tables\, make your choices\, and receive mutual match emails at the end of the night. \nAGENDA:\n\n6:00 PM – 6:15 PM Check-in\, socialize\, grab a drink\n6:15 PM – 7:15 PM Speed dating rounds\n7:15 PM – 7:30 PM Break for drinks and open socializing\n7:30 PM – 8:00 PM Final speed dating rounds\n8:00 PM Hangout and socialize\n11:00 PM Mutual Match emails sent\n\nHOW IT WORKS:\nSecure your spot at the event by selecting the gender and age you are\, not who you want to match with. \nCheck your confirmation email for a link to set up your FIND dating account. On this account\, you will answer a few simple questions to ensure we find you the most compatible people in the room. \nShow up to the event and let the matchmaking magic happen. Drinks are available for purchase. \nWe hope to match you with at least 7 people during each event but exact matches will determine by attendance and compatibility. \nAfter each 5 min round\, make notes\, and make your decision using your phone. \nAfter the event\, look for an email that night with your mutual matches. \nTHINGS TO BRING:\nCharged cell phone – yes yes we do use a web based app to run speed dating. No need to download an app \nID – Most events include alcohol so bring your ID to grab a drink \nAn open mind – Have fun\, be open minded\, and be yourself!
URL:https://things-to-lou.com/events/speed-dating-for-singles-ages-21-35/
LOCATION:Logan Street Market\, 1001 Logan Street\, Louisivlle\, KY\, 40204\, United States
CATEGORIES:Dating Event
ATTACH;FMTTYPE=image/png:https://things-to-lou.com/wp-content/uploads/2025/11/26-e1764136794450.png
END:VEVENT
END:VCALENDAR