BEGIN:VCALENDAR
VERSION:2.0
PRODID:-//Things To Lou - ECPv6.15.20//NONSGML v1.0//EN
CALSCALE:GREGORIAN
METHOD:PUBLISH
X-ORIGINAL-URL:https://things-to-lou.com
X-WR-CALDESC:Events for Things To Lou
REFRESH-INTERVAL;VALUE=DURATION:PT1H
X-Robots-Tag:noindex
X-PUBLISHED-TTL:PT1H
BEGIN:VTIMEZONE
TZID:America/New_York
BEGIN:DAYLIGHT
TZOFFSETFROM:-0500
TZOFFSETTO:-0400
TZNAME:EDT
DTSTART:20250309T070000
END:DAYLIGHT
BEGIN:STANDARD
TZOFFSETFROM:-0400
TZOFFSETTO:-0500
TZNAME:EST
DTSTART:20251102T060000
END:STANDARD
BEGIN:DAYLIGHT
TZOFFSETFROM:-0500
TZOFFSETTO:-0400
TZNAME:EDT
DTSTART:20260308T070000
END:DAYLIGHT
BEGIN:STANDARD
TZOFFSETFROM:-0400
TZOFFSETTO:-0500
TZNAME:EST
DTSTART:20261101T060000
END:STANDARD
BEGIN:DAYLIGHT
TZOFFSETFROM:-0500
TZOFFSETTO:-0400
TZNAME:EDT
DTSTART:20270314T070000
END:DAYLIGHT
BEGIN:STANDARD
TZOFFSETFROM:-0400
TZOFFSETTO:-0500
TZNAME:EST
DTSTART:20271107T060000
END:STANDARD
END:VTIMEZONE
BEGIN:VEVENT
DTSTART;TZID=America/New_York:20260204T180000
DTEND;TZID=America/New_York:20260204T230000
DTSTAMP:20260419T122502
CREATED:20260122T032509Z
LAST-MODIFIED:20260122T032509Z
UID:10004068-1770228000-1770246000@things-to-lou.com
SUMMARY:Speed Dating for Singles | Hetero Ages 25-45
DESCRIPTION:Find love with in-person singles and matchmaking events curated by locals. \nGo on a guaranteed 8 dates for 5 minutes per round in one night\, matched with the most compatible people in the room using our matchmaking tech to navigate tables\, send likes\, and get mutual match emails after the event. \nAGENDA: \n\n6:00 PM – 6:15 PM Check-in\, socialize\, grab a drink\n6:15 PM – 7:15 PM Speed dating rounds\n7:15 PM – 7:30 PM Break for drinks and open socializing\n7:30 PM – 8:00 PM Final speed dating rounds\n8:00 PM Hangout and socialize\n11:00 PM Mutual Match emails sent\n\nHOW IT WORKS: \nSecure your spot at the event by selecting the gender and age you are\, not who you want to match with. \nCheck your confirmation email for a link to set up your FIND dating account. On this account\, you will answer a few simple questions to ensure we find you the most compatible people in the room. \nShow up to the event and let the matchmaking magic happen. Drinks are available for purchase. \nWe hope to match you with at least 7 people during each event but exact matches will determine by attendance and compatibility. \nAfter each 5 min round\, make notes\, and make your decision using your phone. \nAfter the event\, look for an email that night with your mutual matches. \nTHINGS TO BRING: \nCharged cell phone – yes yes we do use a web based app to run speed dating. No need to download an app \nID – Most events include alcohol so bring your ID to grab a drink \nAn open mind – Have fun\, be open minded\, and be yourself! \nLooking for some dating tips? View our resources here.
URL:https://things-to-lou.com/events/speed-dating-for-singles-hetero-ages-25-45/
LOCATION:Logan Street Market\, 1001 Logan Street\, Louisivlle\, KY\, 40204\, United States
CATEGORIES:Dating Event
ATTACH;FMTTYPE=image/png:https://things-to-lou.com/wp-content/uploads/2026/01/14-e1769052320746.png
END:VEVENT
BEGIN:VEVENT
DTSTART;TZID=America/New_York:20260209T190000
DTEND;TZID=America/New_York:20260209T210000
DTSTAMP:20260419T122502
CREATED:20260108T181917Z
LAST-MODIFIED:20260108T181917Z
UID:10003863-1770663600-1770670800@things-to-lou.com
SUMMARY:Pre-Dating: FIND YOUR VALENTINE Speed Dating for Singles Ages 37 - 52
DESCRIPTION:Looking to meet fellow Louisville singles ages 37 to 52 at our special FIND YOUR VALENTINE Speed Dating event? \nJoin us for a fun and engaging evening at Trellis Brewing. Enjoy relaxed 6 minute conversations with up to 14 potential matches in a warm\, welcoming atmosphere. \nWhether you are seeking friendship\, romance\, or something more meaningful\, this is a great way to connect in person with no apps and no pressure\, just real conversation. \nMark your calendar for Monday\, February 9 and get ready for an evening filled with laughs\, great company\, and the chance to meet someone special. \nWith more than 38\,000 events hosted\, we know how to create the perfect setting for genuine connections. \nYou never really know where cupids arrow is going to strike next so why not give this a try? Do not miss out on a night that could lead to something great. ♥
URL:https://things-to-lou.com/events/pre-dating-find-your-valentine-speed-dating-for-singles-ages-37-52/
LOCATION:Trellis Brewing\, 827 Logan Street\, Louisville\, KY\, 40204\, United States
CATEGORIES:Beer / Brewery,Dating Event
END:VEVENT
BEGIN:VEVENT
DTSTART;TZID=America/New_York:20260209T190000
DTEND;TZID=America/New_York:20260209T210000
DTSTAMP:20260419T122502
CREATED:20260116T233738Z
LAST-MODIFIED:20260116T233738Z
UID:10004012-1770663600-1770670800@things-to-lou.com
SUMMARY:FIND YOUR VALENTINE SPEED DATING: Singles Age 37-52
DESCRIPTION:Meet up to 12 potential matches. Join the thousands of people that have found LOVE at PRE-DATING events. Will you be our next success story? \nSPECIAL EVENT: FIND YOUR VALENTINE SPEED DATING FOR LOUISVILLE KY SINGLES AGES 37-52\nPRE-DATING The World’s Oldest\, Largest\, & Best Speed Dating Company\, Since 2001! Are you ready to make something happen? \nTry the modern\, civilized way to meet someone wonderful. Singles across the country know the best way to meet – our IRL speed dating events. Simple\, easy\, effective. Don’t waste time swiping left and right hoping for love to find you\, the person you’re looking for may be at our PRE-DATING event. Get a ticket and find out! \nHOW IT WORKS\nPRE-DATING introduces you to at least 5 and up to 12 potential matches\, all local\, quality people. You’ll talk to each one during 6-minute “pre-dates” – just enough time to find out if you want to talk more and see if there’s a spark. Tell us which person gave you those excited butterflies in your stomach\, and we do the rest! You’ll love the exciting energy and friendly vibe at a PRE-DATING singles event. \nTrust the experts at PRE-DATING to host a wonderful evening full of excitement and brewing romance — a fun night out in a safe environment. You’ll love this very efficient and fast way to date. No pressure\, no games\, just a great time. \nPRE-DATING has hosted +38\,000 speed dating events! Join the thousands of people that have found their person at our events. Will you be our next success story? \nPRE-DATING events have been featured on CNN\, BBC\, The Wall Street Journal\, CBS\, Axios\, Bravo\, TLC’s 90 Day Finace The Single Life\, Miami New Times\, Tampa Bay Times\, Southbend Times\, Citylink Magazine\, Essence\, Best of Baltimore\, AM New York\, Chicago Tribune\, WINK FM\, Woman’s World Magazine\, and 100s more! \n  \nMore Louisville Kentucky PRE-DATING Singles Events
URL:https://things-to-lou.com/events/find-your-valentine-speed-dating-singles-age-37-52/
LOCATION:Trellis Brewing\, 827 Logan Street\, Louisville\, KY\, 40204\, United States
CATEGORIES:Beer / Brewery,Dating Event
END:VEVENT
BEGIN:VEVENT
DTSTART;TZID=America/New_York:20260210T190000
DTEND;TZID=America/New_York:20260210T210000
DTSTAMP:20260419T122502
CREATED:20260116T234027Z
LAST-MODIFIED:20260116T234027Z
UID:10004013-1770750000-1770757200@things-to-lou.com
SUMMARY:FIND YOUR VALENTINE SPEED DATING: Singles 50s/60s
DESCRIPTION:Meet up to 12 potential matches. Join the thousands of people that have found LOVE at PRE-DATING events. Will you be our next success story? \nSPECIAL EVENT: FIND YOUR VALENTINE SPEED DATING FOR LOUISVILLE KY SINGLES AGES 50s/60s\nPRE-DATING The World’s Oldest\, Largest\, & Best Speed Dating Company\, Since 2001! Are you ready to make something happen? Try the modern\, civilized way to meet someone wonderful. Singles across the country know the best way to meet – our IRL speed dating events. Simple\, easy\, effective. Don’t waste time swiping left and right hoping for love to find you\, the person you’re looking for may be at our PRE-DATING event. Get a ticket and find out! \nHOW IT WORKS\nPRE-DATING introduces you to at least 5 and up to 12 potential matches\, all local\, quality people. You’ll talk to each one during 6-minute “pre-dates” – just enough time to find out if you want to talk more and see if there’s a spark. Tell us which person gave you those excited butterflies in your stomach\, and we do the rest! You’ll love the exciting energy and friendly vibe at a PRE-DATING singles event. \nTrust the experts at PRE-DATING to host a wonderful evening full of excitement and brewing romance — a fun night out in a safe environment. You’ll love this very efficient and fast way to date. No pressure\, no games\, just a great time. \nPRE-DATING has hosted +38\,000 speed dating events! Join the thousands of people that have found their person at our events. Will you be our next success story? \nPRE-DATING events have been featured on CNN\, BBC\, The Wall Street Journal\, CBS\, Axios\, Bravo\, TLC’s 90 Day Finace The Single Life\, Miami New Times\, Tampa Bay Times\, Southbend Times\, Citylink Magazine\, Essence\, Best of Baltimore\, AM New York\, Chicago Tribune\, WINK FM\, Woman’s World Magazine\, and 100s more! \n 
URL:https://things-to-lou.com/events/find-your-valentine-speed-dating-singles-50s-60s/
LOCATION:The Belknap Event Center\, 12414 W Hwy 42\, Prospect\, KY\, 40059\, United States
CATEGORIES:Dating Event
END:VEVENT
BEGIN:VEVENT
DTSTART;TZID=America/New_York:20260217T180000
DTEND;TZID=America/New_York:20260217T203000
DTSTAMP:20260419T122502
CREATED:20260115T163516Z
LAST-MODIFIED:20260115T163516Z
UID:10003997-1771351200-1771360200@things-to-lou.com
SUMMARY:You’re Next Chapter – Single Mingle | open to public
DESCRIPTION:It’s time to meet\, mingle\, and spark new connections! Join us for an exclusive Singles Mingle for ages 30+\, where like-minded individuals gather in a relaxed\, upscale setting. Enjoy passed hors d’oeuvres and curated cocktails as you mingle\, laugh\, and discover potential connections. \nThis event is designed to encourage genuine conversation\, making it the perfect opportunity to meet someone new or simply enjoy an evening of engaging company. \nSpots are limited—reserve your place today and join us for an unforgettable evening of connection and fun. \n***description from event page
URL:https://things-to-lou.com/events/youre-next-chapter-single-mingle-open-to-public/
LOCATION:Louisville Thoroughbred Society\, 209 E Main St #200\, Louisville\, KY\, 40202\, United States
CATEGORIES:Dating Event
END:VEVENT
BEGIN:VEVENT
DTSTART;TZID=America/New_York:20260220T190000
DTEND;TZID=America/New_York:20260220T210000
DTSTAMP:20260419T122502
CREATED:20260121T041647Z
LAST-MODIFIED:20260121T041647Z
UID:10004052-1771614000-1771621200@things-to-lou.com
SUMMARY:"Singles Slideshow" Dating Event
DESCRIPTION:Swipe in person and find your special somebody in the season of *love* ! \nIts Back!\nThe Somebody Society is hosting a Singles slideshow event at Aloft Hotel’s Corner Bar on February 20th from 7pm-9pm. \nCome and present yourself or a friend or just enjoy learning about your potential match! \nThose wanting to participate in presentations should send one slide including some interesting facts about themselves or their friend to louisville@thesomebodysociety.com. \nPlease remember\, these slides will be shown to a crowd of singles! \nPresentations to go along with the slides should be kept between 3 and 5 minutes at the most – we have lots of amazing folks to meet! The cutoff for all presentations to be accepted into the slideshow event is 1 hour before the event starts (6pm 2/20). \n\nHow it works?\nShow up ready to watch a quick presentation of 20 local singles given by their friends! Afterwards\, mingle with all the local singles and see what the slideshow was all about! \nThere will be a limited number of presentations for this event\, but please come ready to mingle even if you or your friend doesn’t make the slideshow! The slideshow serves to help break the ice and get people talking. \nEach person gets one slide frame to present. Please include the persons name\, age\, and photo\, along with any fun facts. ( Any presentations that are inappropriate will not be allowed in the slide show. We have the right to dismiss your slide.) \n\nWhat is The Somebody Society?\nWe are a social club made to make friends and become the somebody you have always wanted to be! We often host fun events to gather the community \, promote local businesses\, mingle with new people \, and of course dress up ! Check us out on INSTAGRAM and lets be friends! \nBy registering for the event\, you are aware that photos and videos might be taken of you at the event and can be used on our social media pages or other marketing materials. You are agreeing for The Somebody society or any host associated with the event to use your image for these promotional materials. By registering\, you are agreeing for The Somebody Society to send you emails in regards to this event or future events\, along with newsletters to keep up with the club. Attendees acknowledge and voluntarily assume all risks and hazards associated with the event activities and attendance before\, during or after the event.. Attendees further allow the Somebody Society \, its organizers\, hosts\, and affiliates from any and all claims\, liabilities\, or demands arising out of or in connection with their participation. Attendees agree to conduct themselves responsibly\, follow all event rules and guidelines\, and ensure their own safety and well-being during the event. Refunds are not available for this event. We reserve the right to dismiss anyone from the event. \n***description from Eventbrite \nINSTAGRAM POST
URL:https://things-to-lou.com/events/singles-slideshow-dating-event/
LOCATION:Corner\, 102 West Main Street\, Louisville\, KY\, 40202\, United States
CATEGORIES:Dating Event,Food & Drink
END:VEVENT
END:VCALENDAR