BEGIN:VCALENDAR
VERSION:2.0
PRODID:-//Things To Lou - ECPv6.15.20//NONSGML v1.0//EN
CALSCALE:GREGORIAN
METHOD:PUBLISH
X-WR-CALNAME:Things To Lou
X-ORIGINAL-URL:https://things-to-lou.com
X-WR-CALDESC:Events for Things To Lou
REFRESH-INTERVAL;VALUE=DURATION:PT1H
X-Robots-Tag:noindex
X-PUBLISHED-TTL:PT1H
BEGIN:VTIMEZONE
TZID:America/New_York
BEGIN:DAYLIGHT
TZOFFSETFROM:-0500
TZOFFSETTO:-0400
TZNAME:EDT
DTSTART:20250309T070000
END:DAYLIGHT
BEGIN:STANDARD
TZOFFSETFROM:-0400
TZOFFSETTO:-0500
TZNAME:EST
DTSTART:20251102T060000
END:STANDARD
BEGIN:DAYLIGHT
TZOFFSETFROM:-0500
TZOFFSETTO:-0400
TZNAME:EDT
DTSTART:20260308T070000
END:DAYLIGHT
BEGIN:STANDARD
TZOFFSETFROM:-0400
TZOFFSETTO:-0500
TZNAME:EST
DTSTART:20261101T060000
END:STANDARD
BEGIN:DAYLIGHT
TZOFFSETFROM:-0500
TZOFFSETTO:-0400
TZNAME:EDT
DTSTART:20270314T070000
END:DAYLIGHT
BEGIN:STANDARD
TZOFFSETFROM:-0400
TZOFFSETTO:-0500
TZNAME:EST
DTSTART:20271107T060000
END:STANDARD
END:VTIMEZONE
BEGIN:VEVENT
DTSTART;TZID=America/New_York:20260615T180000
DTEND;TZID=America/New_York:20260615T210000
DTSTAMP:20260423T004458
CREATED:20260408T203504Z
LAST-MODIFIED:20260408T203504Z
UID:10004986-1781546400-1781557200@things-to-lou.com
SUMMARY:The Beam Backyard Luau (National Bourbon Week)
DESCRIPTION:Join our Master Distiller for an unforgettable evening in Jim Beam’s backyard – complete with a delicious pig roast\, expertly crafted Beam-made bourbon cocktails\, and lively music. \n\nThis National Bourbon Week\, join us as we celebrate 8 Generations of Beam Family Distilling with a vibrant revival of an iconic tradition! Just as Booker Noe famously hosted his legendary “Bourbon-Ques” in his own backyard\, now Beam invites you to the annual “Backyard Luau”! \nExperience an unforgettable evening in the Jim Beam’s backyard\, complete with a delicious pig roast\, expertly crafted Beam-made bourbon cocktails\, and lively music. \nEvents Inclusions\n\n3 Beam-Made Bourbon Cocktails\nLuau Style Pig Roast with Multiple Food Stations\nLive Music\n\nDetails\n\nTime: 6:00pm-900pm EST\nPrice: $150.00 per person\nMust be 21+\n\n 
URL:https://things-to-lou.com/events/the-beam-backyard-luau-national-bourbon-week/
LOCATION:KY
CATEGORIES:Bourbon,Food & Drink
ATTACH;FMTTYPE=image/jpeg:https://things-to-lou.com/wp-content/uploads/2026/04/IMG_1825-e1775679614713.jpg
END:VEVENT
END:VCALENDAR