BEGIN:VCALENDAR
VERSION:2.0
PRODID:-//Things To Lou - ECPv6.15.20//NONSGML v1.0//EN
CALSCALE:GREGORIAN
METHOD:PUBLISH
X-WR-CALNAME:Things To Lou
X-ORIGINAL-URL:https://things-to-lou.com
X-WR-CALDESC:Events for Things To Lou
REFRESH-INTERVAL;VALUE=DURATION:PT1H
X-Robots-Tag:noindex
X-PUBLISHED-TTL:PT1H
BEGIN:VTIMEZONE
TZID:America/New_York
BEGIN:DAYLIGHT
TZOFFSETFROM:-0500
TZOFFSETTO:-0400
TZNAME:EDT
DTSTART:20250309T070000
END:DAYLIGHT
BEGIN:STANDARD
TZOFFSETFROM:-0400
TZOFFSETTO:-0500
TZNAME:EST
DTSTART:20251102T060000
END:STANDARD
BEGIN:DAYLIGHT
TZOFFSETFROM:-0500
TZOFFSETTO:-0400
TZNAME:EDT
DTSTART:20260308T070000
END:DAYLIGHT
BEGIN:STANDARD
TZOFFSETFROM:-0400
TZOFFSETTO:-0500
TZNAME:EST
DTSTART:20261101T060000
END:STANDARD
BEGIN:DAYLIGHT
TZOFFSETFROM:-0500
TZOFFSETTO:-0400
TZNAME:EDT
DTSTART:20270314T070000
END:DAYLIGHT
BEGIN:STANDARD
TZOFFSETFROM:-0400
TZOFFSETTO:-0500
TZNAME:EST
DTSTART:20271107T060000
END:STANDARD
END:VTIMEZONE
BEGIN:VEVENT
DTSTART;TZID=America/New_York:20260414T183000
DTEND;TZID=America/New_York:20260414T203000
DTSTAMP:20260425T113130
CREATED:20260408T135609Z
LAST-MODIFIED:20260408T135609Z
UID:10004980-1776191400-1776198600@things-to-lou.com
SUMMARY:2XO Guided Bourbon Tasting
DESCRIPTION:Taste four award-winning 2XO whiskeys and learn Dixon Dedman’s Two Times Oak blending process. Slice & breadstick included. \nJoin us at Wiseguy Lounge\, Baxter Ave\, for a guided tasting featuring 2XO Kentucky Straight Bourbon Whiskey\, the award-winning brand created by renowned blender Dixon Dedman. 2XO stands for Two Times Oak\, a blending technique pioneered by Dixon where each expression receives additional oak exposure after blending. This extra interaction with oak enhances sweetness and complexity\, balancing the spice from rye-heavy mash bills and creating bold\, layered whiskey profiles. \nDuring this tasting\, guests will explore four expressions from the Oak Series and Icon Series while learning about Dixon’s blending philosophy and the unique Two Times Oak process. Each guest will also enjoy a slice of Goodfellas pizza and one of our famous breadsticks during the tasting. Swag\, tasting mats\, and brand materials will also be provided. \nThe Tasting Flight 🥃 Oak Series – American Oak Bourbon 🥃 Oak Series – French Oak Bourbon 🥃 Oak Series – White Oak Rye 🥃 Icon Series – Vinyl Blend About Dixon Dedman Dixon Dedman\, Master Blender and founder of 2XO\, is widely recognized as one of the most influential modern American whiskey blenders. \nPreviously\, the creator behind Kentucky Owl\, Dixon\, has built a reputation for crafting bold\, high-proof bourbon and rye blends sought after by collectors and enthusiasts. Raised on Kentucky’s bourbon trail\, Dixon combines traditional whiskey knowledge with culinary experience from his family’s historic James Beard Award-winning Beaumont Inn. His innovative blending techniques and focus on intense flavor and complexity have quickly made 2XO one of the most talked-about modern bourbon brands. \nThis guided tasting will likely be hosted by 2XO\, who will represent the brand and lead the evening’s discussion. \nSeats are limited for this intimate tasting experience. 21+ only. Please drink responsibly. \n 
URL:https://things-to-lou.com/events/2xo-guided-bourbon-tasting/
LOCATION:Goodfellas Pizzeria\, 642 Baxter Avenue\, #Suite 102\, Louisville\, KY\, 40204\, United States
CATEGORIES:Bourbon,Food & Drink
ATTACH;FMTTYPE=image/jpeg:https://things-to-lou.com/wp-content/uploads/2026/04/2xo-baxter-e1775656314262.jpg
END:VEVENT
END:VCALENDAR